Workbook
Name CGFS000001: [1]下拉!$F$3:$F$174
Name AAB_Addin5: "AAB_Description for addin 5,Description for addin 5,Description for addin 5,Description for addin 5,Description for addin 5,Description for addin 5"
Name _: #REF!
Name _bd2: [2]主要规划指标!#REF!
Name GLFJC: [3]下拉!$E$3:$E$11
Name MKZL: [3]下拉!$G$3:$G$4
Name _____________num031: IF(ISERROR(FIND(")+",Text03,230)),LEN(Text03),FIND(")+",Text03,230))
Name _____________num032: IF(ISERROR(FIND(")+",text03_1,230)),LEN(text03_1),FIND(")+",text03_1,230))
Name _____________NUM0321: IF(ISERROR(FIND(")+",text03_1,230)),LEN(text03_1),FIND(")+",text03_1,230))
Name _____________num033: IF(ISERROR(FIND(")+",text03_2,230)),LEN(text03_2),FIND(")+",text03_2,230))
Name _____________num1: IF(ISERROR(FIND(")+",_xleta.Text,230)),LEN(_xleta.Text),FIND(")+",_xleta.Text,230))
Name _____________num10: IF(ISERROR(FIND(")+",text03_2,230)),LEN(text03_2),FIND(")+",text03_2,230))
Name _____________num2: IF(ISERROR(FIND(")+",text_1,230)),LEN(text_1),FIND(")+",text_1,230))
Name _____________num3: IF(ISERROR(FIND(")+",text_2,230)),LEN(text_2),FIND(")+",text_2,230))
Name _____________num8: IF(ISERROR(FIND(")+",_xleta.Text,230)),LEN(_xleta.Text),FIND(")+",_xleta.Text,230))
Name ____________num032: IF(ISERROR(FIND(")+",[4]非人防地下室土建!text03_1,230)),LEN([4]非人防地下室土建!text03_1),FIND(")+",[4]非人防地下室土建!text03_1,230))
Name ___________LAE2: '[5]Estimate Details'!#REF!
Name ___________LAR2: '[5]Estimate Details'!#REF!
Name ___________num032: IF(ISERROR(FIND(")+",[6]!text03_1,230)),LEN([6]!text03_1),FIND(")+",[6]!text03_1,230))
Name __________LAE2: '[5]Estimate Details'!#REF!
Name __________LAR2: '[5]Estimate Details'!#REF!
Name _________LAE2: '[5]Estimate Details'!#REF!
Name _________LAR2: '[5]Estimate Details'!#REF!
Name ________LAE2: '[5]Estimate Details'!#REF!
Name ________LAR2: '[5]Estimate Details'!#REF!
Name _______LAE2: '[5]Estimate Details'!#REF!
Name _______LAR2: '[5]Estimate Details'!#REF!
Name ______LAE2: '[7]Estimate Details'!#REF!
Name ______LAR2: '[7]Estimate Details'!#REF!
Name _____LAE2: '[5]Estimate Details'!#REF!
Name _____LAR2: '[5]Estimate Details'!#REF!
Name _____num031: IF(ISERROR(FIND(")+",Text03,230)),LEN(Text03),FIND(")+",Text03,230))
Name _____NUM0321: IF(ISERROR(FIND(")+",text03_1,230)),LEN(text03_1),FIND(")+",text03_1,230))
Name _____num033: IF(ISERROR(FIND(")+",text03_2,230)),LEN(text03_2),FIND(")+",text03_2,230))
Name _____num1: IF(ISERROR(FIND(")+",_xleta.Text,230)),LEN(_xleta.Text),FIND(")+",_xleta.Text,230))
Name _____num10: IF(ISERROR(FIND(")+",text03_2,230)),LEN(text03_2),FIND(")+",text03_2,230))
Name _____num2: IF(ISERROR(FIND(")+",text_1,230)),LEN(text_1),FIND(")+",text_1,230))
Name _____num3: IF(ISERROR(FIND(")+",text_2,230)),LEN(text_2),FIND(")+",text_2,230))
Name _____num8: IF(ISERROR(FIND(")+",_xleta.Text,230)),LEN(_xleta.Text),FIND(")+",_xleta.Text,230))
Name ____LAE2: '[5]Estimate Details'!#REF!
Name ____LAR2: '[5]Estimate Details'!#REF!
Name ____num031: IF(ISERROR(FIND(")+",Text03,230)),LEN(Text03),FIND(")+",Text03,230))
Name ____NUM0321: IF(ISERROR(FIND(")+",text03_1,230)),LEN(text03_1),FIND(")+",text03_1,230))
Name ____num033: IF(ISERROR(FIND(")+",text03_2,230)),LEN(text03_2),FIND(")+",text03_2,230))
Name ____num1: IF(ISERROR(FIND(")+",_xleta.Text,230)),LEN(_xleta.Text),FIND(")+",_xleta.Text,230))
Name ____num10: IF(ISERROR(FIND(")+",text03_2,230)),LEN(text03_2),FIND(")+",text03_2,230))
Name ____num2: IF(ISERROR(FIND(")+",text_1,230)),LEN(text_1),FIND(")+",text_1,230))
Name ____num3: IF(ISERROR(FIND(")+",text_2,230)),LEN(text_2),FIND(")+",text_2,230))
Name ____num8: IF(ISERROR(FIND(")+",_xleta.Text,230)),LEN(_xleta.Text),FIND(")+",_xleta.Text,230))
Name ___LAE2: '[5]Estimate Details'!#REF!
Name ___LAR2: '[5]Estimate Details'!#REF!
Name ___num031: IF(ISERROR(FIND(")+",[4]非人防地下室土建!Text03,230)),LEN([4]非人防地下室土建!Text03),FIND(")+",[4]非人防地下室土建!Text03,230))
Name ___num032: IF(ISERROR(FIND(")+",text03_1,230)),LEN(text03_1),FIND(")+",text03_1,230))
Name ___NUM0321: IF(ISERROR(FIND(")+",[4]非人防地下室土建!text03_1,230)),LEN([4]非人防地下室土建!text03_1),FIND(")+",[4]非人防地下室土建!text03_1,230))
Name ___num033: IF(ISERROR(FIND(")+",[4]非人防地下室土建!text03_2,230)),LEN([4]非人防地下室土建!text03_2),FIND(")+",[4]非人防地下室土建!text03_2,230))
Name ___num1: IF(ISERROR(FIND(")+",[4]非人防地下室土建!Text,230)),LEN([4]非人防地下室土建!Text),FIND(")+",[4]非人防地下室土建!Text,230))
Name ___num10: IF(ISERROR(FIND(")+",[4]非人防地下室土建!text03_2,230)),LEN([4]非人防地下室土建!text03_2),FIND(")+",[4]非人防地下室土建!text03_2,230))
Name ___num2: IF(ISERROR(FIND(")+",[4]非人防地下室土建!text_1,230)),LEN([4]非人防地下室土建!text_1),FIND(")+",[4]非人防地下室土建!text_1,230))
Name ___num3: IF(ISERROR(FIND(")+",[4]非人防地下室土建!text_2,230)),LEN([4]非人防地下室土建!text_2),FIND(")+",[4]非人防地下室土建!text_2,230))
Name ___num8: IF(ISERROR(FIND(")+",[4]非人防地下室土建!Text,230)),LEN([4]非人防地下室土建!Text),FIND(")+",[4]非人防地下室土建!Text,230))

Sheet 封面
C4: 向南村城市更新项目单元地基与基础工程
C8: 投 标 总 价
B11: 投标总价（小写）： | D11: ='表2-报价表'!E12 -> 5.6170962e+08
D12: =D11 -> 5.6170962e+08
B13: 金额（大写）：

Sheet 表1-编制说明
A1: 编制说明
A2: 一、 | B2: 总论
A3: 1 | B3: 招标范围：根据招标文件要求，完成向南村城市更新单元项目土石方、基坑支护及桩基础工程。
A4: 2 | B4: 本项目土石方、基坑支护及桩基础工程为综合单价包干，工程量为暂定数量，根据合同相关约定按实结算。
A5: 3 | B5: 工程量清单的编制依据：根据《向南村城市更新单元项目基坑支护设计》施工图(日期：2026年8月)以及《南山区向南村城市更新单元》桩基施工图(日期：2026.08.14)，具体详招标人提供的有关招标资料 。
A6: 4 | B6: 清单项目的综合单价及费率由招标方提供不得修改，投标单位仅填报下浮率；安全文明施工费为不可竞争费；其他措施费在基准价的基础上填报下浮率，按含税投标报价按项包干，结算不予以调整。
A7: 二、 | B7: 报价总说明
A8: 1 | B8: 综合单价应综合考虑设计要求、技术说明、招标时未提供地质勘察资料情况、本工程范围内可能存在的老旧基础（包括但不限于原有建筑物基础、桩基、地下障碍、地下管线及不明构筑物等）、地质情况、工程所在地周围环境、交通道路、工程施工现场环境、储存空间、装卸限制等情况，报价包括按本合同的工程承包范围、质量标准、工期等要求条件下为实施和完成本工程（从工程施工准备到竣工验收直至保修期满）所必须的全部开支。包含且不限于人工费、材料费、机械费、管理费、检测试验费、利润、规费、税金、风险费等所有相关费用；工程量为暂定数量，综合单价包干，按实结算，投标单位不得以实际施工的工程量的多少予以调整综合单价，投标单位不得以清单已列项或清单未列项作为本项目的施工范围的依据，施工范围以招标文件、最终施工图纸、合同约定为准。
A9: 2 | B9: 本项目的措施项目费除合同另有约定外不因任何原因调整， 乙方应考虑各种风险因素并根据自身实力、工期要求、施工经验、现场条件、周边环境以及招标文件的要求进行报价，相应措施项目费用视为乙方在投标报价中已充分考虑，后期施工中不再予以增补；
A10: 3 | B10: 措施费包括但不限于： (1)安全文明施工措施费：包含临时设施费（施工区临时排水沟、施工区临时集水井（沉砂井）在基坑支护清单部分另行列项计算）、安全施工费（含安全生产责任保险、基坑防护棚、安全护栏）、文明施工费（包含临时围挡制安及维护（如装配式钢结构围挡、PVC围挡、铁马、水马等），不单独计算）、科技强安及智慧工地、环境保护费（包含隔音屏、声屏障、施工废弃物和装修废弃物的外运和处置、建筑废弃物综合利用、施工区裸土覆盖（含多次覆盖，至将工作面移交后续施工单位）、产业工人职业训练专项经费、基坑出土坡道的路面硬化、坡道侧面喷锚、基坑内及顶部周边硬化、以及满足《建设工程安全文明施工标准SJG 46‑2023》及截止招标前深圳市政府所要求的全部内容； (2)包含大型机械进退场（含多次）、机械吊装至坑底相关措施、起重设备基础及施工通道加固措施、冬雨季及严寒/热天气下施工费用、夜间施工费、赶工措施费、二次搬运费、临时围护、配合桩基检测的费用（含反力梁板制作）、基坑监测配合费、水土监测配合费、临水设备加压费、淤泥排放证办理、淤泥排放费、根据水土保持方案批复意见完成相关措施施工、场地一切降排水措施费用、应急发电机费用、不良地质处理措施等； (3)包含为解决周边投诉的纠纷处理、周边学校或小区因素导致的施工降效费、与其他单位交叉施工降效费；周边临近既有建筑，采取有效措施保护邻近建筑物、构筑物；负责协调周边业主投诉处理并及时解决因施工引起的周边建筑开裂及沉降问题；对周边建筑物产生震动、沉降及可预见修补费用在措施费内综合考虑； (4)包含无证施工协调费与政府罚款、涉铁协调费用、涉铁区域所需设备的多次进场及外部所需一切手续办理费用、临时开路口费用(包括但不限于路口开设及、进入本项目道路的出入口及路口、路面、人行道等日常维护、修缮及交通疏解、洗车槽增加费、以及各部门沟通协调费用(包括但不限于与地铁、交通运输管制部门、街道办、社区工作站、周边房屋业主等的沟通协调)等)、绿化占用迁改（含手续办理）、地方政府部门向施工单位收取的各项费用及办理竣工验收等费用，相关政府部门要求的施工许可或提前介入手续费及施工过程中可能涉及到的包括城管、街道办、交警、交通路政及环保等政府部门或可能受影响单位的报批、报建手续费等； (5)因临时开路口的新增或移位，所增加的措施费用综合考虑，包括但不限于路口开设、拆改、场地或路面的硬化、出土道路的硬化、进入本项目道路的出入口及路口、路面、人行道等日常维护、修缮及交通疏解、扬尘措施的增加费用（包括但不限于车辆自动冲洗设备和沉淀过滤设施、洗车槽、排水沟及清淤、现场保洁等）、以及各部门沟通协调费用等； (6)包含土石方外运可能涉及到的翻晒导致多次土石方倒运费、拌水泥（含水泥材料费）等施工措施费； (7)包含根据本项目工程性质和技术要求，现场踏勘，收集分析已有资料，调查周边建构筑物及地上地下管线情况； (8)包含土石方、支护及桩基工程施工过程所需的实时监控费用，确保施工过程可控，相关仪器（如执法记录仪、沉渣仪等）施工结束后由施工单位回收，报价需按设备租赁性质综合考虑； (9)为发包人及监理提供临时办公生活用房、办公设施及其后勤保障工作相关费用，及后期搬迁费用综合考虑，且承包人需无条件配合； (10)临时用水、用电接驳和迁改以及缴费账户申请手续办理及承担相关费用已包含在签约合同价中，不再另行计价； (11)防疫专项费用及防止鼠蚁、蚊虫滋生费用； (12)如本项目因工期需要，拆除单位无法按时完成场内废弃物处理的情况下，发包人有权要求承包人完成场地内剩余拆除建筑物废料的清运及弃置工作，相关费用在措施费内综合考虑，不单独计取； (13)伺服系统相关费用在措施费内综合考虑，不单独计取； （14）承包人须按合同、招标文件、技术文件要求完成各项配合工作，各项配合工作对应的全部费用已计入措施费，不另行计取费用， (15)包含成品保护、安全保卫费用、履约保函费用、工程保险、场地道路、操作平台平整处理费用、专家评审费、材料检验及检测费用、试桩增加费、报审费、报装费、验收费、水电费、项目用车配置、临时生产及办公生活用地租赁费（红线内外）、门禁检查系统、垃圾处置(建筑垃圾及生活垃圾）、材料堆场及加工厂后期搬迁移位费用、开工仪式配合及费用等。招标文件及技术要求中已明确，但工程量清单及编制说明未列明的工作内容但承包人认为需要计列的所有措施项目费用均应计入措施项目清单中进行报价，相关费用均已综合包含在措施费中，不再另行单独计取。
A12: 4 | B12: 本项目调差范围：合同清单中有单独列项且注明可调差项的钢筋及混凝土，在基准价格涨跌幅度超出±5%时，对±5%以外部分进行调差。按项包干或未单独列项的相关材料不参与调差。
A13: 5 | B13: 钢筋、商品混凝土价格调整原则(价差只计取税金)： 实际开工月份至实际完工月份的《深圳建设工程价格信息》各月信息价算术平均值作为当期调差价格，与投标基准期信息价对比，超出涨跌幅度±5%部分调差，调差公式： 当材料价格上涨，且(Pt-P。)/P。×100％＞5％时，C 增＝Qi×P×[(Pt-P。)/P。×100％-5%]； 当材料价格下跌，且(P。-Pt)/P。×100％＞5％时，C 减＝Qi×P×[(P。-Pt)/P。×100％-5％]； C 增：调增工程造价。 C 减：调减工程造价。 Qi：桩基、基坑支护按实际完成工程量计算。 P：承包单位在投标文件商务标书中的该材料的投标含税单价(若有修正后的含税单价，则为修正后的含税单价)。 P。：混凝土按投标截标日28天前当月《深圳市工程造价信息》发布的材料价格。 钢筋按投标截标日28天前当月《深圳市工程造价信息》发布的热轧带肋钢筋HRB400Eφ10~φ32价格的平均值。 如投标截止日/开工日未发布价格，则为往前最近一期的价格。 Pt：混凝土按开工施工期间各月《深圳建设工程价格信息》发布的材料价格的算术平均值； 钢筋按开工施工期间各月《深圳建设工程价格信息》发布的材料价格的算术平均值（其中各月钢筋材料价格以热轧带肋钢筋HRB400Eφ10~φ32价格的平均值）。如项目开工日未发布价格，则为往前最近一期价格。（停工期间不做数据统计） 施工期规定: 基坑支护：自第一根支护桩开始浇筑施工为起始月份至最后一根支护桩完成浇筑为终止月份。 桩基工程：自第一根桩开始浇筑施工为起始月份至最后一根桩完成浇筑为终止月份
A14: 三、 | B14: 计量计价约定
... A79: 四、 | B79: 工程量清单说明
A80: 1 | B80: 本工程的工程量清单组成：工程项目报价表及各明细表，具体详有关表格。
A81: 2 | B81: 报价清单中的设定公式仅供参考，投标单位必须进行复核，并对最终的计算结果负责。招标工程量清单中的工程量及工程子项不能作任何修改，不能对工程量清单进行编辑。本工程量清单子目报价要求各投标人根据施工图纸、项目特征内容综合报价，对于没有在清单中列出的工作内容或清单描述不够详尽之处(因有些图纸设计内容无法用文字表述详尽，含清单漏项、计算遗漏及误差等)，请自行复核，并在投标答疑时提出。
A82: 3 | B82: 合同结算时除合同约定可调整内容以外均不作调整。招标人认为，投标人在递交投标文件时，对本工程的招标文件所有内容(包括图纸与设计说明中的要求、施工技术与管理要求)、施工现场实际情况(包括周围环境、地质条件、交通道路等)等均已详细研究明了，并在投标报价中已充分考虑上述因素及施工组织设计内容，保证投标报价准确无误，如有错漏概由投标人负责。
A83: 4 | B83: 分部分项清单中以项为单位的项目(如有)，该类项目填报之价格包干使用，即因图纸差异、设计变更等引起的工程量变化的风险由承包方承担，结算时仅按是否发生而整项保留或扣除，价款则不作调整。
A84: 5 | B84: 中标后针对“表3-土石方工程清单”、“表4-基坑支护工程清单”、“表5-桩基工程清单”中含税综合单价、含税主材费、含税施工费及其他费按照投标人填报的中标下浮率进行调整，如因小数点导致总价偏差，以中标总价为准调整单价，确保中标总价不变。图纸范围内的内容制安工作均已包含在本次投标报价中，结算时本清单综合单价不得调整，承包人不得以报价漏项、少算等为理由要求另计费用。
A85: 五、 | B85: 错漏项目、设计变更、现场签证价款的确定(除另有协议外)
A86: 1 | B86: 工程量清单有合同单价的项目，单价按原合同单价执行；
A87: 2 | B87: 工程量清单有类似项目的合同单价，可参照该类似项目的合同单价进行调整，如材质工艺相同仅规格变化，可根据规格进行换算；如工艺相同，材质有变化，仅调整主材价，其他费用不作调整；
A88: 3 | B88: 合同清单无直接可套用项目，且无合同类似的项目，综合单价可按照《建筑工程消耗量标准》(SJG171-2024)、《装饰工程消耗量标准》(SJG75-2025)、《安装工程消耗量标准》(SJG74-2025)、《市政工程消耗量标准》(SJG181-2024)、《房屋修缮工程消耗量标准》(SJG173-2024)、《土石方与地基基础工程消耗量标准》(SJG170-2024)、《建设工程施工机械台班消耗量标准》(SJG174-2024)等，费率按照《深圳市建设工程计价费率标准2025》推荐费率。人工、机械的价格按照投标截标日28天前当月的《深圳市工程造价信息》的价格执行，措施费不计取。 材料价格的取定方法： ①合同中已有适用于变更工程的材料、设备合同单价，按合同单价计取或换算。 ②合同中没有适用于变更工程的材料、设备单价，按照投标截止日28天前当月《深圳建设工程价格信息》发布的价格，信息价缺项时通过市场询价方式协商确定； 下浮率： 按照上述规则计算出该项目的综合单价,下浮率按20%计取(合同已有的材料、设备单价以及市场询价确定的材料、设备单价可不下浮)。
A89: 4 | B89: 如定额无具体子目可套用，则甲乙双方按市场合理价格协商确定。
A90: 六、 | B90: 其他说明
A91: 1 | B91: 承包单位必须充分视察工地﹐进行所需的定位﹑测量及勘探﹐掌握工地现有状况的准确资料，充分了解当地政府执法部门规定及相关要求。周边项目的参考资料仅供参考，不作为结算依据。
A92: 2 | B92: 本表为投标报价固定格式，各投标人不得随意改动，否则，按废标处理。
A93: 3 | B93: 本项目交易平台收取的交易服务费及招标代理服务费由中标人支付，中标人不得以任何理由向发包人索取。收费标准详见深圳公共资源交易网，实际的交易服务费及招标代理服务费以《交易服务费缴款通知书》为准，费用已综合考虑报价中。
A94: 4 | B94: 若项目地下分布有溶洞、暗河、地下裂隙等不良地质条件，地质情况存在不确定性。后续现场实际工程量，由建设单位、勘察单位、设计单位、咨询单位、监理单位、施工单位多方到场，结合现场实际共同核实确认。
A95: 5 | B95: 其他费用：除技术要求中约定的临时办公区域配置相关费用外，承包人还需承担甲方现有办公场地租金，月租金暂计226000元，租期1年（租金起缴时间以甲方书面通知为准），暂列费用合计2712000元。本项费用为不可竞争费，按承包人当期实际缴纳租金金额，随同当期进度款同步支付100%；最终结算以承包人实际发生租金为准，结算依据包含租赁合同、缴费发票及付款凭证。相关税费、管理费、利润等全部费用由承包人在报价中综合包干考虑，不再另行计取。
A96: 6 | B96: 未尽事宜详见招标文件及工程量清单，如有矛盾之处投标人应及时提出，否则承担不利责任后果。

Sheet 表2-报价表
A1: 报价表
A2: 工程名称：向南村城市更新单元项目地基与基础工程 | F2: 单位：元
A3: 序号 | B3: 项目名称 | C3: 含税基准价(元) | D3: 投标下浮率 (%) | E3: 含税投标报价(元) | F3: 备注
A4: 1 | B4: 土石方工程 | C4: ='表3-土石方工程清单'!I14 -> 1.110828e+08 | E4: =C4*(1-D4) -> 1.110828e+08 | F4: 在基准价的基础上填报下浮率
A5: 2 | B5: 基坑支护工程 | C5: ='表4-基坑支护工程清单'!I66 -> 2.0306111e+08 | E5: =C5*(1-D4) -> 2.0306111e+08
A6: 3 | B6: 桩基础工程 | C6: ='表5-桩基工程清单'!I38 -> 1.9647154e+08 | E6: =C6*(1-D4) -> 1.9647154e+08
A7: 4 | B7: 措施费 | C7: =C8+C9 -> 18382157 | D7: / | E7: =E8+E9 -> 18382157
A8: 4.1 | B8: 安全文明施工措施费 | C8: 8169847.4 | D8: / | E8: =C8 -> 8169847.4 | F8: 不可竞争费，按项包干
A9: 4.2 | B9: 其他措施费 | C9: 10212309 | D9: =D4 -> 0 | E9: =C9*(1-D9) -> 10212309 | F9: 在基准价的基础上按投标下浮率进行下浮， 按含税投标报价按项包干，结算不予以调整
A10: 5 | B10: 其他费用 | C10: =226000*12 -> 2712000 | E10: =C10 -> 2712000 | F10: 不可竞争费，按实际发生结算
A11: 6 | B11: 暂列金额 | C11: 30000000 | D11: / | E11: =C11 -> 30000000 | F11: 不可竞争费，按实际发生结算
A12: 7 | B12: 总价（含税）（1+~6） | C12: =C4+C5+C6+C7+C10+C11 -> 5.6170962e+08 | D12: / | E12: =E4+E5+E6+E7+E10+E11 -> 5.6170962e+08
A13: 7.1 | B13: 增值税 9 % | C13: =C12-C14 -> 46379693 | D13: / | E13: =E12-E14 -> 46379693 | F13: 增值税专用发票
A14: 7.2 | B14: 不含税总价 | C14: =C12/1.09 -> 5.1532992e+08 | D14: / | E14: =E12/1.09 -> 5.1532992e+08
A15: 1、报价：下浮率应填写正数，所有综合单价随之下浮。安全文明施工费为不可竞争费，按项包干；其他措施费，在基准价的基础上填报下浮率，按含税投标报价按项包干，结算不予以调整；暂列金额为不可竞争费，按实际发生结算。 2、各分项报价综合考虑，单价出现不一致且答疑阶段未提疑，按就低原则。 3、若投标报价与经计算的投标下浮率不一致时，则以投标报价为准，修正投标下浮率，投标人须无条件接受；报价下浮率在中标后固定不变。

Sheet 表3-土石方工程清单
A1: 土石方工程 工程量清单明细表
A2: ='表2-报价表'!A2 -> 工程名称：向南村城市更新单元项目地基与基础工程
A3: 序号 | B3: 项目名称 | C3: 项目特征 | D3: 计量单位 | E3: 工程量 | F3: 含税综合单价=主材费+施工费及其他费（元） | G3: 其中 | I3: 含税合价(元） | J3: 备注
G4: 含税主材费 | H4: 含税施工费及其他费
A5: 一 | B5: 土石方工程
A6: =IF(D6="","",COUNT($A$5:A5)+1) -> 1 | B6: 土石方开挖 | C6: (1)土石类别:土、淤泥、石方、零星块(孤)石等比例综合考虑 (2)开挖方式:综合考虑场地各部位各类形式的开挖 (3)支撑下开挖、坑槽开挖、桩间土（含桩间网喷护壁修边所产生之土方）、整平、人工辅助开挖、爆破、土石方垂直运输等在综合单价内综合考虑 (4)开挖中遇拆除工程以外现状构筑物、暗沟渠池、硬化地面及垫层、废旧地下基础（含桩基）、旧基坑支护、管道管线、其他障碍(杂)物、杂草、灌木、树根、腐殖土、生活垃圾、板房、废弃围挡、临时建渣等综合考虑 (5)其他：需满足设计图纸、相关规范、招标文件及其技术要求 | D6: m3 | E6: 932131.3 | F6: =G6+H6 -> 7.85 | G6: 0 | H6: 7.85 | I6: =ROUND(E6*F6,2) -> 7317230.7
A7: =IF(D7="","",COUNT($A$5:A6)+1) -> 2 | B7: 土石方外运及弃置【投标方自行考虑弃土场】 | C7: (1)土石方外运 (2)土石类别:各类土、淤泥、砂石、碎石、零星块(孤)石、硬化地面、旧基础（含桩基）、管道管线、其他障碍(杂)物、杂草、灌木、树根、腐殖土、生活垃圾、板房、废弃围挡、临时建渣等比例综合考虑 (3)装卸、二次倒运、场内外清运、环保、运输车辆管理、外运至弃置点等在综合单价内综合考虑 (4)弃土方式、运距、弃土场收纳处置费、弃土点综合考虑 (5)其他：需满足设计图纸、相关规范、招标文件及其技术要求 | D7: m3 | E7: =E6-E8 -> 922131.3 | F7: =G7+H7 -> 112.15 | G7: 0 | H7: 112.15 | I7: =ROUND(E7*F7,2) -> 1.0341703e+08
A8: =IF(D8="","",COUNT($A$5:A7)+1) -> 3 | B8: 回填土 | C8: (1)素土回填 (2)部位:综合考虑 (3)密实度要求，填方粒径要求:按设计要求分层夯实满足密实度，满足相关规范 (4)填方来源、运距、倒(转)运:综合考虑(含场内利用土方和场外借土、购土可填等) (5)综合考虑分区分批回填须进行分隔围合的相关措施 (6)其他:满足设计图纸、相关规范、招标文件及其技术要求 | D8: m3 | E8: 10000 | F8: =G8+H8 -> 26.52 | G8: 0 | H8: 26.52 | I8: =ROUND(E8*F8,2) -> 265200
A9: =IF(D9="","",COUNT($A$5:A8)+1) -> 4 | B9: 回填石粉 | C9: (1)石粉回填 (2)部位:综合考虑，包括但不限于地下室基础、地下室顶板、室外、室内等回填区域 (3)密实度要求，填方粒径要求:按设计要求分层夯实满足密实度，满足相关规范 (4)填方来源、运距、倒(转)运:综合考虑(含场内利用土方和场外借土、购土可填等) (5)综合考虑分区分批回填须进行分隔围合的相关措施 (6)其他:满足设计图纸、相关规范、招标文件及其技术要求 | D9: m3 | E9: 100 | F9: =G9+H9 -> 123.36 | G9: 84.8 | H9: 38.56 | I9: =ROUND(E9*F9,2) -> 12336
A10: =IF(D10="","",COUNT($A$5:A9)+1) -> 5 | B10: 回填轻质混凝土 | C10: (1)轻质混凝土回填：强度等级综合考虑 (2)部位:综合考虑，包括但不限于地下室基础、地下室顶板、室外、室内等回填区域 (3)密实度要求，填方粒径要求:按设计要求分层夯实满足密实度，满足相关规范 (4)填方来源、运距、倒(转)运:综合考虑(含场内利用土方和场外借土、购土可填等) (5)综合考虑分区分批回填须进行分隔围合的相关措施 (6)其他:满足设计图纸、相关规范、招标文件及其技术要求 | D10: m3 | E10: 100 | F10: =G10+H10 -> 276.62 | G10: 224 | H10: 52.62 | I10: =ROUND(E10*F10,2) -> 27662
A11: =IF(D11="","",COUNT($A$5:A10)+1) -> 6 | B11: 回填砖渣 | C11: (1)砖渣回填 (2)部位:综合考虑，包括但不限于地下室基础、地下室顶板、室外、室内等回填区域 (3)密实度要求，填方粒径要求:按设计要求分层夯实满足密实度，满足相关规范 (4)填方来源、运距、倒(转)运:综合考虑(含场内利用土方和场外借土、购土可填等) (5)综合考虑分区分批回填须进行分隔围合的相关措施 (6)其他:满足设计图纸、相关规范、招标文件及其技术要求 | D11: m3 | E11: 100 | F11: =G11+H11 -> 64.89 | G11: 32 | H11: 32.89 | I11: =ROUND(E11*F11,2) -> 6489
A12: =IF(D12="","",COUNT($A$5:A11)+1) -> 7 | B12: 固化土【现场处理】 | C12: (1)固化土回填 (2)部位:综合考虑，包括但不限于地下室基础、地下室顶板、室外、室内等回填区域 (3)密实度要求，填方粒径要求:按设计要求分层夯实满足密实度，满足相关规范 (4)填方来源、运距、倒(转)运:综合考虑(场内利用土方) (5)综合考虑分区分批回填须进行分隔围合的相关措施 (6)其他:满足设计图纸、相关规范、招标文件及其技术要求 | D12: m3 | E12: 100 | F12: =G12+H12 -> 184.3 | G12: 110 | H12: 74.3 | I12: =ROUND(E12*F12,2) -> 18430
A13: =IF(D13="","",COUNT($A$5:A12)+1) -> 8 | B13: 固化土【外购土】 | C13: (1)固化土回填 (2)部位:综合考虑，包括但不限于地下室基础、地下室顶板、室外、室内等回填区域 (3)密实度要求，填方粒径要求:按设计要求分层夯实满足密实度，满足相关规范 (4)填方来源、运距、倒(转)运:综合考虑(场外借土、购土可填等) (5)综合考虑分区分批回填须进行分隔围合的相关措施 (6)其他:满足设计图纸、相关规范、招标文件及其技术要求 | D13: m3 | E13: 100 | F13: =G13+H13 -> 184.3 | G13: 110 | H13: 74.3 | I13: =ROUND(E13*F13,2) -> 18430
B14: 含税合计 | I14: =SUM(I6:I13) -> 1.110828e+08

Sheet 表4-基坑支护工程清单
A1: 基坑支护工程 工程量清单明细表
A2: =[10]报价汇总表!A2 -> 工程名称：向南村城市更新单元项目地基与基础工程
A3: 序号 | B3: 项目名称 | C3: 项目特征 | D3: 计量单位 | E3: 工程量 | F3: 含税综合单价=主材费+施工费及其他费（元） | G3: 其中 | I3: 含税合价(元） | J3: 备注
G4: 含税主材费 | H4: 含税施工费及其他费
A5: 一 | B5: 支护桩工程 | I5: =SUM(I6:I22) -> 84224146
A6: =IF(D6="","",COUNT($A$5:A5)+1) -> 1 | B6: Φ1500咬合桩（荤桩） | C6: (1)地质条件:综合考虑，包括不限于遇孤石、飘石、夹层、淤泥、流沙、老旧基础（含桩基）等各类地质情况、不明障碍物、混凝土充盈系数的变化、引孔、塌孔、缩径、超打、偏位等所有风险和对上述风险进行处理而增加的所有费用 (2)成孔方式：综合考虑 (3)桩径：综合考虑 (4)混凝土标号：C30水下商品砼（综合考虑各类添加剂，包含但不限于抗渗添加剂等其他添加剂） (5)计算规则:清单工程量以设计桩径截面面积乘以桩长以体积计算（搭接工程量不扣除），桩长按桩底标高至桩顶标高计算，桩底标高按满足设计最低终孔要求，桩顶标高按设计顶标高 (6)包括但不限于成孔（含空桩，长度综合考虑）、泥浆制作、固壁、桩位放线及复核、钢护筒定位、埋设及拔除(非全套管（含全回转）工艺的钢护筒埋设和拆除综合考虑在报价中)、钢护(套)筒多次使用增加费、砼灌注（含超灌）、养护、泥浆池的砌筑及拆除、泥浆及桩芯土等废弃物处理、装运、外弃(运距综合考虑) (7)空桩回填在综合单价中综合考虑，不单独计取（综合考虑回填材质及来源） (8)斜岩面所造成的施工降效、处理斜岩面的额外费用，在综合单价内综合考虑 (9)其他:需满足设计图纸、相关规范、招标文件及其技术要求 | D6: m3 | E6: 26901.61 | F6: =G6+H6 -> 891.87 | G6: 363.99 | H6: 527.88 | I6: =ROUND(E6*F6,2) -> 23992739 | J6: 可调差项
A7: =IF(D7="","",COUNT($A$5:A6)+1) -> 2 | B7: Φ1500咬合桩（素桩） | C7: (1)地质条件:综合考虑，包括不限于遇孤石、飘石、夹层、淤泥、流沙、老旧基础（含桩基）等各类地质情况、不明障碍物、混凝土充盈系数的变化、引孔、塌孔、缩径、超打、偏位等所有风险和对上述风险进行处理而增加的所有费用 (2)成孔方式：综合考虑 (3)桩径：综合考虑 (4)混凝土标号：C20水下商品砼（综合考虑各类添加剂，包含但不限于抗渗添加剂、超缓添加剂等其他添加剂） (5)计算规则:清单工程量以设计桩径截面面积乘以桩长以体积计算（搭接工程量不扣除），桩长按桩底标高至桩顶标高计算，桩底标高按满足设计最低终孔要求，桩顶标高按设计顶标高 (6)包括但不限于成孔（含空桩，长度综合考虑）、泥浆制作、固壁、桩位放线及复核、钢护筒定位、埋设及拔除(非全套管（含全回转）工艺的钢护筒埋设和拆除综合考虑在报价中)、钢护(套)筒多次使用增加费、砼灌注（含超灌）、养护、泥浆池的砌筑及拆除、泥浆及桩芯土等废弃物处理、装运、外弃(运距综合考虑) (7)空桩回填在综合单价中综合考虑，不单独计取（综合考虑回填材质及来源） (8)斜岩面所造成的施工降效、处理斜岩面的额外费用，在综合单价内综合考虑 (9)其他:需满足设计图纸、相关规范、招标文件及其技术要求 | D7: m3 | E7: 26883.43 | F7: =G7+H7 -> 869.68 | G7: 345.17 | H7: 524.51 | I7: =ROUND(E7*F7,2) -> 23379981 | J7: 可调差项
A8: =IF(D8="","",COUNT($A$5:A7)+1) -> 3 | B8: 全套管（含全回转）工艺增加费 | C8: (1)此项清单仅对采用全套管（含全回转）工艺须增加的费用进行报价 (2)桩径：综合考虑 (3)计算规则:清单工程量按有效桩长-2m以米计算(2m以内护筒在灌注桩成孔清单内考虑)，有效桩长按桩底标高至设计桩顶标高计算，桩底标高按满足设计最低终孔要求 (4)其他:需满足设计图纸、相关规范、招标文件及其技术要求 | D8: m | E8: 10473.4 | F8: =G8+H8 -> 88.77 | G8: 0 | H8: 88.77 | I8: =ROUND(E8*F8,2) -> 929723.72
A9: =IF(D9="","",COUNT($A$5:A8)+1) -> 4 | B9: 钢筋笼制安 | C9: (1)钢筋种类、规格、连接方式:综合考虑 (2)无论采用预埋、植筋等方式，预埋、植筋及其它相应费用均考虑在综合单价中 (3)综合考虑钢筋与型钢的焊接，钢筋穿过型钢等费用 (4)钢筋隔离保护套、定位块，吊环、措施钢筋、施工搭接不单独计算，在综合单价中综合考虑 (5)含相关工序及其所需辅材的购买及安装等内容 (6)其他:需满足设计图纸、相关规范、招标文件及其技术要求 | D9: t | E9: 5532.181 | F9: =G9+H9 -> 4215.07 | G9: 3447 | H9: 768.07 | I9: =ROUND(E9*F9,2) -> 23318530 | J9: 可调差项
A10: =IF(D10="","",COUNT($A$5:A9)+1) -> 5 | B10: 凿桩头破除、清理、外运处置 | C10: (1)凿桩头 (2)计算规则:清单工程量按设计图示桩截面面积乘以最低满足设计超灌要求高度以体积计算 (3)综合单价已包括桩头混凝土凿除和整平、钢筋截断和整理、场内外清运、装车、环保、运输车辆管理、外运至弃置点等 (4)弃土方式、运距、弃土点、弃土场收纳处置费、残值回收处理费用综合考虑 (5)其他:需满足设计图纸、相关规范、招标文件及其技术要求 | D10: m3 | E10: 923.75 | F10: =G10+H10 -> 382.95 | G10: 0 | H10: 382.95 | I10: =ROUND(E10*F10,2) -> 353750.06
A11: =IF(D11="","",COUNT($A$5:A10)+1) -> 6 | B11: 咬合桩导槽板：C20混凝土 | C11: (1)截面尺寸:详见图纸要求 (2)混凝土标号：C20商品砼 (3)包括但不限于材料费（含损耗）、运输费、采保费、卸车费、混凝土浇筑等 (4)其他:需满足设计图纸、相关规范、招标文件及其技术要求 | D11: m3 | E11: 1089.69 | F11: =G11+H11 -> 364.17 | G11: 330.17 | H11: 34 | I11: =ROUND(E11*F11,2) -> 396832.41 | J11: 可调差项
A12: =IF(D12="","",COUNT($A$5:A11)+1) -> 7 | B12: 混凝土模板 | C12: (1)模板类型：综合考虑 (2)含模板制作、安装及拆除 (3)部位：综合考虑 (4)其他:需满足设计图纸、相关规范、招标文件及其技术要求 | D12: m2 | E12: 876.76 | F12: =G12+H12 -> 75 | G12: 30 | H12: 45 | I12: =ROUND(E12*F12,2) -> 65757
A13: =IF(D13="","",COUNT($A$5:A12)+1) -> 8 | B13: C20混凝土垫层 | C13: (1)厚度:详见图纸要求 (2)混凝土标号：C20商品砼 (3)包括但不限于材料费（含损耗）、运输费、采保费、卸车费、混凝土浇筑等 (4)其他:需满足设计图纸、相关规范、招标文件及其技术要求 | D13: m3 | E13: 181.61 | F13: =G13+H13 -> 416.81 | G13: 330.17 | H13: 86.64 | I13: =ROUND(E13*F13,2) -> 75696.86 | J13: 可调差项
A14: =IF(D14="","",COUNT($A$5:A13)+1) -> 9 | B14: 咬合桩导槽破除、清理、外运处置 | C14: (1)破除方式综合考虑 (2)综合单价已包括导槽破除、场内外清运、装车、环保、运输车辆管理、外运至弃置点等 (3)弃土方式、运距、弃土点、弃土场收纳处置费、残值回收处理费用综合考虑 (4)其他:需满足设计图纸、相关规范、招标文件及其技术要求 | D14: m3 | E14: 1271.3 | F14: =G14+H14 -> 263.03 | G14: 0 | H14: 263.03 | I14: =ROUND(E14*F14,2) -> 334390.04
A15: =IF(D15="","",COUNT($A$5:A14)+1) -> 10 | B15: 导槽板：钢筋制安 | C15: (1)钢筋规格：综合考虑 (2)含钢筋接头、搭接方式、搭接长度综合考虑,含制作安装、起吊、焊接、安放 (3)不区分带E抗震钢筋,投标人自行综合考虑 (4)其他:需满足设计图纸、相关规范、招标文件及其技术要求 | D15: t | E15: 77.82 | F15: =G15+H15 -> 4215.07 | G15: 3447 | H15: 768.07 | I15: =ROUND(E15*F15,2) -> 328016.75 | J15: 可调差项
A16: =IF(D16="","",COUNT($A$5:A15)+1) -> 11 | B16: Φ850三轴搅拌桩 | C16: (1)地质条件:综合考虑，包括不限于遇孤石、飘石、夹层、淤泥、流沙、老旧基础（含桩基）等各类地质情况、不明障碍物、混凝土充盈系数的变化、引孔、塌孔、缩径、超打、偏位等所有风险和对上述风险进行处理而增加的所有费用 (2)桩径：850mm (3)每幅三轴搅拌桩间距1.75m，搭接300mm (4)施打方式：搭接 (5)计算规则:按每幅单元设计桩长以幅·米计算（三根一幅），搭接部分不扣除 (6)水泥用量：采用P.O.42.5R级普通硅酸盐水泥，暂定水泥掺入比20%，具体掺量应通过现场试成桩试验确定。搅拌桩止水帷幕建议水灰比为1:1(具体数值通过现场试成桩试验确定) (7)包括但不限于含成孔（含空桩，长度综合考虑）、水泥浆制作、喷浆搅拌提升成桩、渣土装车、外运(运距综合考虑)等 (8)其他:需满足设计图纸、相关规范、招标文件及其技术要求 | D16: 幅·m | E16: 10370.8 | F16: =G16+H16 -> 296.76 | G16: 163.28 | H16: 133.48 | I16: =ROUND(E16*F16,2) -> 3077638.6
A17: =IF(D17="","",COUNT($A$5:A16)+1) -> 12 | B17: Φ600双管旋喷桩 | C17: (1)地质条件:综合考虑，包括不限于遇孤石、飘石、夹层、淤泥、流沙、老旧基础（含桩基）等各类地质情况、不明障碍物、混凝土充盈系数的变化、引孔、塌孔、缩径、超打、偏位等所有风险和对上述风险进行处理而增加的所有费用 (2)旋喷类型、方法:双重管高压旋喷 (3)旋喷直径:600mm (4)桩长:综合考虑 (5)计算规则:清单工程量以设计桩径截面面积乘以设计图示长度以体积计算（搭接工程量不扣除） (6)水泥强度等级、掺量:水泥采用P.O.42.5级普通硅酸盐水泥，水泥用量不小于250kg/m、水灰比宜为1.0，具体施工参数宜通过现场试喷确定 (7)工作内容:含成孔（含空桩，长度综合考虑）、水泥浆制作、喷浆搅拌提升成桩、渣土装车、外运(运距综合考虑)等 (8)其他:需满足设计图纸、相关规范、招标文件及其技术要求 | D17: m3 | E17: 31.05 | F17: =G17+H17 -> 472.34 | G17: 314.05 | H17: 158.29 | I17: =ROUND(E17*F17,2) -> 14666.16
A18: =IF(D18="","",COUNT($A$5:A17)+1) -> 13 | B18: Φ800三管旋喷桩 | C18: (1)地质条件:综合考虑，包括不限于遇孤石、飘石、夹层、淤泥、流沙、老旧基础（含桩基）等各类地质情况、不明障碍物、混凝土充盈系数的变化、引孔、塌孔、缩径、超打、偏位等所有风险和对上述风险进行处理而增加的所有费用 (2)旋喷类型、方法:三重管高压旋喷 (3)旋喷直径:800mm (4)桩长:综合考虑 (5)计算规则:清单工程量以设计桩径截面面积乘以设计图示长度以体积计算（搭接工程量不扣除） (6)水泥强度等级、掺量:水泥采用P.O.42.5级普通硅酸盐水泥，水泥用量不小于400kg/m、水灰比宜为1.0，具体施工参数宜通过现场试喷确定 (7)工作内容:含成孔（含空桩，长度综合考虑）、水泥浆制作、喷浆搅拌提升成桩、渣土装车、外运(运距综合考虑)等 (8)其他:需满足设计图纸、相关规范、招标文件及其技术要求 | D18: m3 | E18: 64.39 | F18: =G18+H18 -> 660.77 | G18: 502.48 | H18: 158.29 | I18: =ROUND(E18*F18,2) -> 42546.98
A19: =IF(D19="","",COUNT($A$5:A18)+1) -> 14 | B19: Φ850 TRD工法水泥土搅拌墙 | C19: (1)地质条件:综合考虑，包括不限于遇孤石、飘石、夹层、淤泥、流沙、老旧基础（含桩基）等各类地质情况、不明障碍物等所有风险和对上述风险进行处理而增加的所有费用 (2)墙厚：850mm (3)计算规则:清单工程量以设计墙厚截面面积乘以设计图示长度以体积计算 (4)水泥土搅拌墙应采用专业设备进行施工。等厚度水泥土搅拌墙采用P.042.5级普通硅酸盐水泥，水泥掺量25%，建议水灰比1.5，挖掘液采用钠基膨润土拌制，每立方被搅土体掺入约100kg/m3的膨润土。墙体抗渗系数E-7~E-6cm/s，等厚度水泥土搅拌墙28d无侧限抗压强度标准值不小于1.2MPa (5)包括但不限于含成孔（含空桩，长度综合考虑）、水泥浆制作、喷浆搅拌提升成墙、渣土装车、外运(运距综合考虑)等 (6)其他:需满足设计图纸、相关规范、招标文件及其技术要求 | D19: m3 | E19: 50 | F19: =G19+H19 -> 241.84 | G19: 159.75 | H19: 82.09 | I19: =ROUND(E19*F19,2) -> 12092
A20: =IF(D20="","",COUNT($A$5:A19)+1) -> 15 | B20: Φ300微型桩 | C20: (1)岩土类别:综合考虑 (2)送桩深度、桩长:综合考虑 (3)规格型号:桩径φ300，桩芯采用Q355B的22b工字钢,灌注碎石注浆体,碎石填入量应不小于计算体积的0.8~0.9倍,注浆采用二次注浆 (4)水泥采用P.0.42.5R水泥,水灰比一般0.45~0.55压浆过程中桩顶有一定数量的石子沉落，故在整个压浆过程中应逐渐投入石子至桩顶，当浆液泛出桩顶,压浆才告结束 (5)工作内容:含成孔（含空桩，长度综合考虑）、水泥浆制作、喷浆搅拌提升成桩、渣土装车、外运(运距综合考虑)等 (6)其他:需满足设计图纸、相关规范、招标文件及其技术要求 | D20: m | E20: 18801 | F20: =G20+H20 -> 242.42 | G20: 147.51 | H20: 94.91 | I20: =ROUND(E20*F20,2) -> 4557738.4
A21: =IF(D21="","",COUNT($A$5:A20)+1) -> 16 | B21: 袖阀管注浆加固 | C21: (1)地质条件：综合考虑，包括不限于遇孤石、飘石、夹层、淤泥、流沙、老旧基础（含桩基）等各类地质情况、不明障碍物、混凝土充盈系数的变化、引孔、塌孔、缩径、超打、偏位等所有风险和对上述风险进行处理而增加的所有费用；含套壳料灌注、袖阀管下放、管内充水保护、套壳料养护、分段后退注浆、复注浆、达不到设计指标另行打孔补灌等全部工艺风险及对应增加费用 (2)钻孔深度：综合考虑 (3)钻孔直径：110mm (4)浆液种类、强度等级： ①套壳封闭泥浆：P.O.42.5 普通硅酸盐水泥，水灰比 0.70:1，掺入 20% 粘土粉，粘度 80～90Pa.s，7 天抗压强度 0.3～0.5MPa； ②注浆浆液：P.O.42.5 普通硅酸盐水泥，水泥：水：CaCl₂=1:0.75～1.0:2%（氯化钙掺量为水泥质量 2%）；注浆水泥用量不少于 150kg/m；注浆压力 0.1～0.5MPa，最大可达 2MPa；每 66cm 拔管一次，由下往上分段注浆，可重复注浆 1～2 次；水泥浆随拌随用 (5)计算规则：清单工程量按设计图示长度以米计算 (6)工作内容：钻孔、入岩 (包括中风化岩层、微风化岩层等)、套壳料及注浆浆液制作、运输、压浆、PVC 塑料阀管（下端封闭）制作安装、管腔内加水、双向密封注浆芯管分段注浆、施工平台搭设及拆除、现场养护、检测配合、达不到设计要求补孔补灌等全部工作内容 (7)其他：需满足设计图纸、相关规范、招标文件及其技术要求 | D21: m | E21: 26851.4 | F21: =G21+H21 -> 122.78 | G21: 60.75 | H21: 62.03 | I21: =ROUND(E21*F21,2) -> 3296814.9
A22: =IF(D22="","",COUNT($A$5:A21)+1) -> 17 | B22: 拉森钢板桩 | C22: (1)地层情况:综合考虑 (2)桩长:综合考虑 (3)板桩规格:Ⅳ型拉森钢板桩(400*170*15.5) (4)使用周期综合考虑 (5)其他具体详见招标文件及图纸，且满足相关施工、验收规范及技术要求 | D22: t | E22: 10 | F22: =G22+H22 -> 4723.2 | G22: 4200 | H22: 523.2 | I22: =ROUND(E22*F22,2) -> 47232
A23: 二 | B23: 支撑工程 | I23: =SUM(I24:I32) -> 62830588
A24: =IF(D24="","",COUNT($A$5:A23)+1) -> 18 | B24: 钢支撑 | C24: (1)钢结构规格：综合考虑 (2)钢结构牌号：Q355B (3)包括但不限于材料费（含各类连接件及损耗）、运输费、采保费、卸车费、施工费、钢结构构件场外运输费等 (4)不可回收 (5)其他:需满足设计图纸、相关规范、招标文件及其技术要求 | D24: t | E24: 10 | F24: =G24+H24 -> 4796 | G24: 3716.9 | H24: 1079.1 | I24: =ROUND(E24*F24,2) -> 47960
A25: =IF(D25="","",COUNT($A$5:A24)+1) -> 19 | B25: 钢支撑 | C25: (1)钢结构规格：综合考虑 (2)钢结构牌号：Q235B (3)包括但不限于材料费（含各类连接件及损耗）、运输费、采保费、卸车费、施工费、钢结构构件场外运输费等 (4)不可回收 (5)其他:需满足设计图纸、相关规范、招标文件及其技术要求 | D25: t | E25: 10 | F25: =G25+H25 -> 4621.1 | G25: 3542 | H25: 1079.1 | I25: =ROUND(E25*F25,2) -> 46211
A26: =IF(D26="","",COUNT($A$5:A25)+1) -> 20 | B26: C20混凝土垫层 | C26: (1)厚度:详见图纸要求 (2)混凝土标号：C20商品砼 (3)包括但不限于材料费（含损耗）、运输费、采保费、卸车费、混凝土浇筑等 (4)其他:需满足设计图纸、相关规范、招标文件及其技术要求 | D26: m3 | E26: 5572.07 | F26: =G26+H26 -> 416.81 | G26: 330.17 | H26: 86.64 | I26: =ROUND(E26*F26,2) -> 2322494.5 | J26: 可调差项
A27: =IF(D27="","",COUNT($A$5:A26)+1) -> 21 | B27: 混凝土模板 | C27: (1)模板类型：综合考虑 (2)含模板制作、安装及拆除 (3)部位：综合考虑 (4)其他:需满足设计图纸、相关规范、招标文件及其技术要求 | D27: m2 | E27: 53226.52 | F27: =G27+H27 -> 75 | G27: 30 | H27: 45 | I27: =ROUND(E27*F27,2) -> 3991989
A28: =IF(D28="","",COUNT($A$5:A27)+1) -> 22 | B28: 混凝土浇筑（挡土板、封板） | C28: (1)混凝土标号：C40商品砼 (2)包括但不限于材料费（含损耗）、运输费、采保费、卸车费、混凝土浇筑等 (3)其他:需满足设计图纸、相关规范、招标文件及其技术要求 | D28: m3 | E28: 10019.39 | F28: =G28+H28 -> 460.22 | G28: 373.58 | H28: 86.64 | I28: =ROUND(E28*F28,2) -> 4611123.7 | J28: 可调差项
A29: =IF(D29="","",COUNT($A$5:A28)+1) -> 23 | B29: 钢筋制安（挡土板、封板） | C29: (1)钢筋规格：综合考虑 (2)含钢筋接头、搭接方式、搭接长度综合考虑,含制作安装、起吊、焊接、安放 (3)不区分带E抗震钢筋,投标人自行综合考虑 (4)其他:需满足设计图纸、相关规范、招标文件及其技术要求 | D29: t | E29: 2417.929 | F29: =G29+H29 -> 4215.07 | G29: 3447 | H29: 768.07 | I29: =ROUND(E29*F29,2) -> 10191740 | J29: 可调差项
A30: =IF(D30="","",COUNT($A$5:A29)+1) -> 24 | B30: 混凝土浇筑（冠梁、腰梁、支撑梁） | C30: (1)截面尺寸:综合考虑 (2)混凝土标号：C40商品砼 (3)包括但不限于材料费（含损耗）、运输费、采保费、卸车费、混凝土浇筑等 (4)含施工界面凿毛处理，梁底施工措施等 (5)其他:需满足设计图纸、相关规范、招标文件及其技术要求 | D30: m3 | E30: 29941.82 | F30: =G30+H30 -> 460.22 | G30: 373.58 | H30: 86.64 | I30: =ROUND(E30*F30,2) -> 13779824 | J30: 可调差项
A31: =IF(D31="","",COUNT($A$5:A30)+1) -> 25 | B31: 钢筋制安（冠梁、腰梁、支撑梁） | C31: (1)钢筋规格：综合考虑 (2)含钢筋隔离保护套、钢筋接头、搭接方式、搭接长度综合考虑,含制作安装、起吊、焊接、安放 (3)不区分带E抗震钢筋,投标人自行综合考虑 (4)其他:需满足设计图纸、相关规范、招标文件及其技术要求 | D31: t | E31: 6475.01 | F31: =G31+H31 -> 4215.07 | G31: 3447 | H31: 768.07 | I31: =ROUND(E31*F31,2) -> 27292620 | J31: 可调差项
A32: =IF(D32="","",COUNT($A$5:A31)+1) -> 26 | B32: 植筋 | C32: (1)钢筋规格：HRB400，直径28mm (2)长度：综合考虑 (3)包括但不限于材料费（含损耗）、运输费、采保费、卸车费、施工费、封堵费、植筋胶等，在单价中综合考虑 (4)其他:需满足设计图纸、相关规范、招标文件及其技术要求 | D32: 根 | E32: 13424 | F32: =G32+H32 -> 40.72 | G32: 21.88 | H32: 18.84 | I32: =ROUND(E32*F32,2) -> 546625.28
A33: 三 | B33: 立柱桩工程 | I33: =SUM(I34:I40) -> 40357727
A34: =IF(D34="","",COUNT($A$5:A33)+1) -> 27 | B34: 立柱灌注桩-成孔 （桩径Φ1200） | C34: (1)地质条件:综合考虑，包括不限于遇孤石、飘石、夹层、淤泥、流沙、老旧基础（含桩基）等各类地质情况、不明障碍物、混凝土充盈系数的变化、引孔、塌孔、缩径、超打、偏位等所有风险和对上述风险进行处理而增加的所有费用 (2)成孔方式:综合考虑 (3)桩长:具体长度详见设计图纸 (4)桩径:1200mm (5)护壁方式:泥浆护壁或钢套筒自行考虑 (6)塌孔处理措施、二次钻孔（如有）、二次进出场、定位套筒（含加长钢套筒）、投标人综合考虑在综合单价中，不再另计 (7)其他应满足招标文件、设计、施工及验收等相关规范规定要求 (8)空桩计入本清单项 (9)计算规则（成孔深度）：顶标高按现场原始标高计算；底标高按图纸设计要求，结合地勘报告确定，现场小于设计要求的按现场计算，现场大于设计要求的按设计要求计算 (10)清除桩孔泥浆（含桩芯土）及外运、弃置（运距综合考虑） (11)空桩回填在综合单价中综合考虑，不单独计取（综合考虑回填材质及来源） (12)斜岩面所造成的施工降效、处理斜岩面的额外费用，在综合单价内综合考虑 (13)其他:需满足设计图纸、相关规范、招标文件及其技术要求 | D34: m | E34: 25144.2 | F34: =G34+H34 -> 542.82 | G34: 0 | H34: 542.82 | I34: =ROUND(E34*F34,2) -> 13648775
A35: =IF(D35="","",COUNT($A$5:A34)+1) -> 28 | B35: 立柱灌注桩-混凝土浇筑 | C35: (1)混凝土种类、强度等级:C30水下商品混凝土 （综合考虑各类添加剂，包含但不限于抗渗添加剂等其他添加剂） (2)灌注桩的工程量，按照桩长与桩径以m3计算 (3)规范要求损耗及充盈系数均含在综合单价之中，工程量不单独计取 (3)含相关工序及其所需辅材的购买及安装等内容 (4)混凝土输送泵及桩芯混凝土浇筑所需的设备，浇筑泵送费含在混凝土综合单价中（无论采用何种泵送方式价格不做调整） (5)注浆管加固：桩端注浆、桩侧注浆等在综合单价中综合考虑，不单独计取 (6)计算规则:清单工程量以设计桩径截面面积乘以桩长以体积计算，桩长按桩底标高至桩顶标高计算，桩底标高按满足设计最低终孔要求，桩顶标高按设计顶标高 (7)其他:需满足设计图纸、相关规范、招标文件及其技术要求 | D35: m3 | E35: 18485.43 | F35: =G35+H35 -> 423.34 | G35: 363.99 | H35: 59.35 | I35: =ROUND(E35*F35,2) -> 7825621.9 | J35: 可调差项
A36: =IF(D36="","",COUNT($A$5:A35)+1) -> 29 | B36: 钢管立柱内混凝土回填 | C36: (1)混凝土标号：C30商品砼 (2)包括但不限于材料费（含损耗）、运输费、采保费、卸车费、混凝土浇筑等 (3)其他:需满足设计图纸、相关规范、招标文件及其技术要求 | D36: m3 | E36: 1758 | F36: =G36+H36 -> 423.06 | G36: 348.99 | H36: 74.07 | I36: =ROUND(E36*F36,2) -> 743739.48 | J36: 可调差项
A37: =IF(D37="","",COUNT($A$5:A36)+1) -> 30 | B37: 立柱钢结构（一次性投入） | C37: (1)钢结构规格：综合考虑 (2)钢结构牌号：Q355B (3)包括但不限于材料费（含各类连接件及损耗）、运输费、采保费、卸车费、施工费、钢结构构件场外运输费等 (4)不可回收 (5)其他:需满足设计图纸、相关规范、招标文件及其技术要求 | D37: t | E37: 2838.81 | F37: =G37+H37 -> 4796 | G37: 3716.9 | H37: 1079.1 | I37: =ROUND(E37*F37,2) -> 13614933
A38: =IF(D38="","",COUNT($A$5:A37)+1) -> 31 | B38: 立柱钢结构（可周转） | C38: (1)钢结构规格：综合考虑 (2)钢结构牌号：Q355B (3)包括但不限于材料费（含各类连接件及损耗）、运输费、采保费、卸车费、施工费、钢结构构件场外运输费等 (4)综合考虑摊销、租赁、残值回收 (5)其他:需满足设计图纸、相关规范、招标文件及其技术要求 | D38: t | E38: 5 | F38: =G38+H38 -> 3680.93 | G38: 2601.83 | H38: 1079.1 | I38: =ROUND(E38*F38,2) -> 18404.65
A39: =IF(D39="","",COUNT($A$5:A38)+1) -> 32 | B39: 立柱钢结构（一次性投入） | C39: (1)钢结构规格：综合考虑 (2)钢结构牌号：Q235B (3)包括但不限于材料费（含各类连接件及损耗）、运输费、采保费、卸车费、施工费、钢结构构件场外运输费等 (4)不可回收 (5)其他:需满足设计图纸、相关规范、招标文件及其技术要求 | D39: t | E39: 5 | F39: =G39+H39 -> 4621.1 | G39: 3542 | H39: 1079.1 | I39: =ROUND(E39*F39,2) -> 23105.5
A40: =IF(D40="","",COUNT($A$5:A39)+1) -> 33 | B40: 钢筋笼制安 | C40: (1)钢筋种类、规格、连接方式:综合考虑 (2)无论采用预埋、植筋等方式，预埋、植筋及其它相应费用均考虑在综合单价中 (3)综合考虑钢筋与型钢的焊接，钢筋穿过型钢等费用 (4)钢筋隔离保护套、定位块，吊环、措施钢筋、施工搭接不单独计算，在综合单价中综合考虑 (5)含相关工序及其所需辅材的购买及安装等内容 (6)其他:需满足设计图纸、相关规范、招标文件及其技术要求 | D40: t | E40: 1063.6 | F40: =G40+H40 -> 4215.07 | G40: 3447 | H40: 768.07 | I40: =ROUND(E40*F40,2) -> 4483148.5 | J40: 可调差项
...

Sheet 表5-桩基工程清单
A1: 桩基工程 工程量清单明细表
A2: =[9]报价汇总表!A2 -> 工程名称：向南村城市更新单元项目地基与基础工程
A3: 序号 | B3: 项目名称 | C3: 项目特征 | D3: 计量单位 | E3: 工程量 | F3: 含税综合单价=主材费+施工费及其他费（元） | G3: 其中 | I3: 含税合价(元） | J3: 备注
G4: 含税主材费 | H4: 含税施工费及其他费
A5: 一 | B5: 预应力管桩工程 | I5: =SUM(I6:I13) -> 1946113
A6: 1 | B6: 预应力管桩（含试验桩） | C6: (1)类别:预应力高强混凝土管桩（混凝土强度等级不低于C80） (2)地质条件:综合考虑，包括不限于遇孤石、飘石、夹层、淤泥、流沙、老旧基础（含桩基）等各类地质情况、不明障碍物、混凝土充盈系数的变化、引孔、塌孔、缩径、超打、偏位等所有风险和对上述风险进行处理而增加的所有费用 (3)送桩深度:综合考虑 (4)桩外径、壁厚:PHC-500(120)AB (5)设计桩长:综合考虑,详设计图纸 (6)沉桩方法:综合考虑 (7)计算规则:清单工程量按有效桩长以米计算，有效桩长(不含桩尖)按桩底标高至设计桩顶标高（不含接桩部分现浇混凝土高度）计算，桩底标高按满足设计最低终孔要求 (8)包括吊桩定位、引孔、压桩、接桩、送桩、校正、防腐蚀及减负摩阻相关措施、清理场地等 (9)含截(凿)桩头、余渣(包括但不限于截凿、破碎的桩头等)清理外运及弃置等 (10)其他:需满足设计图纸、相关规范、招标文件及其技术要求 | D6: m | E6: 6325 | F6: =G6+H6 -> 238.86 | G6: 212.8 | H6: 26.06 | I6: =ROUND(E6*F6,2) -> 1510789.5
A7: 2 | B7: 预应力管桩（含试验桩）桩尖 | C7: (1)本工程选用十字型钢桩尖,具体参数见《先张法预应力混凝土管桩》23G409 P4-4 (2)其他:需满足设计图纸、相关规范、招标文件及其技术要求 | D7: t | E7: 9.97 | F7: =G7+H7 -> 7816.36 | G7: 7816.36 | H7: 0 | I7: =ROUND(E7*F7,2) -> 77929.11
A8: 3 | B8: 预应力管桩（含试验桩）钢筋 | C8: (1)钢筋种类、规格:综合考虑 (2)无论采用预埋、植筋等方式，预埋、植筋及其它相应费用均考虑在综合单价中 (3)综合考虑钢筋与型钢的焊接，钢筋穿过型钢等费用 (4)钢筋隔离保护套、定位块，吊环、措施钢筋、施工搭接不单独计算，在综合单价中综合考虑 (5)含相关工序及其所需辅材的购买及安装等内容 (6)其他:需满足设计图纸、相关规范、招标文件及其技术要求 | D8: t | E8: 41.91 | F8: =G8+H8 -> 4034.56 | G8: 3472 | H8: 562.56 | I8: =ROUND(E8*F8,2) -> 169088.41
A9: 4 | B9: 钢托板 | C9: (1)预埋件种类、规格:4mm厚圆钢板 (2)综合考虑埋设、焊接、固定等费用 (3)含相关工序及其所需辅材的购买及安装等内容 (4)其他:需满足设计图纸、相关规范、招标文件及其技术要求 | D9: t | E9: 0.39 | F9: =G9+H9 -> 4034.56 | G9: 3472 | H9: 562.56 | I9: =ROUND(E9*F9,2) -> 1573.48
A10: 5 | B10: 预应力管桩（含试验桩）接桩混凝土 | C10: (1)构件的类型:C35混凝土 (2)混凝土种类:商品混凝土 (3)混凝土强度等级：C35混凝土，填充密实 (4)综合考虑模板安拆等； (5)其他:需满足设计图纸、相关规范、招标文件及其技术要求 | D10: m3 | E10: 349.89 | F10: =G10+H10 -> 417.52 | G10: 368.82 | H10: 48.7 | I10: =ROUND(E10*F10,2) -> 146086.07 | J10: 可调差项
A11: 6 | B11: 预应力管桩（含试验桩）桩芯回填 | C11: (1)构件的类型:C35微膨胀混凝土填芯 (2)混凝土种类:商品混凝土 (3)混凝土强度等级：C35微膨胀混凝土，填充密实 (4)其他:需满足设计图纸、相关规范、招标文件及其技术要求 | D11: m3 | E11: 21.9 | F11: =G11+H11 -> 439.74 | G11: 391.04 | H11: 48.7 | I11: =ROUND(E11*F11,2) -> 9630.31 | J11: 可调差项
A12: 7 | B12: 预应力管桩（含试验桩）桩底回填 | C12: (1)构件的类型:C30微膨胀细石混凝土填芯 (2)混凝土种类:商品混凝土 (3)混凝土强度等级：C30微膨胀细石混凝土，填充密实 (4)其他:需满足设计图纸、相关规范、招标文件及其技术要求 | D12: m3 | E12: 29.2 | F12: =G12+H12 -> 435.12 | G12: 386.42 | H12: 48.7 | I12: =ROUND(E12*F12,2) -> 12705.5 | J12: 可调差项
A13: 8 | B13: 预应力管桩（含试验桩）空桩回填 | C13: (1)部位:空桩部分 (2)密实度要求:满足设计要求 (3)填方材料品种:素土 (4)填方来源、运距:自行考虑 (5)回填方式:满足设计及规范要求，综合考虑 (6)含相关工序及其所需辅材的购买及安装等内容 (7)其他:需满足设计图纸、相关规范、招标文件及其技术要求 | D13: m3 | E13: 1047.52 | F13: =G13+H13 -> 17.48 | G13: 0 | H13: 17.48 | I13: =ROUND(E13*F13,2) -> 18310.65
A14: 二 | B14: 灌注桩工程 | I14: =SUM(I15:I37) -> 1.9452543e+08
A15: 1 | B15: 旋挖灌注桩-成孔 （桩径800） | C15: (1)地质条件:综合考虑，包括不限于遇孤石、飘石、夹层、淤泥、流沙、老旧基础（含桩基）等各类地质情况、不明障碍物、混凝土充盈系数的变化、引孔、塌孔、缩径、超打、偏位等所有风险和对上述风险进行处理而增加的所有费用 (2)成孔方式:旋挖钻孔桩、综合考虑钻孔机械、入岩增加费另计 (3)桩长:具体长度详见设计图纸 (4)桩径:800mm (5)护壁方式:泥浆护壁或钢套筒自行考虑； (6)塌孔处理措施、二次钻孔（如有）、二次进出场、定位套筒（含加长钢套筒）、投标人综合考虑在综合单价中，不再另计 (7)其他应满足模拟文件、设计、施工及验收等相关规范规定要求 (8)空桩计入本清单项 (9)计算规则（成孔深度）：顶标高按现场原始标高计算；底标高按图纸设计要求，结合地勘报告确定，现场小于设计要求的按现场计算，现场大于设计要求的按设计要求计算 (10)清除桩孔泥浆（含桩芯土）及外运、弃置（运距综合考虑） (11)空桩回填在综合单价中综合考虑，不单独计取（综合考虑回填材质及来源） (12)斜岩面所造成的施工降效、处理斜岩面的额外费用，在综合单价内综合考虑 (13)其他:需满足设计图纸、相关规范、招标文件及其技术要求 | D15: m | E15: 10 | F15: =G15+H15 -> 247.4 | G15: 0 | H15: 247.4 | I15: =ROUND(E15*F15,2) -> 2474
A16: 2 | B16: 旋挖灌注桩-成孔 （桩径1000） | C16: (1)地质条件:综合考虑，包括不限于遇孤石、飘石、夹层、淤泥、流沙、老旧基础（含桩基）等各类地质情况、不明障碍物、混凝土充盈系数的变化、引孔、塌孔、缩径、超打、偏位等所有风险和对上述风险进行处理而增加的所有费用 (2)成孔方式:旋挖钻孔桩、综合考虑钻孔机械、入岩增加费另计 (3)桩长:具体长度详见设计图纸 (4)桩径:1000mm (5)护壁方式:泥浆护壁或钢套筒自行考虑； (6)塌孔处理措施、二次钻孔（如有）、二次进出场、定位套筒（含加长钢套筒）、投标人综合考虑在综合单价中，不再另计 (7)其他应满足模拟文件、设计、施工及验收等相关规范规定要求 (8)空桩计入本清单项 (9)计算规则（成孔深度）：顶标高按现场原始标高计算；底标高按图纸设计要求，结合地勘报告确定，现场小于设计要求的按现场计算，现场大于设计要求的按设计要求计算 (10)清除桩孔泥浆（含桩芯土）及外运、弃置（运距综合考虑） (11)空桩回填在综合单价中综合考虑，不单独计取（综合考虑回填材质及来源） (12)斜岩面所造成的施工降效、处理斜岩面的额外费用，在综合单价内综合考虑 (13)其他:需满足设计图纸、相关规范、招标文件及其技术要求 | D16: m | E16: 25271 | F16: =G16+H16 -> 309.25 | G16: 0 | H16: 309.25 | I16: =ROUND(E16*F16,2) -> 7815056.8
A17: 3 | B17: 旋挖灌注桩-成孔 （桩径1200） | C17: (1)地质条件:综合考虑，包括不限于遇孤石、飘石、夹层、淤泥、流沙、老旧基础（含桩基）等各类地质情况、不明障碍物、混凝土充盈系数的变化、引孔、塌孔、缩径、超打、偏位等所有风险和对上述风险进行处理而增加的所有费用 (2)成孔方式:旋挖钻孔桩、综合考虑钻孔机械、入岩增加费另计 (3)桩长:具体长度详见设计图纸 (4)桩径:1200mm (5)护壁方式:泥浆护壁或钢套筒自行考虑； (6)塌孔处理措施、二次钻孔（如有）、二次进出场、定位套筒（含加长钢套筒）、投标人综合考虑在综合单价中，不再另计 (7)其他应满足模拟文件、设计、施工及验收等相关规范规定要求 (8)空桩计入本清单项 (9)计算规则（成孔深度）：顶标高按现场原始标高计算；底标高按图纸设计要求，结合地勘报告确定，现场小于设计要求的按现场计算，现场大于设计要求的按设计要求计算 (10)清除桩孔泥浆（含桩芯土）及外运、弃置（运距综合考虑） (11)空桩回填在综合单价中综合考虑，不单独计取（综合考虑回填材质及来源） (12)斜岩面所造成的施工降效、处理斜岩面的额外费用，在综合单价内综合考虑 (13)其他:需满足设计图纸、相关规范、招标文件及其技术要求 | D17: m | E17: 91277.4 | F17: =G17+H17 -> 391.4 | G17: 0 | H17: 391.4 | I17: =ROUND(E17*F17,2) -> 35725974
A18: 4 | B18: 旋挖灌注桩-成孔 （桩径1400） | C18: (1)地质条件:综合考虑，包括不限于遇孤石、飘石、夹层、淤泥、流沙、老旧基础（含桩基）等各类地质情况、不明障碍物、混凝土充盈系数的变化、引孔、塌孔、缩径、超打、偏位等所有风险和对上述风险进行处理而增加的所有费用 (2)成孔方式:旋挖钻孔桩、综合考虑钻孔机械、入岩增加费另计 (3)桩长:具体长度详见设计图纸 (4)桩径:1400mm (5)护壁方式:泥浆护壁或钢套筒自行考虑； (6)塌孔处理措施、二次钻孔（如有）、二次进出场、定位套筒（含加长钢套筒）、投标人综合考虑在综合单价中，不再另计 (7)其他应满足模拟文件、设计、施工及验收等相关规范规定要求 (8)空桩计入本清单项 (9)计算规则（成孔深度）：顶标高按现场原始标高计算；底标高按图纸设计要求，结合地勘报告确定，现场小于设计要求的按现场计算，现场大于设计要求的按设计要求计算 (10)清除桩孔泥浆（含桩芯土）及外运、弃置（运距综合考虑） (11)空桩回填在综合单价中综合考虑，不单独计取（综合考虑回填材质及来源） (12)斜岩面所造成的施工降效、处理斜岩面的额外费用，在综合单价内综合考虑 (13)其他:需满足设计图纸、相关规范、招标文件及其技术要求 | D18: m | E18: 10313.2 | F18: =G18+H18 -> 483.45 | G18: 0 | H18: 483.45 | I18: =ROUND(E18*F18,2) -> 4985916.5
A19: 5 | B19: 旋挖灌注桩-成孔 （桩径1600） | C19: (1)地质条件:综合考虑，包括不限于遇孤石、飘石、夹层、淤泥、流沙、老旧基础（含桩基）等各类地质情况、不明障碍物、混凝土充盈系数的变化、引孔、塌孔、缩径、超打、偏位等所有风险和对上述风险进行处理而增加的所有费用 (2)成孔方式:旋挖钻孔桩、综合考虑钻孔机械、入岩增加费另计 (3)桩长:具体长度详见设计图纸 (4)桩径:1600mm (5)护壁方式:泥浆护壁或钢套筒自行考虑； (6)塌孔处理措施、二次钻孔（如有）、二次进出场、定位套筒（含加长钢套筒）、投标人综合考虑在综合单价中，不再另计 (7)其他应满足模拟文件、设计、施工及验收等相关规范规定要求 (8)空桩计入本清单项 (9)计算规则（成孔深度）：顶标高按现场原始标高计算；底标高按图纸设计要求，结合地勘报告确定，现场小于设计要求的按现场计算，现场大于设计要求的按设计要求计算 (10)清除桩孔泥浆（含桩芯土）及外运、弃置（运距综合考虑） (11)空桩回填在综合单价中综合考虑，不单独计取（综合考虑回填材质及来源） (12)斜岩面所造成的施工降效、处理斜岩面的额外费用，在综合单价内综合考虑 (13)其他:需满足设计图纸、相关规范、招标文件及其技术要求 | D19: m | E19: 2272.4 | F19: =G19+H19 -> 651.51 | G19: 0 | H19: 651.51 | I19: =ROUND(E19*F19,2) -> 1480491.3
A20: 6 | B20: 旋挖灌注桩-成孔 （桩径1800） | C20: (1)地质条件:综合考虑，包括不限于遇孤石、飘石、夹层、淤泥、流沙、老旧基础（含桩基）等各类地质情况、不明障碍物、混凝土充盈系数的变化、引孔、塌孔、缩径、超打、偏位等所有风险和对上述风险进行处理而增加的所有费用 (2)成孔方式:旋挖钻孔桩、综合考虑钻孔机械、入岩增加费另计 (3)桩长:具体长度详见设计图纸 (4)桩径:1800mm (5)护壁方式:泥浆护壁或钢套筒自行考虑； (6)塌孔处理措施、二次钻孔（如有）、二次进出场、定位套筒（含加长钢套筒）、投标人综合考虑在综合单价中，不再另计 (7)其他应满足模拟文件、设计、施工及验收等相关规范规定要求 (8)空桩计入本清单项 (9)计算规则（成孔深度）：顶标高按现场原始标高计算；底标高按图纸设计要求，结合地勘报告确定，现场小于设计要求的按现场计算，现场大于设计要求的按设计要求计算 (10)清除桩孔泥浆（含桩芯土）及外运、弃置（运距综合考虑） (11)空桩回填在综合单价中综合考虑，不单独计取（综合考虑回填材质及来源） (12)斜岩面所造成的施工降效、处理斜岩面的额外费用，在综合单价内综合考虑 (13)其他:需满足设计图纸、相关规范、招标文件及其技术要求 | D20: m | E20: 2185 | F20: =G20+H20 -> 753.33 | G20: 0 | H20: 753.33 | I20: =ROUND(E20*F20,2) -> 1646026.1
A21: 7 | B21: 旋挖灌注桩-成孔 （桩径2000） | C21: (1)地质条件:综合考虑，包括不限于遇孤石、飘石、夹层、淤泥、流沙、老旧基础（含桩基）等各类地质情况、不明障碍物、混凝土充盈系数的变化、引孔、塌孔、缩径、超打、偏位等所有风险和对上述风险进行处理而增加的所有费用 (2)成孔方式:旋挖钻孔桩、综合考虑钻孔机械、入岩增加费另计 (3)桩长:具体长度详见设计图纸 (4)桩径:2000mm (5)护壁方式:泥浆护壁或钢套筒自行考虑； (6)塌孔处理措施、二次钻孔（如有）、二次进出场、定位套筒（含加长钢套筒）、投标人综合考虑在综合单价中，不再另计 (7)其他应满足模拟文件、设计、施工及验收等相关规范规定要求 (8)空桩计入本清单项 (9)计算规则（成孔深度）：顶标高按现场原始标高计算；底标高按图纸设计要求，结合地勘报告确定，现场小于设计要求的按现场计算，现场大于设计要求的按设计要求计算 (10)清除桩孔泥浆（含桩芯土）及外运、弃置（运距综合考虑） (11)空桩回填在综合单价中综合考虑，不单独计取（综合考虑回填材质及来源） (12)斜岩面所造成的施工降效、处理斜岩面的额外费用，在综合单价内综合考虑 (13)其他:需满足设计图纸、相关规范、招标文件及其技术要求 | D21: m | E21: 10 | F21: =G21+H21 -> 885.42 | G21: 0 | H21: 885.42 | I21: =ROUND(E21*F21,2) -> 8854.2
A22: 8 | B22: 旋挖灌注桩-成孔 （桩径2200） | C22: (1)地质条件:综合考虑，包括不限于遇孤石、飘石、夹层、淤泥、流沙、老旧基础（含桩基）等各类地质情况、不明障碍物、混凝土充盈系数的变化、引孔、塌孔、缩径、超打、偏位等所有风险和对上述风险进行处理而增加的所有费用 (2)成孔方式:旋挖钻孔桩、综合考虑钻孔机械、入岩增加费另计 (3)桩长:具体长度详见设计图纸 (4)桩径:2200mm (5)护壁方式:泥浆护壁或钢套筒自行考虑； (6)塌孔处理措施、二次钻孔（如有）、二次进出场、定位套筒（含加长钢套筒）、投标人综合考虑在综合单价中，不再另计 (7)其他应满足模拟文件、设计、施工及验收等相关规范规定要求 (8)空桩计入本清单项 (9)计算规则（成孔深度）：顶标高按现场原始标高计算；底标高按图纸设计要求，结合地勘报告确定，现场小于设计要求的按现场计算，现场大于设计要求的按设计要求计算 (10)清除桩孔泥浆（含桩芯土）及外运、弃置（运距综合考虑） (11)空桩回填在综合单价中综合考虑，不单独计取（综合考虑回填材质及来源） (12)斜岩面所造成的施工降效、处理斜岩面的额外费用，在综合单价内综合考虑 (13)其他:需满足设计图纸、相关规范、招标文件及其技术要求 | D22: m | E22: 10 | F22: =G22+H22 -> 1028.93 | G22: 0 | H22: 1028.93 | I22: =ROUND(E22*F22,2) -> 10289.3
A23: 9 | B23: 旋挖灌注桩-成孔 （桩径2400） | C23: (1)地质条件:综合考虑，包括不限于遇孤石、飘石、夹层、淤泥、流沙、老旧基础（含桩基）等各类地质情况、不明障碍物、混凝土充盈系数的变化、引孔、塌孔、缩径、超打、偏位等所有风险和对上述风险进行处理而增加的所有费用 (2)成孔方式:旋挖钻孔桩、综合考虑钻孔机械、入岩增加费另计 (3)桩长:具体长度详见设计图纸 (4)桩径:2400mm (5)护壁方式:泥浆护壁或钢套筒自行考虑； (6)塌孔处理措施、二次钻孔（如有）、二次进出场、定位套筒（含加长钢套筒）、投标人综合考虑在综合单价中，不再另计 (7)其他应满足模拟文件、设计、施工及验收等相关规范规定要求 (8)空桩计入本清单项 (9)计算规则（成孔深度）：顶标高按现场原始标高计算；底标高按图纸设计要求，结合地勘报告确定，现场小于设计要求的按现场计算，现场大于设计要求的按设计要求计算 (10)清除桩孔泥浆（含桩芯土）及外运、弃置（运距综合考虑） (11)空桩回填在综合单价中综合考虑，不单独计取（综合考虑回填材质及来源） (12)斜岩面所造成的施工降效、处理斜岩面的额外费用，在综合单价内综合考虑 (13)其他:需满足设计图纸、相关规范、招标文件及其技术要求 | D23: m | E23: 365.6 | F23: =G23+H23 -> 1151.72 | G23: 0 | H23: 1151.72 | I23: =ROUND(E23*F23,2) -> 421068.83
A24: 10 | B24: 旋挖灌注桩-成孔 （桩径2600） | C24: (1)地质条件:综合考虑，包括不限于遇孤石、飘石、夹层、淤泥、流沙、老旧基础（含桩基）等各类地质情况、不明障碍物、混凝土充盈系数的变化、引孔、塌孔、缩径、超打、偏位等所有风险和对上述风险进行处理而增加的所有费用 (2)成孔方式:旋挖钻孔桩、综合考虑钻孔机械、入岩增加费另计 (3)桩长:具体长度详见设计图纸 (4)桩径:2600mm (5)护壁方式:泥浆护壁或钢套筒自行考虑； (6)塌孔处理措施、二次钻孔（如有）、二次进出场、定位套筒（含加长钢套筒）、投标人综合考虑在综合单价中，不再另计 (7)其他应满足模拟文件、设计、施工及验收等相关规范规定要求 (8)空桩计入本清单项 (9)计算规则（成孔深度）：顶标高按现场原始标高计算；底标高按图纸设计要求，结合地勘报告确定，现场小于设计要求的按现场计算，现场大于设计要求的按设计要求计算 (10)清除桩孔泥浆（含桩芯土）及外运、弃置（运距综合考虑） (11)空桩回填在综合单价中综合考虑，不单独计取（综合考虑回填材质及来源） (12)斜岩面所造成的施工降效、处理斜岩面的额外费用，在综合单价内综合考虑 (13)其他:需满足设计图纸、相关规范、招标文件及其技术要求 | D24: m | E24: 365.6 | F24: =G24+H24 -> 1293.44 | G24: 0 | H24: 1293.44 | I24: =ROUND(E24*F24,2) -> 472881.66
A25: 11 | B25: 旋挖灌注桩-成孔 （桩径2800） | C25: (1)地质条件:综合考虑，包括不限于遇孤石、飘石、夹层、淤泥、流沙、老旧基础（含桩基）等各类地质情况、不明障碍物、混凝土充盈系数的变化、引孔、塌孔、缩径、超打、偏位等所有风险和对上述风险进行处理而增加的所有费用 (2)成孔方式:旋挖钻孔桩、综合考虑钻孔机械、入岩增加费另计 (3)桩长:具体长度详见设计图纸 (4)桩径:2800mm (5)护壁方式:泥浆护壁或钢套筒自行考虑； (6)塌孔处理措施、二次钻孔（如有）、二次进出场、定位套筒（含加长钢套筒）、投标人综合考虑在综合单价中，不再另计 (7)其他应满足模拟文件、设计、施工及验收等相关规范规定要求 (8)空桩计入本清单项 (9)计算规则（成孔深度）：顶标高按现场原始标高计算；底标高按图纸设计要求，结合地勘报告确定，现场小于设计要求的按现场计算，现场大于设计要求的按设计要求计算 (10)清除桩孔泥浆（含桩芯土）及外运、弃置（运距综合考虑） (11)空桩回填在综合单价中综合考虑，不单独计取（综合考虑回填材质及来源） (12)斜岩面所造成的施工降效、处理斜岩面的额外费用，在综合单价内综合考虑 (13)其他:需满足设计图纸、相关规范、招标文件及其技术要求 | D25: m | E25: 1005.4 | F25: =G25+H25 -> 1474.94 | G25: 0 | H25: 1474.94 | I25: =ROUND(E25*F25,2) -> 1482904.7
A26: 12 | B26: 旋挖灌注桩-成孔 （桩径3000） | C26: (1)地质条件:综合考虑，包括不限于遇孤石、飘石、夹层、淤泥、流沙、老旧基础（含桩基）等各类地质情况、不明障碍物、混凝土充盈系数的变化、引孔、塌孔、缩径、超打、偏位等所有风险和对上述风险进行处理而增加的所有费用 (2)成孔方式:旋挖钻孔桩、综合考虑钻孔机械、入岩增加费另计 (3)桩长:具体长度详见设计图纸 (4)桩径:3000mm (5)护壁方式:泥浆护壁或钢套筒自行考虑； (6)塌孔处理措施、二次钻孔（如有）、二次进出场、定位套筒（含加长钢套筒）、投标人综合考虑在综合单价中，不再另计 (7)其他应满足模拟文件、设计、施工及验收等相关规范规定要求 (8)空桩计入本清单项 (9)计算规则（成孔深度）：顶标高按现场原始标高计算；底标高按图纸设计要求，结合地勘报告确定，现场小于设计要求的按现场计算，现场大于设计要求的按设计要求计算 (10)清除桩孔泥浆（含桩芯土）及外运、弃置（运距综合考虑） (11)空桩回填在综合单价中综合考虑，不单独计取（综合考虑回填材质及来源） (12)斜岩面所造成的施工降效、处理斜岩面的额外费用，在综合单价内综合考虑 (13)其他:需满足设计图纸、相关规范、招标文件及其技术要求 | D26: m | E26: 731.2 | F26: =G26+H26 -> 1655.45 | G26: 0 | H26: 1655.45 | I26: =ROUND(E26*F26,2) -> 1210465
... A30: 16 | B30: 入岩增加费（微风化） | C30: (1)入岩深度和机械综合考虑（设计要求的入岩为按照低点入岩(即全断面入岩)）； (2)工程量计算规则：按桩基截面面积*入岩深度（强度在微风化及以上岩层计入岩深度）； (3)入岩深度：结合地勘报告确定，入岩深度现场小于设计要求的按现场计算，现场大于设计要求的按设计要求计算 (4)其他:需满足设计图纸、相关规范、招标文件及其技术要求 | D30: m3 | E30: 10 | F30: =G30+H30 -> 2012.04 | G30: 0 | H30: 2012.04 | I30: =ROUND(E30*F30,2) -> 20120.4
A31: 17 | B31: 桩芯砼浇筑（主材C40水下混凝土） | C31: (1)混凝土种类、强度等级:C40水下混凝土 （综合考虑各类添加剂，包含但不限于抗渗添加剂等其他添加剂） (2)灌注桩的工程量，按照桩长与桩径以m3计算 (3)规范要求损耗及充盈系数均含在综合单价之中，工程量不单独计取 (3)含相关工序及其所需辅材的购买及安装等内容 (4)混凝土输送泵及桩芯混凝土浇筑所需的设备，含塔吊浇筑，浇筑泵送费含在混凝土综合单价中（无论采用何种泵送方式价格不做调整） (5)注浆管加固：桩端注浆、桩侧注浆等在综合单价中综合考虑，不单独计取 (6)桩长计算规则（浇筑深度）：底标高按图纸设计要求，结合地勘报告确定，现场小于设计要求的按现场计算，现场大于设计要求的按设计要求计算 (7)桩头超灌按800mm计量，现场大于800mm的按800mm计算，小于800mm的按现场计算（大于800mm的超灌在综合单价内综合考虑） (8)其他:需满足设计图纸、相关规范、招标文件及其技术要求 | D31: m3 | E31: 114210.77 | F31: =G31+H31 -> 452.76 | G31: 392.84 | H31: 59.92 | I31: =ROUND(E31*F31,2) -> 51710068 | J31: 可调差项
A32: 18 | B32: 桩芯砼浇筑（主材C45水下混凝土） | C32: (1)混凝土种类、强度等级:C45水下混凝土 （综合考虑各类添加剂，包含但不限于抗渗添加剂等其他添加剂） (2)灌注桩的工程量，按照桩长与桩径以m3计算 (3)规范要求损耗及充盈系数均含在综合单价之中，工程量不单独计取 (3)含相关工序及其所需辅材的购买及安装等内容 (4)混凝土输送泵及桩芯混凝土浇筑所需的设备，含塔吊浇筑，浇筑泵送费含在混凝土综合单价中（无论采用何种泵送方式价格不做调整） (5)注浆管加固：桩端注浆、桩侧注浆等在综合单价中综合考虑，不单独计取 (6)桩长计算规则（浇筑深度）：底标高按图纸设计要求，结合地勘报告确定，现场小于设计要求的按现场计算，现场大于设计要求的按设计要求计算 (7)桩头超灌按800mm计量，现场大于800mm的按800mm计算，小于800mm的按现场计算（大于800mm的超灌在综合单价内综合考虑） (8)其他:需满足设计图纸、相关规范、招标文件及其技术要求 | D32: m3 | E32: 24034.92 | F32: =G32+H32 -> 461.9 | G32: 401.98 | H32: 59.92 | I32: =ROUND(E32*F32,2) -> 11101730 | J32: 可调差项
A33: 19 | B33: 混凝土每增减一个标号 | C33: (1)混凝土强度等级每增减一个标号费用 (2)其他:需满足设计图纸、相关规范、招标文件及其技术要求 | D33: m3 | E33: 1 | F33: =G33+H33 -> 9.14 | G33: 9.14 | H33: 0 | I33: =ROUND(E33*F33,2) -> 9.14
A34: 20 | B34: 钢筋笼制安费用 | C34: (1)钢筋种类、规格、连接方式:综合考虑 (2)无论采用预埋、植筋等方式，预埋、植筋及其它相应费用均考虑在综合单价中 (3)综合考虑钢筋与型钢的焊接，钢筋穿过型钢等费用 (4)钢筋隔离保护套、定位块，吊环、措施钢筋、施工搭接不单独计算，在综合单价中综合考虑 (5)含相关工序及其所需辅材的购买及安装等内容 (6)其他:需满足设计图纸、相关规范、招标文件及其技术要求 | D34: t | E34: 13331.72 | F34: =G34+H34 -> 4139.51 | G34: 3561 | H34: 578.51 | I34: =ROUND(E34*F34,2) -> 55186788 | J34: 可调差项
A35: 21 | B35: 声测管 | C35: (1)声测管埋设 (2)规格型号、材质：综合考虑，详见设计图纸 (3)具体以满足图纸及相关技术要求为准 (4)按设计有效桩长*根数计算，不计算超灌、空桩长度 (5)其他:需满足设计图纸、相关规范、招标文件及其技术要求 | D35: m | E35: 312595 | F35: =G35+H35 -> 13.48 | G35: 13.48 | H35: 0 | I35: =ROUND(E35*F35,2) -> 4213780.6
A36: 22 | B36: 界面管 | C36: (1)界面管埋设 (2)规格型号、材质：综合考虑，详见设计图纸 (3)具体以满足图纸及相关技术要求为准 (4)按设计有效桩长*根数计算，不计算超灌、空桩长度 (5)其他:需满足设计图纸、相关规范、招标文件及其技术要求 | D36: m | E36: 52034.5 | F36: =G36+H36 -> 101.37 | G36: 101.37 | H36: 0 | I36: =ROUND(E36*F36,2) -> 5274737.3
A37: 23 | B37: 截（凿）桩头 | C37: (1)桩类型:灌注桩 (2)桩头截面、高度:综合考虑 (3)清单工程量只计算超灌800mm高桩头凿除，现场大于800mm的按800mm计算，小于800mm的按现场计算（超出800mm高桩头凿除在综合单价内综合考虑，不单独计取） (4)工程量按设计截面尺寸*设计超灌高度(800mm)计算 (5)截（凿）桩头及瓦砾的清理外运(运距综合考虑)，外露钢筋的清理、调直等处理费用在综合单价内综合考虑，不单独计取 (6)其他:需满足设计图纸、相关规范、招标文件及其技术要求 | D37: m3 | E37: 1764.09 | F37: =G37+H37 -> 368.39 | G37: 0 | H37: 368.39 | I37: =ROUND(E37*F37,2) -> 649873.12
B38: 含税合计 | I38: =I14+I5 -> 1.9647154e+08

Sheet WpsReserved_CellImgList
