Workbook

Sheet Sheet1
A1: 序号 | B1: 物资编码 | C1: 名称及规格型号 | D1: 材质 | E1: 重量(kg) | F1: 回收单价(元/kg) | G1: 回收价值(元)
A2: 1 | B2: 232600300001999 | C2: 手轮密封圈 | D2: 橡胶 | E2: 0.03 | F2: 0.5 | G2: 0.02 | H2: =G2*'3-9-2原材料-报废'!C3 -> 0.16
A3: 2 | B3: 080509800000142 | C3: O型环 | D3: 橡胶 | E3: 0.02 | F3: 0.5 | G3: 0.01 | H3: =G3*'3-9-2原材料-报废'!C4 -> 0.02
A4: 3 | B4: 080509800000145 | C4: O型环 | D4: 橡胶 | E4: 0.02 | F4: 0.5 | G4: 0.01 | H4: =G4*'3-9-2原材料-报废'!#REF! -> #REF!
A5: 4 | B5: 080509800000146 | C5: O型环 | D5: 橡胶 | E5: 0.02 | F5: 0.5 | G5: 0.01 | H5: =G5*'3-9-2原材料-报废'!#REF! -> #REF!
A6: 5 | B6: 230800200002404 | C6: O型密封圈 | D6: 橡胶 | E6: 0.02 | F6: 0.5 | G6: 0.01 | H6: =G6*'3-9-2原材料-报废'!#REF! -> #REF!
A7: 6 | B7: 230800200001532 | C7: O型密封圈 | D7: 橡胶 | E7: 0.02 | F7: 0.5 | G7: 0.01 | H7: =G7*'3-9-2原材料-报废'!#REF! -> #REF!
A8: 7 | B8: 230800200002376 | C8: O型密封圈 | D8: 橡胶 | E8: 0.02 | F8: 0.5 | G8: 0.01 | H8: =G8*'3-9-2原材料-报废'!#REF! -> #REF!
A9: 8 | B9: 230800200001530 | C9: O型密封圈 | D9: 橡胶 | E9: 0.02 | F9: 0.5 | G9: 0.01 | H9: =G9*'3-9-2原材料-报废'!#REF! -> #REF!
A10: 9 | B10: 230800200001533 | C10: O型密封圈 | D10: 橡胶 | E10: 0.02 | F10: 0.5 | G10: 0.01 | H10: =G10*'3-9-2原材料-报废'!#REF! -> #REF!
A11: 10 | B11: 230800200005006 | C11: O型密封圈 | D11: 橡胶 | E11: 0.02 | F11: 0.5 | G11: 0.01 | H11: =G11*'3-9-2原材料-报废'!#REF! -> #REF!
A12: 11 | B12: 230800200001534 | C12: O型密封圈 | D12: 橡胶 | E12: 0.02 | F12: 0.5 | G12: 0.01 | H12: =G12*'3-9-2原材料-报废'!#REF! -> #REF!
A13: 12 | B13: 230800200005032 | C13: O型密封圈 | D13: 橡胶 | E13: 0.02 | F13: 0.5 | G13: 0.01 | H13: =G13*'3-9-2原材料-报废'!#REF! -> #REF!
A14: 13 | B14: 230800200000975 | C14: O型密封圈 | D14: 橡胶 | E14: 0.02 | F14: 0.5 | G14: 0.01 | H14: =G14*'3-9-2原材料-报废'!#REF! -> #REF!
A15: 14 | B15: 230800200001136 | C15: O型密封圈 | D15: 橡胶 | E15: 0.02 | F15: 0.5 | G15: 0.01 | H15: =G15*'3-9-2原材料-报废'!#REF! -> #REF!
... A2148: 2147 | B2148: 100901900000101 | C2148: 转换开关,LW38D 20A 500V | D2148: 混合金属 | E2148: 0.05 | F2148: 8 | G2148: 0.4 | H2148: =G2148*'3-9-2原材料-报废'!#REF! -> #REF!

Sheet 填表说明
A1: 资产评估申报表填表说明
A3: 一、基本要求
A4: （一）填表范围：
A5: 纳入评估范围的资产要保证与评估基准日被评估单位的资产负债表（或模拟资产负债表）完全一致，即填表完成后，自动生成的资产评估分类汇总表（表2）账面值一栏与资产负债表（或模拟资产负债表）一致，且应与提供给审计师的账面值一致。
A6: （二）“评估基准日”与“被评估单位名称”，统一填于“申报表封面” 中，各明细表会自动生成。被评估单位名称要与该单位的营业执照所列明的名称完全一致，并在每页明细表左上角“被评估单位”处加盖被评估单位公章。
A7: （三）对于企业财务核算中没有的会计科目不必填写相应的明细表。
A8: （四） 对于申报明细表中“账面值”一栏（含本栏）左方所有空白栏以及需要填写的备注栏请企业填写齐全。但对于该类资产不适用的参数栏可不必填写。
A9: （五）明细表中填列金额单位为“人民币元”，精确到小数点后两位。
A10: （六）明细表中日期根据要求填至月（如建成年月）或日（如出票日期），填写日期格式为“2001-05”（不能写为2001.5）或 “2001-05-02”（不能填为2001.5.2）。
A11: （七）未指明月利率之处应指年利率，计量单位为“%”。若原始资料中为月利率或日利率，则换算为年利率。
A12: （八）明细表与各汇总表之间的数据已建立链接关系，汇总表中不应直接录入数据，但汇总表中已涂蓝色的各项减值准备应按实际填入。
A13: （九）每一张明细表内容不能满足填写要求时，可在电子表中间直接插入行。不能在第一行和合计行插入行。
... A21: 2、申报数据依照母公司报表填写，而不是合并报表；对于需用成本法评估的长期投资，应单独填列全套评估申报表。

Sheet 索引
A1: 资产评估明细表索引
A2: 产权持有单位： | B2: 国家石油天然气管网集团有限公司西北分公司
A3: 评估基准日： | B3: 2026年7月31日
A4: 企业负责人： | B4: 肖德刚 | C4: 财务负责人： | D4: 孟志强
A5: 企业填表人： | B5: 罗瑞 | C5: 填表日期： | D5: 2026年8月5日
A6: 索引号 | B6: 资产评估明细表名称 | C6: 适用与否 | D6: 评估人员 | E6: 评估人员
A7: 1 | B7: 资产评估结果汇总表 | C7: =IF(D7=0,"×","√") -> √ | D7: 高晓宇 | E7: 王海龙
A8: 2 | B8: 资产评估结果分类汇总表 | C8: =IF(D8=0,"×","√") -> √ | D8: 高晓宇 | E8: 王海龙
A9: 3 | B9: 流动资产评估汇总表 | C9: =IF(D9=0,"×","√") -> √ | D9: 高晓宇 | E9: 王海龙
A10: 3-1 | B10: 货币资金评估汇总表 | C10: =IF(D10=0,"×","√") -> √ | D10: 高晓宇 | E10: 王海龙
A11: 3-1-1 | B11: 货币资金—现金评估明细表 | C11: =IF(D11=0,"×","√") -> √ | D11: 高晓宇 | E11: 王海龙
A12: 3-1-2 | B12: 货币资金—银行存款评估明细表 | C12: =IF(D12=0,"×","√") -> √ | D12: 高晓宇 | E12: 王海龙
A13: 3-1-3 | B13: 货币资金—其他货币资金评估明细表 | C13: =IF(D13=0,"×","√") -> √ | D13: 高晓宇 | E13: 王海龙
A14: 3-2 | B14: 交易性金融资产评估汇总表 | C14: =IF(D14=0,"×","√") -> √ | D14: 高晓宇 | E14: 王海龙
A15: 3-2-1 | B15: 交易性金融资产—股票投资评估明细表 | C15: =IF(D15=0,"×","√") -> √ | D15: 高晓宇 | E15: 王海龙
A16: 3-2-2 | B16: 交易性金融资产-债券投资评估明细表 | C16: =IF(D16=0,"×","√") -> √ | D16: 高晓宇 | E16: 王海龙
A17: 3-2-3 | B17: 交易性金融资产-基金投资评估明细表 | C17: =IF(D17=0,"×","√") -> √ | D17: 高晓宇 | E17: 王海龙
A18: 3-3 | B18: 衍生金融资产评估明细表 | C18: =IF(D18=0,"×","√") -> √ | D18: 高晓宇 | E18: 王海龙
A19: 3-4 | B19: 应收票据评估明细表 | C19: =IF(D19=0,"×","√") -> √ | D19: 高晓宇 | E19: 王海龙
A20: 3-5 | B20: 应收账款评估明细表 | C20: =IF(D20=0,"×","√") -> √ | D20: 高晓宇 | E20: 王海龙
A21: 3-6 | B21: 应收款项融资评估明细表 | C21: =IF(D21=0,"×","√") -> √ | D21: 高晓宇 | E21: 王海龙
... A116: 6-9 | B116: 其他非流动负债评估明细表 | C116: =IF(D116=0,"×","√") -> √ | D116: 高晓宇 | E116: 王海龙
A118: 注：适用√，不适用×。

Sheet 资产负债表（不打印）
A1: 资 产 负 债 表 .
A2: =#REF! -> #REF!
A3: =#REF! -> #REF! | H3: 金额单位：人民币元
A4: 序号 | B4: 资 产 | C4: 年初数 | D4: 期末数 | E4: 序号 | F4: 负债和所有者权益 （或股东权益） | G4: 年初数 | H4: 期末数
A5: 1 | B5: 流动资产： | E5: 37 | F5: 流动负债：
A6: =A5+1 -> 2 | B6: 货币资金 | E6: =E5+1 -> 38 | F6: 短期借款
A7: =A6+1 -> 3 | B7: 交易性金融资产 | E7: =E6+1 -> 39 | F7: 交易性金融负债
A8: =A7+1 -> 4 | B8: 衍生金融资产 | E8: =E7+1 -> 40 | F8: 衍生金融负债
A9: =A8+1 -> 5 | B9: 应收票据 | E9: =E8+1 -> 41 | F9: 应付票据
A10: =A9+1 -> 6 | B10: 应收账款 | E10: =E9+1 -> 42 | F10: 应付账款
A11: =A10+1 -> 7 | B11: 应收款项融资 | E11: =E10+1 -> 43 | F11: 预收款项
A12: =A11+1 -> 8 | B12: 预付款项 | E12: =E11+1 -> 44 | F12: 合同负债
A13: =A12+1 -> 9 | B13: 其他应收款 | E13: =E12+1 -> 45 | F13: 应付职工薪酬
A14: 9-1 | B14: 其中：应收利息 | E14: =E13+1 -> 46 | F14: 应交税费
A15: 9-2 | B15: 应收股利 | E15: =E14+1 -> 47 | F15: 其他应付款
A16: 10 | B16: 存货 | E16: 47-1 | F16: 其中：应付利息
A17: =A16+1 -> 11 | B17: 合同资产 | E17: 47-2 | F17: 应付股利
A18: =A17+1 -> 12 | B18: 持有待售资产 | E18: =E15+1 -> 48 | F18: 持有待售负债
A19: =A18+1 -> 13 | B19: 一年内到期的非流动资产 | E19: =E18+1 -> 49 | F19: 一年内到期的非流动负债
A20: =A19+1 -> 14 | B20: 其他流动资产 | E20: =E19+1 -> 50 | F20: 其他流动负债
A21: =A20+1 -> 15 | B21: 流动资产合计 | C21: =SUM(C6:C20)-C14-C15 -> 0 | D21: =SUM(D6:D20)-D14-D15 -> 0 | E21: =E20+1 -> 51 | F21: 流动负债合计 | G21: =SUM(G6:G20)-G16-G17 -> 0 | H21: =SUM(H6+H7+H8+H9+H10+H11+H12+H13+H14+H15+H18+H19+H20) -> 0
A22: =A21+1 -> 16 | B22: 非流动资产： | E22: =E21+1 -> 52 | F22: 非流动负债：
A23: =A22+1 -> 17 | B23: 债权投资 | E23: =E22+1 -> 53 | F23: 长期借款
A24: =A23+1 -> 18 | B24: 其他债权投资 | E24: =E23+1 -> 54 | F24: 应付债券
A25: =A24+1 -> 19 | B25: 长期应收款 | E25: 54-1 | F25: 其中：优先股
A26: =A25+1 -> 20 | B26: 长期股权投资 | E26: 54-2 | F26: 永续债
A27: =A26+1 -> 21 | B27: 其他权益工具投资 | E27: =E24+1 -> 55 | F27: 租赁负债
A28: =A27+1 -> 22 | B28: 其他非流动金融资产 | E28: =E27+1 -> 56 | F28: 长期应付款
A29: =A28+1 -> 23 | B29: 投资性房地产 | E29: =E28+1 -> 57 | F29: 长期应付职工薪酬
A30: =A29+1 -> 24 | B30: 固定资产 | E30: =E29+1 -> 58 | F30: 预计负债
A31: =A30+1 -> 25 | B31: 在建工程 | E31: =E30+1 -> 59 | F31: 递延收益
A32: =A31+1 -> 26 | B32: 生产性生物资产 | E32: =E31+1 -> 60 | F32: 递延所得税负债
A33: =A32+1 -> 27 | B33: 油气资产 | E33: =E32+1 -> 61 | F33: 其他非流动负债
A34: =A33+1 -> 28 | B34: 使用权资产 | E34: =E33+1 -> 62 | F34: 非流动负债合计 | G34: =G23+G24+G27+G28+G29+G30+G31+G32+G33 -> 0 | H34: =H23+H24+H27+H28+H29+H30+H31+H32+H33 -> 0
A35: =A34+1 -> 29 | B35: 无形资产 | E35: =E34+1 -> 63 | F35: 负债合计 | G35: =G21+G34 -> 0 | H35: =H21+H34 -> 0
A36: =A35+1 -> 30 | B36: 开发支出 | E36: =E35+1 -> 64 | F36: 所有者权益（或股东权益）：
A37: =A36+1 -> 31 | B37: 商誉 | E37: =E36+1 -> 65 | F37: 实收资本（或股本）
A38: =A37+1 -> 32 | B38: 长期待摊费用 | E38: =E37+1 -> 66 | F38: 其他权益工具
A39: =A38+1 -> 33 | B39: 递延所得税资产 | E39: 66-1 | F39: 其中：优先股
A40: =A39+1 -> 34 | B40: 其他非流动资产 | E40: 66-2 | F40: 永续债
...

Sheet 3-流动资产汇总表
A1: 流动资产评估汇总表
F2: 表3
A3: =#REF! -> #REF!
A4: =#REF! -> #REF! | F4: 金额单位：人民币元
A5: 编号 | B5: 科目名称 | C5: 账面价值 | D5: 评估价值 | E5: 增减值 | F5: 增值率%
A6: 3-1 | B6: 货币资金 | C6: ='3-1货币汇总表'!C29 -> 0 | D6: ='3-1货币汇总表'!D29 -> 0 | E6: =D6-C6 -> 0 | F6: =IF(C6=0,0,ROUND(E6/C6*100,2)) -> 0
A7: 3-2 | B7: 交易性金融资产 | C7: ='3-2交易性金融资产汇总表'!C29 -> 0 | D7: ='3-2交易性金融资产汇总表'!D29 -> 0 | E7: =D7-C7 -> 0 | F7: =IF(C7=0,0,ROUND(E7/C7*100,2)) -> 0
A8: 3-3 | B8: 衍生金融资产 | C8: ='3-3衍生金融资产'!L29 -> 0 | D8: ='3-3衍生金融资产'!M29 -> 0 | E8: =D8-C8 -> 0 | F8: =IF(C8=0,0,ROUND(E8/C8*100,2)) -> 0
A9: 3-4 | B9: 应收票据 | C9: ='3-4应收票据'!F29 -> 0 | D9: ='3-4应收票据'!H29 -> 0 | E9: =D9-C9 -> 0 | F9: =IF(C9=0,0,ROUND(E9/C9*100,2)) -> 0
A10: 3-5 | B10: 应收账款 | C10: ='3-5应收账款'!M29 -> 0 | D10: ='3-5应收账款'!R29 -> 0 | E10: =D10-C10 -> 0 | F10: =IF(C10=0,0,ROUND(E10/C10*100,2)) -> 0
A11: 3-6 | B11: 应收款项融资 | C11: ='3-6应收款项融资'!I29 -> 0 | D11: ='3-6应收款项融资'!K29 -> 0 | E11: =D11-C11 -> 0 | F11: =IF(C11=0,0,ROUND(E11/C11*100,2)) -> 0
A12: 3-7 | B12: 预付账款 | C12: ='3-7预付账款'!R29 -> 0 | D12: ='3-7预付账款'!R29 -> 0 | E12: =D12-C12 -> 0 | F12: =IF(C12=0,0,ROUND(E12/C12*100,2)) -> 0
A13: 3-8 | B13: 其他应收款 | C13: ='3-8其他应收款汇总表 '!C29 -> 0 | D13: ='3-8其他应收款汇总表 '!D29 -> 0 | E13: =D13-C13 -> 0 | F13: =IF(C13=0,0,ROUND(E13/C13*100,2)) -> 0
A14: 3-9 | B14: 存货 | C14: =#REF! -> #REF! | D14: =#REF! -> #REF! | E14: =D14-C14 -> #REF! | F14: =IF(C14=0,0,ROUND(E14/C14*100,2)) -> #REF!
A15: 3-10 | B15: 合同资产 | C15: ='3-10合同资产'!M29 -> 0 | D15: ='3-10合同资产'!R29 -> 0 | E15: =D15-C15 -> 0 | F15: =IF(C15=0,0,ROUND(E15/C15*100,2)) -> 0
A16: 3-11 | B16: 持有待售资产 | C16: ='3-11持有待售资产'!G29 -> 0 | D16: ='3-11持有待售资产'!H29 -> 0 | E16: =D16-C16 -> 0 | F16: =IF(C16=0,0,ROUND(E16/C16*100,2)) -> 0
A17: 3-12 | B17: 一年内到期的非流动资产 | C17: ='3-12一年到期非流动资产'!E29 -> 0 | D17: ='3-12一年到期非流动资产'!F29 -> 0 | E17: =D17-C17 -> 0 | F17: =IF(C17=0,0,ROUND(E17/C17*100,2)) -> 0
A18: 3-13 | B18: 其他流动资产 | C18: ='3-13其他流动资产'!F29 -> 0 | D18: ='3-13其他流动资产'!G29 -> 0 | E18: =D18-C18 -> 0 | F18: =IF(C18=0,0,ROUND(E18/C18*100,2)) -> 0
A29: 流动资产合计 | C29: =SUM(C6:C28) -> #REF! | D29: =SUM(D6:D28) -> #REF! | E29: =D29-C29 -> #REF! | F29: =IF(C29=0,0,ROUND(E29/C29*100,2)) -> #REF!
D30: =CONCATENATE(索引!$D$6,"：",索引!$D9," ",索引!$E9) -> 评估人员：高晓宇 王海龙

Sheet 3-1货币汇总表
A1: 货币资金评估汇总表
F2: 表3-1
A3: =#REF! -> #REF!
A4: =#REF! -> #REF! | F4: 金额单位：人民币元
A5: 编号 | B5: 科目名称 | C5: 账面价值 | D5: 评估价值 | E5: 增减值 | F5: 增值率%
A6: 3-1-1 | B6: 现金 | C6: ='3-1-1现金'!F29 -> 0 | D6: ='3-1-1现金'!G29 -> 0 | E6: =D6-C6 -> 0 | F6: =IF(C6=0,0,ROUND(E6/C6*100,2)) -> 0
A7: 3-1-2 | B7: 银行存款 | C7: ='3-1-2银行存款'!G29 -> 0 | D7: ='3-1-2银行存款'!H29 -> 0 | E7: =D7-C7 -> 0 | F7: =IF(C7=0,0,ROUND(E7/C7*100,2)) -> 0
A8: 3-1-3 | B8: 其他货币资金 | C8: ='3-1-3其他货币资金'!G25 -> 0 | D8: ='3-1-3其他货币资金'!H25 -> 0 | E8: =D8-C8 -> 0 | F8: =IF(C8=0,0,ROUND(E8/C8*100,2)) -> 0
A29: 合 计 | C29: =SUM(C6:C28) -> 0 | D29: =SUM(D6:D28) -> 0 | E29: =D29-C29 -> 0 | F29: =IF(C29=0,0,ROUND(E29/C29*100,2)) -> 0
D30: =CONCATENATE(索引!$D$6,"：",索引!$D10," ",索引!$E10) -> 评估人员：高晓宇 王海龙

Sheet 3-1-1现金
A1: 货币资金—现金评估明细表
I2: 表3-1-1
A3: =#REF! -> #REF!
A4: =#REF! -> #REF! | J4: 金额单位：人民币元
A5: 序号 | B5: 存放部门（单位） | C5: 币种 | D5: 外币账面金额 | E5: 评估基准日汇率 | F5: 账面价值 | G5: 评估价值 | H5: 增减值 | I5: 增值率% | J5: 备注
A6: 1 | G6: =F6 -> 0 | H6: =G6-F6 -> 0 | I6: =IF(F6=0,0,ROUND(H6/F6*100,2)) -> 0
A29: 合 计 | F29: =SUM(F6:F28) -> 0 | G29: =SUM(G6:G28) -> 0 | H29: =SUM(H6:H28) -> 0 | I29: =IF(F29=0,0,ROUND(H29/F29*100,2)) -> 0
A30: =#REF! -> #REF! | F30: =CONCATENATE(索引!$D$6,"：",索引!$D11," ",索引!$E11) -> 评估人员：高晓宇 王海龙
A31: =#REF! -> #REF!
A32: 填表说明：
B33: “存放部门”要求填企业内部不同的现金存放部门，每一存放部门应分别填列，如“×××财务处（科）”；
B34: 现金表中的外币，应在“账面价值”一栏填换算后的人民币价值。按币种、存放单位填列明细。评估基准日汇率为基准汇价。

Sheet 3-1-2银行存款
A1: 货币资金—银行存款评估明细表
J2: 表3-1-2
A3: =#REF! -> #REF!
A4: =#REF! -> #REF! | J4: 金额单位：人民币元
A5: 序号 | B5: 开户银行 | C5: 账号 | D5: 币种 | E5: 外币账面金额 | F5: 评估基准日汇率 | G5: 账面价值 | H5: 评估价值 | I5: 增减值 | J5: 增值率% | K5: 备注 | M5: 对账单金额 | N5: 余额调节表金额 | O5: 校核
A6: 1 | H6: =G6 -> 0 | I6: =H6-G6 -> 0 | J6: =IF(G6=0,0,ROUND(I6/G6*100,2)) -> 0 | O6: =M6+N6-G6 -> 0
A7: 2 | H7: =G7 -> 0 | I7: =H7-G7 -> 0 | J7: =IF(G7=0,0,ROUND(I7/G7*100,2)) -> 0 | O7: =M7+N7-G7 -> 0
A29: 合 计 | G29: =SUM(G6:G28) -> 0 | H29: =SUM(H6:H28) -> 0 | I29: =SUM(I6:I28) -> 0 | J29: =IF(G29=0,0,ROUND(I29/G29*100,2)) -> 0 | M29: =SUM(M6:M28) -> 0 | N29: =SUM(N6:N28) -> 0 | O29: =M29+N29-G29 -> 0
A30: =#REF! -> #REF! | G30: =CONCATENATE(索引!$D$6,"：",索引!$D12," ",索引!$E12) -> 评估人员：高晓宇 王海龙
A31: =#REF! -> #REF!
A32: 填表说明：
B33: 要按每一开户银行明细填写银行名称全称、账号、金额等，对于同一开户行的不同货币种类存款、不同账户存款也应分别一一列示，并在“外币账面金额”栏中注明该外币币种的原始币值。

Sheet 3-1-3其他货币资金
A1: 货币资金—其他货币资金评估明细表
K2: 表3-1-3
A3: =#REF! -> #REF!
A4: =#REF! -> #REF! | K4: 金额单位：人民币元
A5: 序号 | B5: 名称及内容 | C5: 用途 | D5: 币种 | E5: 外币账面金额 | F5: 评估基准日汇率 | G5: 账面价值 | H5: 评估价值 | I5: 增减值 | J5: 增值率% | K5: 备注 | M5: 对账单金额 | N5: 余额调节表金额 | O5: 校核
A6: 1 | I6: =H6-G6 -> 0 | J6: =IF(G6=0,0,ROUND(I6/G6*100,2)) -> 0 | O6: =M6+N6-G6 -> 0
A7: 2 | H7: =G7 -> 0 | I7: =H7-G7 -> 0 | J7: =IF(G7=0,0,ROUND(I7/G7*100,2)) -> 0 | O7: =M7+N7-G7 -> 0
O15: =M15+N15-G15 -> 0
O16: =M16+N16-G16 -> 0
O17: =M17+N17-G17 -> 0
O18: =M18+N18-G18 -> 0
O19: =M19+N19-G19 -> 0
O20: =M20+N20-G20 -> 0
O21: =M21+N21-G21 -> 0
O22: =M22+N22-G22 -> 0
O23: =M23+N23-G23 -> 0
O24: =M24+N24-G24 -> 0
A25: 合 计 | G25: =SUM(G6:G24) -> 0 | H25: =SUM(H6:H24) -> 0 | I25: =SUM(I6:I24) -> 0 | J25: =IF(G25=0,0,ROUND(I25/G25*100,2)) -> 0 | M25: =SUM(M6:M24) -> 0 | N25: =SUM(N6:N24) -> 0 | O25: =M25+N25-G25 -> 0
A26: =#REF! -> #REF! | G26: =CONCATENATE(索引!$D$6,"：",索引!$D13," ",索引!$E13) -> 评估人员：高晓宇 王海龙
A27: =#REF! -> #REF!
A28: 填表说明：
B29: 其他货币资金包含外埠存款、信用卡存款、信用证保证金存款等，要分类、分笔填写。对各种货币代值卡，要注明发行的金融单位。
B30: 如为外埠存款或为信用卡存款，则名称及内容栏填写开户行的名称和账号。

Sheet 3-2交易性金融资产汇总表
A1: 交易性金融资产评估汇总表
F2: 表3-2
A3: =#REF! -> #REF!
A4: =#REF! -> #REF! | F4: 金额单位：人民币元
A5: 编号 | B5: 科目名称 | C5: 账面价值 | D5: 评估价值 | E5: 增减值 | F5: 增值率%
A6: 3-2-1 | B6: 交易性金融资产-股票投资 | C6: ='3-2-1交易性-股票'!H29 -> 0 | D6: ='3-2-1交易性-股票'!I29 -> 0 | E6: =D6-C6 -> 0 | F6: =IF(C6=0,0,ROUND(E6/C6*100,2)) -> 0
A7: 3-2-2 | B7: 交易性金融资产-债券投资 | C7: ='3-2-2交易性-债券'!H29 -> 0 | D7: ='3-2-2交易性-债券'!I29 -> 0 | E7: =D7-C7 -> 0 | F7: =IF(C7=0,0,ROUND(E7/C7*100,2)) -> 0
A8: 3-2-3 | B8: 交易性金融资产-基金投资 | C8: ='3-2-3交易性-基金'!I29 -> 0 | D8: ='3-2-3交易性-基金'!J29 -> 0 | E8: =D8-C8 -> 0 | F8: =IF(C8=0,0,ROUND(E8/C8*100,2)) -> 0
A29: 合 计 | C29: =SUM(C6:C28) -> 0 | D29: =SUM(D6:D28) -> 0 | E29: =D29-C29 -> 0 | F29: =IF(C29=0,0,ROUND(E29/C29*100,2)) -> 0
D30: =CONCATENATE(索引!$D$6,"：",索引!$D14," ",索引!$E14) -> 评估人员：高晓宇 王海龙

Sheet 3-2-1交易性-股票
A1: 交易性金融资产—股票投资评估明细表
K2: 表3-2-1
A3: =#REF! -> #REF!
A4: =#REF! -> #REF! | L4: 金额单位：人民币元
A5: 序号 | B5: 被投资单位名称 | C5: 股票名称 | D5: 投资日期 | E5: 持股数量 | F5: 成 本 | G5: 基准日收盘价元/股 | H5: 账面价值 | I5: 评估价值 | J5: 增减值 | K5: 增值率% | L5: 备注
J7: =I7-H7 -> 0 | K7: =IF(H7=0,0,ROUND(J7/G7*100,2)) -> 0
J8: =I8-H8 -> 0 | K8: =IF(H8=0,0,ROUND(J8/G8*100,2)) -> 0
J9: =I9-H9 -> 0 | K9: =IF(H9=0,0,ROUND(J9/G9*100,2)) -> 0
J10: =I10-H10 -> 0 | K10: =IF(H10=0,0,ROUND(J10/G10*100,2)) -> 0
J11: =I11-H11 -> 0 | K11: =IF(H11=0,0,ROUND(J11/G11*100,2)) -> 0
J12: =I12-H12 -> 0 | K12: =IF(H12=0,0,ROUND(J12/G12*100,2)) -> 0
J13: =I13-H13 -> 0 | K13: =IF(H13=0,0,ROUND(J13/G13*100,2)) -> 0
J14: =I14-H14 -> 0 | K14: =IF(H14=0,0,ROUND(J14/G14*100,2)) -> 0
J15: =I15-H15 -> 0 | K15: =IF(H15=0,0,ROUND(J15/G15*100,2)) -> 0
J16: =I16-H16 -> 0 | K16: =IF(H16=0,0,ROUND(J16/G16*100,2)) -> 0
J17: =I17-H17 -> 0 | K17: =IF(H17=0,0,ROUND(J17/G17*100,2)) -> 0
J18: =I18-H18 -> 0 | K18: =IF(H18=0,0,ROUND(J18/G18*100,2)) -> 0
... J28: =I28-H28 -> 0 | K28: =IF(H28=0,0,ROUND(J28/G28*100,2)) -> 0
A29: 合 计 | H29: =SUM(H7:H28) -> 0 | I29: =SUM(I7:I28) -> 0 | J29: =I29-H29 -> 0 | K29: =IF(H29=0,0,ROUND(J29/G29*100,2)) -> 0
A30: =#REF! -> #REF! | H30: =CONCATENATE(索引!$D$6,"：",索引!$D15," ",索引!$E15) -> 评估人员：高晓宇 王海龙
A31: =#REF! -> #REF!
A32: 填表说明：
B33: ①“被投资单位名称”指股票发行单位全称；
B34: ②“股票名称”指该股票标准简称，包括代码，如太极集团600129；
B35: ③“投资日期”指企业购买股票的日期或以其他方式（如非货币性交易换入、以债权换入等）取得股权的协议转让日期，非股票发行日期；

Sheet 3-2-2交易性-债券
A1: 交易性金融资产—债券投资评估明细表
K2: 表3-2-2
A3: =#REF! -> #REF!
A4: =#REF! -> #REF! | L4: 金额单位：人民币元
A5: 序号 | B5: 被投资单位名称 | C5: 债券名称 | D5: 发行日期 | E5: 投资日期 | F5: 票面利率% | G5: 成本 | H5: 账面价值 | I5: 评估价值 | J5: 增减值 | K5: 增值率% | L5: 备注
J7: =I7-H7 -> 0 | K7: =IF(H7=0,0,ROUND(J7/G7*100,2)) -> 0
J8: =I8-H8 -> 0 | K8: =IF(H8=0,0,ROUND(J8/G8*100,2)) -> 0
J9: =I9-H9 -> 0 | K9: =IF(H9=0,0,ROUND(J9/G9*100,2)) -> 0
J10: =I10-H10 -> 0 | K10: =IF(H10=0,0,ROUND(J10/G10*100,2)) -> 0
J11: =I11-H11 -> 0 | K11: =IF(H11=0,0,ROUND(J11/G11*100,2)) -> 0
J12: =I12-H12 -> 0 | K12: =IF(H12=0,0,ROUND(J12/G12*100,2)) -> 0
J13: =I13-H13 -> 0 | K13: =IF(H13=0,0,ROUND(J13/G13*100,2)) -> 0
J14: =I14-H14 -> 0 | K14: =IF(H14=0,0,ROUND(J14/G14*100,2)) -> 0
J15: =I15-H15 -> 0 | K15: =IF(H15=0,0,ROUND(J15/G15*100,2)) -> 0
J16: =I16-H16 -> 0 | K16: =IF(H16=0,0,ROUND(J16/G16*100,2)) -> 0
J17: =I17-H17 -> 0 | K17: =IF(H17=0,0,ROUND(J17/G17*100,2)) -> 0
J18: =I18-H18 -> 0 | K18: =IF(H18=0,0,ROUND(J18/G18*100,2)) -> 0
... J28: =I28-H28 -> 0 | K28: =IF(H28=0,0,ROUND(J28/G28*100,2)) -> 0
A29: 合 计 | H29: =SUM(H7:H28) -> 0 | I29: =SUM(I7:I28) -> 0 | J29: =I29-H29 -> 0 | K29: =IF(H29=0,0,ROUND(J29/G29*100,2)) -> 0
A30: =#REF! -> #REF! | H30: =CONCATENATE(索引!$D$6,"：",索引!$D16," ",索引!$E16) -> 评估人员：高晓宇 王海龙
A31: =#REF! -> #REF!
A32: 填表说明：
B33: ①“被投资单位名称”指发行单位全称；
B34: ②“债券名称”指该债券的种类名称，如：国库券、电力债券＊＊公司债券
B35: ③“投资日期”指企业购买债券的日期；

Sheet 3-2-3交易性-基金
A1: 交易性金融资产—基金投资评估明细表
L2: 表3-2-3
A3: =#REF! -> #REF!
A4: =#REF! -> #REF! | M4: 金额单位：人民币元
A5: 序号 | B5: 基金发行单位 | C5: 基金名称 | D5: 基金类型 | E5: 投资日期 | F5: 基金份数 | G5: 成本 | H5: 基准日净值/份 | I5: 账面价值 | J5: 评估价值 | K5: 增减值 | L5: 增值率% | M5: 备注
K7: =J7-I7 -> 0 | L7: =IF(I7=0,0,ROUND(K7/H7*100,2)) -> 0
K8: =J8-I8 -> 0 | L8: =IF(I8=0,0,ROUND(K8/H8*100,2)) -> 0
K9: =J9-I9 -> 0 | L9: =IF(I9=0,0,ROUND(K9/H9*100,2)) -> 0
K10: =J10-I10 -> 0 | L10: =IF(I10=0,0,ROUND(K10/H10*100,2)) -> 0
K11: =J11-I11 -> 0 | L11: =IF(I11=0,0,ROUND(K11/H11*100,2)) -> 0
K12: =J12-I12 -> 0 | L12: =IF(I12=0,0,ROUND(K12/H12*100,2)) -> 0
K13: =J13-I13 -> 0 | L13: =IF(I13=0,0,ROUND(K13/H13*100,2)) -> 0
K14: =J14-I14 -> 0 | L14: =IF(I14=0,0,ROUND(K14/H14*100,2)) -> 0
K15: =J15-I15 -> 0 | L15: =IF(I15=0,0,ROUND(K15/H15*100,2)) -> 0
K16: =J16-I16 -> 0 | L16: =IF(I16=0,0,ROUND(K16/H16*100,2)) -> 0
K17: =J17-I17 -> 0 | L17: =IF(I17=0,0,ROUND(K17/H17*100,2)) -> 0
K18: =J18-I18 -> 0 | L18: =IF(I18=0,0,ROUND(K18/H18*100,2)) -> 0
... K28: =J28-I28 -> 0 | L28: =IF(I28=0,0,ROUND(K28/H28*100,2)) -> 0
A29: 合 计 | I29: =SUM(I7:I28) -> 0 | J29: =SUM(J7:J28) -> 0 | K29: =J29-I29 -> 0 | L29: =IF(I29=0,0,ROUND(K29/H29*100,2)) -> 0
A30: =#REF! -> #REF! | I30: =CONCATENATE(索引!$D$6,"：",索引!$D17," ",索引!$E17) -> 评估人员：高晓宇 王海龙
A31: =#REF! -> #REF!
A32: 填表说明：
B33: 基金类型指开放式和封闭式，其他项目和表“3-2-1”相同

Sheet 3-3衍生金融资产
A1: 衍生金融资产评估明细表
P2: 表3-3
A3: =#REF! -> #REF!
A4: =#REF! -> #REF! | P4: 金额单位：人民币元
A5: 序号 | B5: 类型 | C5: 标的物/标的资产 | D5: 交易时间 | E5: 交割方式 | F5: 投资日期 | G5: 持有数量 | H5: 现行年利率% | I5: 浮动利率/固定利率% | J5: 成 本 | K5: 基准日交易均价 | L5: 账面价值 | M5: 评估价值 | N5: 增减值 | O5: 增值率% | P5: 备注
N7: =M7-L7 -> 0 | O7: =IF(L7=0,0,ROUND(N7/K7*100,2)) -> 0
N8: =M8-L8 -> 0 | O8: =IF(L8=0,0,ROUND(N8/K8*100,2)) -> 0
N9: =M9-L9 -> 0 | O9: =IF(L9=0,0,ROUND(N9/K9*100,2)) -> 0
N10: =M10-L10 -> 0 | O10: =IF(L10=0,0,ROUND(N10/K10*100,2)) -> 0
N11: =M11-L11 -> 0 | O11: =IF(L11=0,0,ROUND(N11/K11*100,2)) -> 0
N12: =M12-L12 -> 0 | O12: =IF(L12=0,0,ROUND(N12/K12*100,2)) -> 0
N13: =M13-L13 -> 0 | O13: =IF(L13=0,0,ROUND(N13/K13*100,2)) -> 0
N14: =M14-L14 -> 0 | O14: =IF(L14=0,0,ROUND(N14/K14*100,2)) -> 0
N15: =M15-L15 -> 0 | O15: =IF(L15=0,0,ROUND(N15/K15*100,2)) -> 0
N16: =M16-L16 -> 0 | O16: =IF(L16=0,0,ROUND(N16/K16*100,2)) -> 0
N17: =M17-L17 -> 0 | O17: =IF(L17=0,0,ROUND(N17/K17*100,2)) -> 0
N18: =M18-L18 -> 0 | O18: =IF(L18=0,0,ROUND(N18/K18*100,2)) -> 0
... N28: =M28-L28 -> 0 | O28: =IF(L28=0,0,ROUND(N28/K28*100,2)) -> 0
A29: 合 计 | L29: =SUM(L7:L28) -> 0 | M29: =SUM(M7:M28) -> 0 | N29: =M29-L29 -> 0 | O29: =IF(L29=0,0,ROUND(N29/K29*100,2)) -> 0
A30: =#REF! -> #REF! | L30: =CONCATENATE(索引!$D$6,"：",索引!$D18," ",索引!$E18) -> 评估人员：高晓宇 王海龙
A31: =#REF! -> #REF!

Sheet 3-4应收票据
A1: 应收票据评估明细表
K2: 表3-4
A3: =#REF! -> #REF!
A4: =#REF! -> #REF! | K4: 金额单位：人民币元
A5: 序号 | B5: 户名（结算对象) | C5: 出票日期 | D5: 到期日期 | E5: 票面利率% | F5: 账面价值 | G5: 坏账准备 | H5: 评估价值 | I5: 增减值 | J5: 增值率% | K5: 备注 | M5: 非经营性资产
M6: 账面价值 | N6: 评估价值 | P6: 融资形式 | Q6: 业务内容 | R6: 票据号码 | S6: 出票人 | T6: 票据状态
H7: =F7 -> 0 | I7: =H7-F7 -> 0 | J7: =IF(F7=0,0,ROUND(I7/F7*100,2)) -> 0
H8: =F8 -> 0 | I8: =H8-F8 -> 0 | J8: =IF(F8=0,0,ROUND(I8/F8*100,2)) -> 0
H9: =F9 -> 0 | I9: =H9-F9 -> 0 | J9: =IF(F9=0,0,ROUND(I9/F9*100,2)) -> 0
H10: =F10 -> 0 | I10: =H10-F10 -> 0 | J10: =IF(F10=0,0,ROUND(I10/F10*100,2)) -> 0
H11: =F11 -> 0 | I11: =H11-F11 -> 0 | J11: =IF(F11=0,0,ROUND(I11/F11*100,2)) -> 0
H12: =F12 -> 0 | I12: =H12-F12 -> 0 | J12: =IF(F12=0,0,ROUND(I12/F12*100,2)) -> 0
H13: =F13 -> 0 | I13: =H13-F13 -> 0 | J13: =IF(F13=0,0,ROUND(I13/F13*100,2)) -> 0
H14: =F14 -> 0 | I14: =H14-F14 -> 0 | J14: =IF(F14=0,0,ROUND(I14/F14*100,2)) -> 0
H15: =F15 -> 0 | I15: =H15-F15 -> 0 | J15: =IF(F15=0,0,ROUND(I15/F15*100,2)) -> 0
H16: =F16 -> 0 | I16: =H16-F16 -> 0 | J16: =IF(F16=0,0,ROUND(I16/F16*100,2)) -> 0
H17: =F17 -> 0 | I17: =H17-F17 -> 0 | J17: =IF(F17=0,0,ROUND(I17/F17*100,2)) -> 0
H18: =F18 -> 0 | I18: =H18-F18 -> 0 | J18: =IF(F18=0,0,ROUND(I18/F18*100,2)) -> 0
... H25: =F25 -> 0 | I25: =H25-F25 -> 0 | J25: =IF(F25=0,0,ROUND(I25/F25*100,2)) -> 0
A26: 合计 | F26: =SUM(F7:F25) -> 0 | G26: =SUM(G7:G25) -> 0 | H26: =SUM(H7:H25) -> 0 | I26: =H26-F26 -> 0 | J26: =IF(F26=0,0,ROUND(I26/F26*100,2)) -> 0
A27: 减：坏账准备 | F27: =G26 -> 0
A28: 减：评估风险损失 | H28: =F27 -> 0
A29: 净额 | F29: =F26-F27 -> 0 | H29: =H26-H28 -> 0 | I29: =H29-F29 -> 0 | J29: =IF(F29=0,0,ROUND(I29/F29*100,2)) -> 0 | M29: =SUM(M7:M27) -> 0 | N29: =SUM(N7:N27) -> 0
A30: =#REF! -> #REF! | F30: =CONCATENATE(索引!$D$6,"：",索引!$D19," ",索引!$E19) -> 评估人员：高晓宇 王海龙
A31: =#REF! -> #REF!
A32: 填表说明：
B33: ①“户名”指债务人的户名全称；
B34: ②“出票日期”指签发该票据的日期。
A35: 注意事项：
B36: 对于逾期未收回的应收票据，请在“备注”栏中标明未收回的原因；
B37: “涉及法律诉讼”的款项、欠款单位为关联方或内部往来的款项、用于抵押的应收票据等应分别在“备注”栏中予以说明。

Sheet 3-5应收账款
A1: 应收账款评估明细表
U2: 表3-5
A3: =#REF! -> #REF!
A4: =#REF! -> #REF! | U4: 金额单位：人民币元
A5: 序号 | B5: 欠款单位名称（结算对象) | C5: 关联关系类型 | D5: 业务内容 | E5: 最后一次 变动日期 | F5: 账龄 | M5: 账面价值 | N5: 计提坏账准备 | Q5: 预计不可收回金额 | R5: 评估价值 | S5: 增减值 | T5: 增值率% | U5: 备注 | W5: 非经营性资产
F6: 1-6个月以内金额 | G6: 7--12个月以内金额 | H6: 1-2年金额 | I6: 2-3年金额 | J6: 3-4年金额 | K6: 4-5年金额 | L6: 5年以上金额 | N6: 账龄计提 | O6: 个别计提 | P6: 合计 | W6: 账面价值 | X6: 评估价值
M7: =SUM(F7:L7) -> 0 | N7: =F7*0%+G7*0%+H7*5%+I7*10%+J7*20%+K7*50%+L7*100% -> 0 | P7: =N7+O7 -> 0 | Q7: =P7 -> 0 | R7: =M7 -> 0 | S7: =R7-M7 -> 0 | T7: =IF(M7=0,0,ROUND(S7/M7*100,2)) -> 0
M8: =SUM(F8:L8) -> 0 | N8: =F8*0%+G8*0%+H8*5%+I8*10%+J8*20%+K8*50%+L8*100% -> 0 | P8: =N8+O8 -> 0 | Q8: =P8 -> 0 | R8: =M8 -> 0 | S8: =R8-M8 -> 0 | T8: =IF(M8=0,0,ROUND(S8/M8*100,2)) -> 0
M9: =SUM(F9:L9) -> 0 | N9: =F9*0%+G9*0%+H9*5%+I9*10%+J9*20%+K9*50%+L9*100% -> 0 | P9: =N9+O9 -> 0 | Q9: =P9 -> 0 | R9: =M9 -> 0 | S9: =R9-M9 -> 0 | T9: =IF(M9=0,0,ROUND(S9/M9*100,2)) -> 0
M10: =SUM(F10:L10) -> 0 | N10: =F10*0%+G10*0%+H10*5%+I10*10%+J10*20%+K10*50%+L10*100% -> 0 | P10: =N10+O10 -> 0 | Q10: =P10 -> 0 | R10: =M10 -> 0 | S10: =R10-M10 -> 0 | T10: =IF(M10=0,0,ROUND(S10/M10*100,2)) -> 0
M11: =SUM(F11:L11) -> 0 | N11: =F11*0%+G11*0%+H11*5%+I11*10%+J11*20%+K11*50%+L11*100% -> 0 | P11: =N11+O11 -> 0 | Q11: =P11 -> 0 | R11: =M11 -> 0 | S11: =R11-M11 -> 0 | T11: =IF(M11=0,0,ROUND(S11/M11*100,2)) -> 0
M12: =SUM(F12:L12) -> 0 | N12: =F12*0%+G12*0%+H12*5%+I12*10%+J12*20%+K12*50%+L12*100% -> 0 | P12: =N12+O12 -> 0 | Q12: =P12 -> 0 | R12: =M12 -> 0 | S12: =R12-M12 -> 0 | T12: =IF(M12=0,0,ROUND(S12/M12*100,2)) -> 0
M13: =SUM(F13:L13) -> 0 | N13: =F13*0%+G13*0%+H13*5%+I13*10%+J13*20%+K13*50%+L13*100% -> 0 | P13: =N13+O13 -> 0 | Q13: =P13 -> 0 | R13: =M13 -> 0 | S13: =R13-M13 -> 0 | T13: =IF(M13=0,0,ROUND(S13/M13*100,2)) -> 0
M14: =SUM(F14:L14) -> 0 | N14: =F14*0%+G14*0%+H14*5%+I14*10%+J14*20%+K14*50%+L14*100% -> 0 | P14: =N14+O14 -> 0 | Q14: =P14 -> 0 | R14: =M14 -> 0 | S14: =R14-M14 -> 0 | T14: =IF(M14=0,0,ROUND(S14/M14*100,2)) -> 0
M15: =SUM(F15:L15) -> 0 | N15: =F15*0%+G15*0%+H15*5%+I15*10%+J15*20%+K15*50%+L15*100% -> 0 | P15: =N15+O15 -> 0 | Q15: =P15 -> 0 | R15: =M15 -> 0 | S15: =R15-M15 -> 0 | T15: =IF(M15=0,0,ROUND(S15/M15*100,2)) -> 0
M16: =SUM(F16:L16) -> 0 | N16: =F16*0%+G16*0%+H16*5%+I16*10%+J16*20%+K16*50%+L16*100% -> 0 | P16: =N16+O16 -> 0 | Q16: =P16 -> 0 | R16: =M16 -> 0 | S16: =R16-M16 -> 0 | T16: =IF(M16=0,0,ROUND(S16/M16*100,2)) -> 0
M17: =SUM(F17:L17) -> 0 | N17: =F17*0%+G17*0%+H17*5%+I17*10%+J17*20%+K17*50%+L17*100% -> 0 | P17: =N17+O17 -> 0 | Q17: =P17 -> 0 | R17: =M17 -> 0 | S17: =R17-M17 -> 0 | T17: =IF(M17=0,0,ROUND(S17/M17*100,2)) -> 0
M18: =SUM(F18:L18) -> 0 | N18: =F18*0%+G18*0%+H18*5%+I18*10%+J18*20%+K18*50%+L18*100% -> 0 | P18: =N18+O18 -> 0 | Q18: =P18 -> 0 | R18: =M18 -> 0 | S18: =R18-M18 -> 0 | T18: =IF(M18=0,0,ROUND(S18/M18*100,2)) -> 0
... M25: =SUM(F25:L25) -> 0 | N25: =F25*0%+G25*0%+H25*5%+I25*10%+J25*20%+K25*50%+L25*100% -> 0 | P25: =N25+O25 -> 0 | Q25: =P25 -> 0 | R25: =M25 -> 0 | S25: =R25-M25 -> 0 | T25: =IF(M25=0,0,ROUND(S25/M25*100,2)) -> 0
A26: 合计 | M26: =SUM(M7:M25) -> 0 | N26: =SUM(N7:N25) -> 0 | O26: =SUM(O7:O25) -> 0 | P26: =SUM(P7:P25) -> 0 | Q26: =SUM(Q7:Q25) -> 0 | R26: =SUM(R7:R25) -> 0 | S26: =R26-M26 -> 0 | T26: =IF(M26=0,0,ROUND(S26/M26*100,2)) -> 0
A27: 减：坏账准备 | M27: =P26 -> 0
A28: 减：评估风险损失 | R28: =Q26 -> 0
A29: 净额 | M29: =M26-M27 -> 0 | R29: =R26-R28 -> 0 | S29: =R29-M29 -> 0 | T29: =IF(M29=0,0,ROUND(S29/M29*100,2)) -> 0 | W29: =SUM(W7:W28) -> 0 | X29: =SUM(X7:X28) -> 0
A30: =#REF! -> #REF! | M30: =CONCATENATE(索引!$D$6,"：",索引!$D20," ",索引!$E20) -> 评估人员：高晓宇 王海龙
A31: =#REF! -> #REF!
A32: 填表说明：
B33: ①“业务内容”：指发生应收账款的相应业务名称，应收账款不分金额大小一律按照债务人和业务性质逐笔填列，不能出现其他；
B34: ②“最后一次变动日期”：对滚动发生额可按照基准日前最后一次应收账款发生额的月份月末余额填列；
B35: ③“账龄”：按1年以内，1~2年，2~3年，3~4年，4~5年，5年以上即可；
B36: ④欠款单位名称应填列全称，不应以地名或不明确的简称代替；
B37: ⑤需要在备注中标明的事项有：1）欠款单位为关联方、总公司内部或本公司内部单位的，应在备注栏注明“关联方”、“总公司内部”“内部单位”；
D38: 2） 涉诉款项应在备注中标明；
D39: 3）评估基准日后已收回款项的，应注明日期如“2023年7月4日收回”；
D40: 4）其他填表单位认为应说明的事项

Sheet 3-6应收款项融资
A1: 应收款项融资评估明细表
N2: 表3-6
A3: =#REF! -> #REF!
A4: =#REF! -> #REF! | N4: 金额单位：人民币元
A5: 序号 | B5: 户名（结算对象) | C5: 融资形式 | D5: 出票日期 | E5: 到期日期 | F5: 票面利率% | G5: 业务内容 | H5: 发生日期 | I5: 账面价值 | J5: 坏账准备 | K5: 评估价值 | L5: 增减值 | M5: 增值率% | N5: 备注 | P5: 非经营性资产
P6: 账面价值 | Q6: 评估价值 | S6: 票据号码 | T6: 出票人 | U6: 票据状态 | V6: 出票日期 | W6: 票面利率
K7: =I7 -> 0 | L7: =K7-I7 -> 0 | M7: =IF(I7=0,0,ROUND(L7/I7*100,2)) -> 0
K8: =I8 -> 0 | L8: =K8-I8 -> 0 | M8: =IF(I8=0,0,ROUND(L8/I8*100,2)) -> 0
K9: =I9 -> 0 | L9: =K9-I9 -> 0 | M9: =IF(I9=0,0,ROUND(L9/I9*100,2)) -> 0
K10: =I10 -> 0 | L10: =K10-I10 -> 0 | M10: =IF(I10=0,0,ROUND(L10/I10*100,2)) -> 0
K11: =I11 -> 0 | L11: =K11-I11 -> 0 | M11: =IF(I11=0,0,ROUND(L11/I11*100,2)) -> 0
K12: =I12 -> 0 | L12: =K12-I12 -> 0 | M12: =IF(I12=0,0,ROUND(L12/I12*100,2)) -> 0
K13: =I13 -> 0 | L13: =K13-I13 -> 0 | M13: =IF(I13=0,0,ROUND(L13/I13*100,2)) -> 0
K14: =I14 -> 0 | L14: =K14-I14 -> 0 | M14: =IF(I14=0,0,ROUND(L14/I14*100,2)) -> 0
K15: =I15 -> 0 | L15: =K15-I15 -> 0 | M15: =IF(I15=0,0,ROUND(L15/I15*100,2)) -> 0
K16: =I16 -> 0 | L16: =K16-I16 -> 0 | M16: =IF(I16=0,0,ROUND(L16/I16*100,2)) -> 0
K17: =I17 -> 0 | L17: =K17-I17 -> 0 | M17: =IF(I17=0,0,ROUND(L17/I17*100,2)) -> 0
K18: =I18 -> 0 | L18: =K18-I18 -> 0 | M18: =IF(I18=0,0,ROUND(L18/I18*100,2)) -> 0
... K24: =I24 -> 0 | L24: =K24-I24 -> 0 | M24: =IF(I24=0,0,ROUND(L24/I24*100,2)) -> 0
A26: 合计 | I26: =SUM(I7:I25) -> 0 | J26: =SUM(J7:J25) -> 0 | K26: =SUM(K7:K25) -> 0 | L26: =K26-I26 -> 0 | M26: =IF(I26=0,0,ROUND(L26/I26*100,2)) -> 0
A27: 减：坏账准备 | I27: =J26 -> 0
A28: 减：评估风险损失 | K28: =I27 -> 0
A29: 净额 | I29: =I26-I27 -> 0 | K29: =K26-K28 -> 0 | L29: =K29-I29 -> 0 | M29: =IF(I29=0,0,ROUND(L29/I29*100,2)) -> 0 | P29: =SUM(P7:P27) -> 0 | Q29: =SUM(Q7:Q27) -> 0
A30: =#REF! -> #REF! | I30: =CONCATENATE(索引!$D$6,"：",索引!$D21," ",索引!$E21) -> 评估人员：高晓宇 王海龙
A31: =#REF! -> #REF!
A32: 填表说明：
B33: 具有融资性的应收票据重分类至本科目的，应在应收票据科目披露质押和背书的情况，如存在应收账款的重分类，应比照应收账款科目进行披露。

Sheet 3-7预付账款
A1: 预付账款评估明细表
U2: 表3-7
A3: =#REF! -> #REF!
A4: =#REF! -> #REF! | U4: 金额单位：人民币元
A5: 序号 | B5: 收款单位名称（结算对象) | C5: 关联关系类型 | D5: 业务内容 | E5: 发生日期 | F5: 账龄 | M5: 账面价值 | N5: 计提坏账准备 | Q5: 预计不可收回金额 | R5: 评估价值 | S5: 增减值 | T5: 增值率% | U5: 备注 | W5: 非经营性资产
F6: 1-6个月以内金额 | G6: 7--12个月以内金额 | H6: 1-2年金额 | I6: 2-3年金额 | J6: 3-4年金额 | K6: 4-5年金额 | L6: 5年以上金额 | N6: 账龄计提 | O6: 个别计提 | P6: 合计 | W6: 账面价值 | X6: 评估价值
M7: =SUM(F7:L7) -> 0 | P7: =N7+O7 -> 0 | Q7: =P7 -> 0 | R7: =M7 -> 0 | S7: =R7-M7 -> 0 | T7: =IF(M7=0,0,ROUND(S7/M7*100,2)) -> 0
M8: =SUM(F8:L8) -> 0 | P8: =N8+O8 -> 0 | Q8: =P8 -> 0 | R8: =M8 -> 0 | S8: =R8-M8 -> 0 | T8: =IF(M8=0,0,ROUND(S8/M8*100,2)) -> 0
M9: =SUM(F9:L9) -> 0 | P9: =N9+O9 -> 0 | Q9: =P9 -> 0 | R9: =M9 -> 0 | S9: =R9-M9 -> 0 | T9: =IF(M9=0,0,ROUND(S9/M9*100,2)) -> 0
M10: =SUM(F10:L10) -> 0 | P10: =N10+O10 -> 0 | Q10: =P10 -> 0 | R10: =M10 -> 0 | S10: =R10-M10 -> 0 | T10: =IF(M10=0,0,ROUND(S10/M10*100,2)) -> 0
M11: =SUM(F11:L11) -> 0 | P11: =N11+O11 -> 0 | Q11: =P11 -> 0 | R11: =M11 -> 0 | S11: =R11-M11 -> 0 | T11: =IF(M11=0,0,ROUND(S11/M11*100,2)) -> 0
M12: =SUM(F12:L12) -> 0 | P12: =N12+O12 -> 0 | Q12: =P12 -> 0 | R12: =M12 -> 0 | S12: =R12-M12 -> 0 | T12: =IF(M12=0,0,ROUND(S12/M12*100,2)) -> 0
M13: =SUM(F13:L13) -> 0 | P13: =N13+O13 -> 0 | Q13: =P13 -> 0 | R13: =M13 -> 0 | S13: =R13-M13 -> 0 | T13: =IF(M13=0,0,ROUND(S13/M13*100,2)) -> 0
M14: =SUM(F14:L14) -> 0 | P14: =N14+O14 -> 0 | Q14: =P14 -> 0 | R14: =M14 -> 0 | S14: =R14-M14 -> 0 | T14: =IF(M14=0,0,ROUND(S14/M14*100,2)) -> 0
M15: =SUM(F15:L15) -> 0 | P15: =N15+O15 -> 0 | Q15: =P15 -> 0 | R15: =M15 -> 0 | S15: =R15-M15 -> 0 | T15: =IF(M15=0,0,ROUND(S15/M15*100,2)) -> 0
M16: =SUM(F16:L16) -> 0 | P16: =N16+O16 -> 0 | Q16: =P16 -> 0 | R16: =M16 -> 0 | S16: =R16-M16 -> 0 | T16: =IF(M16=0,0,ROUND(S16/M16*100,2)) -> 0
M17: =SUM(F17:L17) -> 0 | P17: =N17+O17 -> 0 | Q17: =P17 -> 0 | R17: =M17 -> 0 | S17: =R17-M17 -> 0 | T17: =IF(M17=0,0,ROUND(S17/M17*100,2)) -> 0
M18: =SUM(F18:L18) -> 0 | P18: =N18+O18 -> 0 | Q18: =P18 -> 0 | R18: =M18 -> 0 | S18: =R18-M18 -> 0 | T18: =IF(M18=0,0,ROUND(S18/M18*100,2)) -> 0
... M25: =SUM(F25:L25) -> 0 | P25: =N25+O25 -> 0 | Q25: =P25 -> 0 | R25: =M25 -> 0 | S25: =R25-M25 -> 0 | T25: =IF(M25=0,0,ROUND(S25/M25*100,2)) -> 0
A26: 合计 | M26: =SUM(M7:M25) -> 0 | O26: =SUM(O7:O25) -> 0 | P26: =SUM(P7:P25) -> 0 | Q26: =SUM(Q7:Q25) -> 0 | R26: =SUM(R7:R25) -> 0 | S26: =R26-M26 -> 0 | T26: =IF(M26=0,0,ROUND(S26/M26*100,2)) -> 0
A27: 减：坏账准备 | M27: =P26 -> 0
A28: 减：评估风险损失 | R28: =Q26 -> 0
A29: 净额 | M29: =M26-M27 -> 0 | R29: =R26-R28 -> 0 | S29: =R29-M29 -> 0 | T29: =IF(M29=0,0,ROUND(S29/M29*100,2)) -> 0 | W29: =SUM(W7:W27) -> 0 | X29: =SUM(X7:X27) -> 0
A30: =#REF! -> #REF! | M30: =CONCATENATE(索引!$D$6,"：",索引!$D20," ",索引!$E20) -> 评估人员：高晓宇 王海龙
A31: =#REF! -> #REF!
A32: 填表说明：
B33: 对预付设备款所涉及的实物已到货安装、使用，在清查时应注意与实物管理部门核对，以免出现重复申报或资产非真实盘盈。

Sheet 3-8其他应收款汇总表 
A1: 其他应收款资产评估汇总表
F2: 表3-8
A3: =#REF! -> #REF!
A4: =#REF! -> #REF! | F4: 金额单位：人民币元 | H4: 非经营性资产
A5: 编号 | B5: 科目名称 | C5: 账面价值 | D5: 评估价值 | E5: 增减值 | F5: 增值率% | H5: 账面价值 | I5: 评估价值
A6: 3-8-1 | B6: 其他应收款 | C6: ='3-8-1其他应收款'!M29 -> 0 | D6: ='3-8-1其他应收款'!R29 -> 0 | E6: ='3-8-1其他应收款'!S29 -> 0 | F6: =IF(C6=0,0,ROUND(E6/C6*100,2)) -> 0 | H6: ='3-8-1其他应收款'!W29 -> 0 | I6: ='3-8-1其他应收款'!X29 -> 0
A7: 3-8-2 | B7: 应收利息 | C7: ='3-8-2应收利息'!G29 -> 0 | D7: ='3-8-2应收利息'!I29 -> 0 | E7: ='3-8-2应收利息'!J29 -> 0 | F7: =IF(C7=0,0,ROUND(E7/C7*100,2)) -> 0 | H7: ='3-8-2应收利息'!N29 -> 0 | I7: ='3-8-2应收利息'!O29 -> 0
A8: 3-8-3 | B8: 应收股利 | C8: ='3-8-3应收股利'!E29 -> 0 | D8: ='3-8-3应收股利'!G29 -> 0 | E8: ='3-8-3应收股利'!H29 -> 0 | F8: =IF(C8=0,0,ROUND(E8/C8*100,2)) -> 0 | H8: ='3-8-3应收股利'!L29 -> 0 | I8: ='3-8-3应收股利'!M29 -> 0
A29: 合 计 | C29: =SUM(C6:C28) -> 0 | D29: =SUM(D6:D28) -> 0 | E29: =D29-C29 -> 0 | F29: =IF(C29=0,0,ROUND(E29/C29*100,2)) -> 0 | H29: =SUM(H6:H28) -> 0 | I29: =SUM(I6:I28) -> 0
D30: =CONCATENATE(索引!$D$6,"：",索引!$D23," ",索引!$E23) -> 评估人员：高晓宇 王海龙

Sheet 3-8-1其他应收款
A1: 其他应收款评估明细表
U2: 表3-8-1
A3: =#REF! -> #REF!
A4: =#REF! -> #REF! | U4: 金额单位：人民币元
A5: 序号 | B5: 欠款单位（人）名称（结算对象) | C5: 关联关系类型 | D5: 业务内容 | E5: 最后一次 变动日期 | F5: 账龄 | M5: 账面价值 | N5: 计提坏账准备 | Q5: 预计不可收回金额 | R5: 评估价值 | S5: 增减值 | T5: 增值率% | U5: 备注 | W5: 非经营性资产
F6: 1-6个月以内金额 | G6: 7--12个月以内金额 | H6: 1-2年金额 | I6: 2-3年金额 | J6: 3-4年金额 | K6: 4-5年金额 | L6: 5年以上金额 | N6: 账龄计提 | O6: 个别计提 | P6: 合计 | W6: 账面价值 | X6: 评估价值
M7: =SUM(F7:L7) -> 0 | N7: =F7*0%+G7*0%+H7*5%+I7*10%+J7*20%+K7*50%+L7*100% -> 0 | P7: =N7+O7 -> 0 | Q7: =P7 -> 0 | R7: =M7 -> 0 | S7: =R7-M7 -> 0 | T7: =IF(M7=0,0,ROUND(S7/M7*100,2)) -> 0
M8: =SUM(F8:L8) -> 0 | N8: =F8*0%+G8*0%+H8*5%+I8*10%+J8*20%+K8*50%+L8*100% -> 0 | P8: =N8+O8 -> 0 | Q8: =P8 -> 0 | R8: =M8 -> 0 | S8: =R8-M8 -> 0 | T8: =IF(M8=0,0,ROUND(S8/M8*100,2)) -> 0
M9: =SUM(F9:L9) -> 0 | N9: =F9*0%+G9*0%+H9*5%+I9*10%+J9*20%+K9*50%+L9*100% -> 0 | P9: =N9+O9 -> 0 | Q9: =P9 -> 0 | R9: =M9 -> 0 | S9: =R9-M9 -> 0 | T9: =IF(M9=0,0,ROUND(S9/M9*100,2)) -> 0
M10: =SUM(F10:L10) -> 0 | N10: =F10*0%+G10*0%+H10*5%+I10*10%+J10*20%+K10*50%+L10*100% -> 0 | P10: =N10+O10 -> 0 | Q10: =P10 -> 0 | R10: =M10 -> 0 | S10: =R10-M10 -> 0 | T10: =IF(M10=0,0,ROUND(S10/M10*100,2)) -> 0
M11: =SUM(F11:L11) -> 0 | N11: =F11*0%+G11*0%+H11*5%+I11*10%+J11*20%+K11*50%+L11*100% -> 0 | P11: =N11+O11 -> 0 | Q11: =P11 -> 0 | R11: =M11 -> 0 | S11: =R11-M11 -> 0 | T11: =IF(M11=0,0,ROUND(S11/M11*100,2)) -> 0
M12: =SUM(F12:L12) -> 0 | N12: =F12*0%+G12*0%+H12*5%+I12*10%+J12*20%+K12*50%+L12*100% -> 0 | P12: =N12+O12 -> 0 | Q12: =P12 -> 0 | R12: =M12 -> 0 | S12: =R12-M12 -> 0 | T12: =IF(M12=0,0,ROUND(S12/M12*100,2)) -> 0
M13: =SUM(F13:L13) -> 0 | N13: =F13*0%+G13*0%+H13*5%+I13*10%+J13*20%+K13*50%+L13*100% -> 0 | P13: =N13+O13 -> 0 | Q13: =P13 -> 0 | R13: =M13 -> 0 | S13: =R13-M13 -> 0 | T13: =IF(M13=0,0,ROUND(S13/M13*100,2)) -> 0
M14: =SUM(F14:L14) -> 0 | N14: =F14*0%+G14*0%+H14*5%+I14*10%+J14*20%+K14*50%+L14*100% -> 0 | P14: =N14+O14 -> 0 | Q14: =P14 -> 0 | R14: =M14 -> 0 | S14: =R14-M14 -> 0 | T14: =IF(M14=0,0,ROUND(S14/M14*100,2)) -> 0
M15: =SUM(F15:L15) -> 0 | N15: =F15*0%+G15*0%+H15*5%+I15*10%+J15*20%+K15*50%+L15*100% -> 0 | P15: =N15+O15 -> 0 | Q15: =P15 -> 0 | R15: =M15 -> 0 | S15: =R15-M15 -> 0 | T15: =IF(M15=0,0,ROUND(S15/M15*100,2)) -> 0
M16: =SUM(F16:L16) -> 0 | N16: =F16*0%+G16*0%+H16*5%+I16*10%+J16*20%+K16*50%+L16*100% -> 0 | P16: =N16+O16 -> 0 | Q16: =P16 -> 0 | R16: =M16 -> 0 | S16: =R16-M16 -> 0 | T16: =IF(M16=0,0,ROUND(S16/M16*100,2)) -> 0
M17: =SUM(F17:L17) -> 0 | N17: =F17*0%+G17*0%+H17*5%+I17*10%+J17*20%+K17*50%+L17*100% -> 0 | P17: =N17+O17 -> 0 | Q17: =P17 -> 0 | R17: =M17 -> 0 | S17: =R17-M17 -> 0 | T17: =IF(M17=0,0,ROUND(S17/M17*100,2)) -> 0
M18: =SUM(F18:L18) -> 0 | N18: =F18*0%+G18*0%+H18*5%+I18*10%+J18*20%+K18*50%+L18*100% -> 0 | P18: =N18+O18 -> 0 | Q18: =P18 -> 0 | R18: =M18 -> 0 | S18: =R18-M18 -> 0 | T18: =IF(M18=0,0,ROUND(S18/M18*100,2)) -> 0
M19: =SUM(F19:L19) -> 0 | N19: =F19*0%+G19*0%+H19*5%+I19*10%+J19*20%+K19*50%+L19*100% -> 0
M20: =SUM(F20:L20) -> 0 | N20: =F20*0%+G20*0%+H20*5%+I20*10%+J20*20%+K20*50%+L20*100% -> 0 | P20: =N20+O20 -> 0 | Q20: =P20 -> 0 | R20: =M20 -> 0 | S20: =R20-M20 -> 0 | T20: =IF(M20=0,0,ROUND(S20/M20*100,2)) -> 0
M21: =SUM(F21:L21) -> 0 | N21: =F21*0%+G21*0%+H21*5%+I21*10%+J21*20%+K21*50%+L21*100% -> 0 | P21: =N21+O21 -> 0 | Q21: =P21 -> 0 | R21: =M21 -> 0 | S21: =R21-M21 -> 0 | T21: =IF(M21=0,0,ROUND(S21/M21*100,2)) -> 0
M22: =SUM(F22:L22) -> 0 | N22: =F22*0%+G22*0%+H22*5%+I22*10%+J22*20%+K22*50%+L22*100% -> 0 | P22: =N22+O22 -> 0 | Q22: =P22 -> 0 | R22: =M22 -> 0 | S22: =R22-M22 -> 0 | T22: =IF(M22=0,0,ROUND(S22/M22*100,2)) -> 0
M23: =SUM(F23:L23) -> 0 | N23: =F23*0%+G23*0%+H23*5%+I23*10%+J23*20%+K23*50%+L23*100% -> 0 | P23: =N23+O23 -> 0 | Q23: =P23 -> 0 | R23: =M23 -> 0 | S23: =R23-M23 -> 0 | T23: =IF(M23=0,0,ROUND(S23/M23*100,2)) -> 0
M24: =SUM(F24:L24) -> 0 | N24: =F24*0%+G24*0%+H24*5%+I24*10%+J24*20%+K24*50%+L24*100% -> 0 | P24: =N24+O24 -> 0 | Q24: =P24 -> 0 | R24: =M24 -> 0 | S24: =R24-M24 -> 0 | T24: =IF(M24=0,0,ROUND(S24/M24*100,2)) -> 0
M25: =SUM(F25:L25) -> 0 | N25: =F25*0%+G25*0%+H25*5%+I25*10%+J25*20%+K25*50%+L25*100% -> 0 | P25: =N25+O25 -> 0 | Q25: =P25 -> 0 | R25: =M25 -> 0 | S25: =R25-M25 -> 0 | T25: =IF(M25=0,0,ROUND(S25/M25*100,2)) -> 0
A26: 合计 | M26: =SUM(M7:M25) -> 0 | N26: =SUM(N7:N25) -> 0 | O26: =SUM(O7:O25) -> 0 | P26: =SUM(P7:P25) -> 0 | Q26: =SUM(Q7:Q25) -> 0 | R26: =SUM(R7:R25) -> 0 | S26: =R26-M26 -> 0 | T26: =IF(M26=0,0,ROUND(S26/M26*100,2)) -> 0
A27: 减：坏账准备 | M27: =P26 -> 0
A28: 减：评估风险损失 | R28: =Q26 -> 0
A29: 净额 | M29: =M26-M27 -> 0 | R29: =R26-R28 -> 0 | S29: =R29-M29 -> 0 | T29: =IF(M29=0,0,ROUND(S29/M29*100,2)) -> 0 | W29: =SUM(W7:W28) -> 0 | X29: =SUM(X7:X28) -> 0
A30: =#REF! -> #REF! | M30: =CONCATENATE(索引!$D$6,"：",索引!$D22," ",索引!$E22) -> 评估人员：高晓宇 王海龙
A31: =#REF! -> #REF!
A32: 填表说明：
B33: 参照表3—5。

Sheet 3-8-2应收利息
A1: 应收利息评估明细表
L2: 表3-8-2
A3: =#REF! -> #REF!
A4: =#REF! -> #REF! | L4: 金额单位：人民币元
A5: 序号 | B5: 欠款单位名称（结算对象) | C5: 发生日期 | D5: 本金 | E5: 利息所属期间 | F5: 利息率% | G5: 账面价值 | H5: 坏账准备 | I5: 评估价值 | J5: 增减值 | K5: 增值率% | L5: 备注 | N5: 非经营性资产
N6: 账面价值 | O6: 评估价值
I7: =G7 -> 0 | J7: =I7-G7 -> 0 | K7: =IF(G7=0,0,ROUND(J7/G7*100,2)) -> 0
I8: =G8 -> 0 | J8: =I8-G8 -> 0 | K8: =IF(G8=0,0,ROUND(J8/G8*100,2)) -> 0
I9: =G9 -> 0 | J9: =I9-G9 -> 0 | K9: =IF(G9=0,0,ROUND(J9/G9*100,2)) -> 0
I10: =G10 -> 0 | J10: =I10-G10 -> 0 | K10: =IF(G10=0,0,ROUND(J10/G10*100,2)) -> 0
I11: =G11 -> 0 | J11: =I11-G11 -> 0 | K11: =IF(G11=0,0,ROUND(J11/G11*100,2)) -> 0
I12: =G12 -> 0 | J12: =I12-G12 -> 0 | K12: =IF(G12=0,0,ROUND(J12/G12*100,2)) -> 0
I13: =G13 -> 0 | J13: =I13-G13 -> 0 | K13: =IF(G13=0,0,ROUND(J13/G13*100,2)) -> 0
I14: =G14 -> 0 | J14: =I14-G14 -> 0 | K14: =IF(G14=0,0,ROUND(J14/G14*100,2)) -> 0
I15: =G15 -> 0 | J15: =I15-G15 -> 0 | K15: =IF(G15=0,0,ROUND(J15/G15*100,2)) -> 0
I16: =G16 -> 0 | J16: =I16-G16 -> 0 | K16: =IF(G16=0,0,ROUND(J16/G16*100,2)) -> 0
I17: =G17 -> 0 | J17: =I17-G17 -> 0 | K17: =IF(G17=0,0,ROUND(J17/G17*100,2)) -> 0
I18: =G18 -> 0 | J18: =I18-G18 -> 0 | K18: =IF(G18=0,0,ROUND(J18/G18*100,2)) -> 0
... I25: =G25 -> 0 | J25: =I25-G25 -> 0 | K25: =IF(G25=0,0,ROUND(J25/G25*100,2)) -> 0
A26: 合计 | G26: =SUM(G7:G25) -> 0 | H26: =SUM(H7:H25) -> 0 | I26: =SUM(I7:I25) -> 0 | J26: =I26-G26 -> 0 | K26: =IF(G26=0,0,ROUND(J26/G26*100,2)) -> 0
A27: 减：坏账准备 | G27: =H26 -> 0
A28: 减：评估风险损失 | I28: =G27 -> 0
A29: 净额 | G29: =G26-G27 -> 0 | I29: =I26-I28 -> 0 | J29: =I29-G29 -> 0 | K29: =IF(G29=0,0,ROUND(J29/G29*100,2)) -> 0 | N29: =SUM(N6:N28) -> 0 | O29: =SUM(O6:O28) -> 0
A30: =#REF! -> #REF! | G30: =CONCATENATE(索引!$D$6,"：",索引!$D25," ",索引!$E25) -> 评估人员：高晓宇 王海龙
A31: =#REF! -> #REF!

Sheet 3-8-3应收股利
A1: 应收股利（应收利润）评估明细表
J2: 表3-8-3
A3: =#REF! -> #REF!
A4: =#REF! -> #REF! | J4: 金额单位：人民币元
A5: 序号 | B5: 户名（结算对象) | C5: 发生日期 | D5: 股利（利润）所属期间 | E5: 账面价值 | F5: 坏账准备 | G5: 评估价值 | H5: 增减值 | I5: 增值率% | J5: 备注 | L5: 非经营性资产
L6: 账面价值 | M6: 评估价值
G7: =E7 -> 0 | H7: =G7-E7 -> 0 | I7: =IF(E7=0,0,ROUND(H7/E7*100,2)) -> 0
G8: =E8 -> 0 | H8: =G8-E8 -> 0 | I8: =IF(E8=0,0,ROUND(H8/E8*100,2)) -> 0
G9: =E9 -> 0 | H9: =G9-E9 -> 0 | I9: =IF(E9=0,0,ROUND(H9/E9*100,2)) -> 0
G10: =E10 -> 0 | H10: =G10-E10 -> 0 | I10: =IF(E10=0,0,ROUND(H10/E10*100,2)) -> 0
G11: =E11 -> 0 | H11: =G11-E11 -> 0 | I11: =IF(E11=0,0,ROUND(H11/E11*100,2)) -> 0
G12: =E12 -> 0 | H12: =G12-E12 -> 0 | I12: =IF(E12=0,0,ROUND(H12/E12*100,2)) -> 0
G13: =E13 -> 0 | H13: =G13-E13 -> 0 | I13: =IF(E13=0,0,ROUND(H13/E13*100,2)) -> 0
G14: =E14 -> 0 | H14: =G14-E14 -> 0 | I14: =IF(E14=0,0,ROUND(H14/E14*100,2)) -> 0
G15: =E15 -> 0 | H15: =G15-E15 -> 0 | I15: =IF(E15=0,0,ROUND(H15/E15*100,2)) -> 0
G16: =E16 -> 0 | H16: =G16-E16 -> 0 | I16: =IF(E16=0,0,ROUND(H16/E16*100,2)) -> 0
G17: =E17 -> 0 | H17: =G17-E17 -> 0 | I17: =IF(E17=0,0,ROUND(H17/E17*100,2)) -> 0
G18: =E18 -> 0 | H18: =G18-E18 -> 0 | I18: =IF(E18=0,0,ROUND(H18/E18*100,2)) -> 0
... G23: =E23 -> 0 | H23: =G23-E23 -> 0 | I23: =IF(E23=0,0,ROUND(H23/E23*100,2)) -> 0
H24: =G24-E24 -> 0 | I24: =IF(E24=0,0,ROUND(H24/E24*100,2)) -> 0
H25: =G25-E25 -> 0 | I25: =IF(E25=0,0,ROUND(H25/E25*100,2)) -> 0
A26: 合计 | E26: =SUM(E7:E25) -> 0 | F26: =SUM(F7:F25) -> 0 | G26: =SUM(G7:G25) -> 0 | H26: =G26-E26 -> 0 | I26: =IF(E26=0,0,ROUND(H26/E26*100,2)) -> 0
A27: 减：坏账准备 | E27: =F26 -> 0
A28: 减：评估风险损失 | G28: =E27 -> 0
A29: 净额 | E29: =E26-E27 -> 0 | G29: =G26-G28 -> 0 | H29: =G29-E29 -> 0 | I29: =IF(E29=0,0,ROUND(H29/E29*100,2)) -> 0 | L29: =SUM(L6:L28) -> 0 | M29: =SUM(M6:M28) -> 0
A30: =#REF! -> #REF! | E30: =CONCATENATE(索引!$D$6,"：",索引!$D26," ",索引!$E26) -> 评估人员：高晓宇 王海龙
A31: =#REF! -> #REF!
A32: 填表说明：
B33: “发生日期”栏所指的是利润或股利分配时间；
B34: “股利所属期间”指股利发生的期间，如2024年应收2023年的股利，则该栏目填写“2023年度”。
B35: “备注”栏注明实际的股权比例

Sheet 3-9-1材料采购（在途物资）
A1: 存货—材料采购（在途物资）评估明细表
O2: 表3-9-1
A3: =#REF! -> #REF!
A4: =#REF! -> #REF! | O4: 金额单位：人民币元
A5: 序号 | B5: 物料编码 | C5: 名称 | D5: 规格型号 | E5: 计量单位 | F5: 账面价值 | I5: 跌价准备 | J5: 评估价值 | M5: 增减值 | N5: 增值率% | O5: 备注
F6: 数量 | G6: 单价 | H6: 金额 | J6: 实际数量 | K6: 评估单价 | L6: 金额
G7: =IF(F7=0,0,ROUND(H7/F7,2)) -> 0 | L7: =ROUND(J7*K7,2) -> 0 | M7: =L7-(H7-I7) -> 0 | N7: =IF(H7-I7=0,0,ROUND((L7-H7+I7)/(H7-I7)*100,2)) -> 0
G8: =IF(F8=0,0,ROUND(H8/F8,2)) -> 0 | L8: =ROUND(J8*K8,2) -> 0 | M8: =L8-(H8-I8) -> 0 | N8: =IF(H8-I8=0,0,ROUND((L8-H8+I8)/(H8-I8)*100,2)) -> 0
G9: =IF(F9=0,0,ROUND(H9/F9,2)) -> 0 | L9: =ROUND(J9*K9,2) -> 0 | M9: =L9-(H9-I9) -> 0 | N9: =IF(H9-I9=0,0,ROUND((L9-H9+I9)/(H9-I9)*100,2)) -> 0
G10: =IF(F10=0,0,ROUND(H10/F10,2)) -> 0 | L10: =ROUND(J10*K10,2) -> 0 | M10: =L10-(H10-I10) -> 0 | N10: =IF(H10-I10=0,0,ROUND((L10-H10+I10)/(H10-I10)*100,2)) -> 0
L11: =ROUND(J11*K11,2) -> 0 | M11: =L11-(H11-I11) -> 0 | N11: =IF(H11-I11=0,0,ROUND((L11-H11+I11)/(H11-I11)*100,2)) -> 0
L12: =ROUND(J12*K12,2) -> 0 | M12: =L12-(H12-I12) -> 0 | N12: =IF(H12-I12=0,0,ROUND((L12-H12+I12)/(H12-I12)*100,2)) -> 0
L13: =ROUND(J13*K13,2) -> 0 | M13: =L13-(H13-I13) -> 0 | N13: =IF(H13-I13=0,0,ROUND((L13-H13+I13)/(H13-I13)*100,2)) -> 0
L14: =ROUND(J14*K14,2) -> 0 | M14: =L14-(H14-I14) -> 0 | N14: =IF(H14-I14=0,0,ROUND((L14-H14+I14)/(H14-I14)*100,2)) -> 0
L15: =ROUND(J15*K15,2) -> 0 | M15: =L15-(H15-I15) -> 0 | N15: =IF(H15-I15=0,0,ROUND((L15-H15+I15)/(H15-I15)*100,2)) -> 0
L16: =ROUND(J16*K16,2) -> 0 | M16: =L16-(H16-I16) -> 0 | N16: =IF(H16-I16=0,0,ROUND((L16-H16+I16)/(H16-I16)*100,2)) -> 0
L17: =ROUND(J17*K17,2) -> 0 | M17: =L17-(H17-I17) -> 0 | N17: =IF(H17-I17=0,0,ROUND((L17-H17+I17)/(H17-I17)*100,2)) -> 0
L18: =ROUND(J18*K18,2) -> 0 | M18: =L18-(H18-I18) -> 0 | N18: =IF(H18-I18=0,0,ROUND((L18-H18+I18)/(H18-I18)*100,2)) -> 0
L19: =ROUND(J19*K19,2) -> 0 | M19: =L19-(H19-I19) -> 0 | N19: =IF(H19-I19=0,0,ROUND((L19-H19+I19)/(H19-I19)*100,2)) -> 0
L20: =ROUND(J20*K20,2) -> 0 | M20: =L20-(H20-I20) -> 0 | N20: =IF(H20-I20=0,0,ROUND((L20-H20+I20)/(H20-I20)*100,2)) -> 0
L21: =ROUND(J21*K21,2) -> 0 | M21: =L21-(H21-I21) -> 0 | N21: =IF(H21-I21=0,0,ROUND((L21-H21+I21)/(H21-I21)*100,2)) -> 0
L22: =ROUND(J22*K22,2) -> 0 | M22: =L22-(H22-I22) -> 0 | N22: =IF(H22-I22=0,0,ROUND((L22-H22+I22)/(H22-I22)*100,2)) -> 0
... L26: =ROUND(J26*K26,2) -> 0 | M26: =L26-(H26-I26) -> 0 | N26: =IF(H26-I26=0,0,ROUND((L26-H26+I26)/(H26-I26)*100,2)) -> 0
A27: 合计 | H27: =SUM(H7:H26) -> 0 | I27: =SUM(I7:I26) -> 0 | L27: =SUM(L7:L26) -> 0 | M27: =L27-(H27-I27) -> 0 | N27: =IF(H27-I27=0,0,ROUND((L27-H27+I27)/(H27-I27)*100,2)) -> 0
A28: 减：跌价准备 | H28: =I27 -> 0
A29: 净额 | H29: =H27-H28 -> 0 | L29: =L27-L28 -> 0 | M29: =L29-(H29) -> 0 | N29: =IF(H29=0,0,ROUND((L29-H29)/(H29)*100,2)) -> 0
A30: =#REF! -> #REF! | L30: =CONCATENATE(索引!$D$6,"：",索引!$D28," ",索引!$E28) -> 评估人员：高晓宇 王海龙
A31: =#REF! -> #REF!
A33: 填表说明：
A34: ①存货类原则上按名称或规格型号逐个填列，但如数量过多，则可按小类填列；
A35: ②按类填列的存货“单价”指平均单价（为倒算值），即“数量”乘以“单价”，应等于“金额”；
A36: ③对于按计划成本入账的存货，在该科目的倒数第二行填列材料成本差异；
A37: ④对账面已没有反映的在用低值易耗品，可根据实际情况填列对生产经营较重要的工具、仪器仪表等。
A38: ⑤如原材料等存在损毁、变质现象，应在“备注”栏中注明，并说明库存时间和发生原因；
A39: 产成品在备注栏注明适销程度：按畅销、正常、勉强销售、滞销几种情况填列；已发出但未作账务处理的，在备注栏注明产品去向；
A40: 对残次、冷背、呆滞的产成品（库存商品）也在备注栏注明；低值易耗品不采用一次摊销法摊销时，在备注栏中作出说明。
A41: ⑥ 将“包装物”科目和“在库低值易耗品”科目的余额一并转入“在库周转材料”科目；
A42: ⑦将“自制半成品”科目的余额转入“在产品”科目。
A43: ⑧将“委托代销商品”和“分期收款发出商品”科目余额分别经分析转入“发出商品”科目

Sheet 3-9-2原材料-
A1: 存货—原材料评估明细表
R2: 表3-9-2
A3: =#REF! -> #REF!
A4: =#REF! -> #REF! | R4: 金额单位：人民币元
A5: 序号 | B5: 物料编码 | C5: 名称及规格型号 | D5: 入库时间 | E5: 计量单位 | F5: 材质 | G5: 重量(kg) | H5: 存放地点 | I5: 账面价值 | L5: 减值准备 | M5: 评估价值 | P5: 增减值 | Q5: 增值率% | R5: 备注
I6: 数量 | J6: 单价 | K6: 金额 | M6: 实际数量 | N6: 评估单价 | O6: 金额
A26: 合计 | K26: =SUM(K7:K25) -> 0 | L26: =SUM(L7:L25) -> 0 | O26: =SUM(O7:O25) -> 0 | P26: =O26-(K26-L26) -> 0 | Q26: =IF(K26-L26=0,0,ROUND((O26-K26+L26)/(K26-L26)*100,2)) -> 0
A27: 减：跌价准备 | K27: =L26 -> 0
A28: 净额 | K28: =K26-K27 -> 0 | O28: =O26-O27 -> 0 | P28: =O28-(K28) -> 0 | Q28: =IF(K28=0,0,ROUND((O28-K28)/(K28)*100,2)) -> 0
A29: =#REF! -> #REF! | O29: =CONCATENATE(索引!$D$6,"：",索引!$D29," ",索引!$E29) -> 评估人员：高晓宇 王海龙
A30: =#REF! -> #REF! | K30: =K26+'3-9-2原材料-闲置'!I20 -> 0
K31: =K28+'3-9-2原材料-闲置'!I22 -> 0
K32: =K27+'3-9-2原材料-闲置'!I21 -> 0

Sheet 3-9-3在库周转材料
A1: 存货—在库周转材料评估明细表
P2: 表3-9-3
A3: =#REF! -> #REF!
A4: =#REF! -> #REF! | P4: 金额单位：人民币元
A5: 序号 | B5: 物料编码 | C5: 名称 | D5: 规格型号 | E5: 计量单位 | F5: 存放地点 | G5: 账面价值 | J5: 跌价准备 | K5: 评估价值 | N5: 增减值 | O5: 增值率% | P5: 备注
G6: 数量 | H6: 单价 | I6: 金额 | K6: 实际数量 | L6: 评估单价 | M6: 金额
H7: =IF(G7=0,0,ROUND(I7/G7,2)) -> 0 | M7: =ROUND(K7*L7,2) -> 0 | N7: =M7-(I7-J7) -> 0 | O7: =IF(I7-J7=0,0,ROUND((M7-I7+J7)/(I7-J7)*100,2)) -> 0
H8: =IF(G8=0,0,ROUND(I8/G8,2)) -> 0 | M8: =ROUND(K8*L8,2) -> 0 | N8: =M8-(I8-J8) -> 0 | O8: =IF(I8-J8=0,0,ROUND((M8-I8+J8)/(I8-J8)*100,2)) -> 0
H9: =IF(G9=0,0,ROUND(I9/G9,2)) -> 0 | M9: =ROUND(K9*L9,2) -> 0 | N9: =M9-(I9-J9) -> 0 | O9: =IF(I9-J9=0,0,ROUND((M9-I9+J9)/(I9-J9)*100,2)) -> 0
H10: =IF(G10=0,0,ROUND(I10/G10,2)) -> 0 | M10: =ROUND(K10*L10,2) -> 0 | N10: =M10-(I10-J10) -> 0 | O10: =IF(I10-J10=0,0,ROUND((M10-I10+J10)/(I10-J10)*100,2)) -> 0
M11: =ROUND(K11*L11,2) -> 0 | N11: =M11-(I11-J11) -> 0 | O11: =IF(I11-J11=0,0,ROUND((M11-I11+J11)/(I11-J11)*100,2)) -> 0
M12: =ROUND(K12*L12,2) -> 0 | N12: =M12-(I12-J12) -> 0 | O12: =IF(I12-J12=0,0,ROUND((M12-I12+J12)/(I12-J12)*100,2)) -> 0
M13: =ROUND(K13*L13,2) -> 0 | N13: =M13-(I13-J13) -> 0 | O13: =IF(I13-J13=0,0,ROUND((M13-I13+J13)/(I13-J13)*100,2)) -> 0
M14: =ROUND(K14*L14,2) -> 0 | N14: =M14-(I14-J14) -> 0 | O14: =IF(I14-J14=0,0,ROUND((M14-I14+J14)/(I14-J14)*100,2)) -> 0
M15: =ROUND(K15*L15,2) -> 0 | N15: =M15-(I15-J15) -> 0 | O15: =IF(I15-J15=0,0,ROUND((M15-I15+J15)/(I15-J15)*100,2)) -> 0
M16: =ROUND(K16*L16,2) -> 0 | N16: =M16-(I16-J16) -> 0 | O16: =IF(I16-J16=0,0,ROUND((M16-I16+J16)/(I16-J16)*100,2)) -> 0
M17: =ROUND(K17*L17,2) -> 0 | N17: =M17-(I17-J17) -> 0 | O17: =IF(I17-J17=0,0,ROUND((M17-I17+J17)/(I17-J17)*100,2)) -> 0
M18: =ROUND(K18*L18,2) -> 0 | N18: =M18-(I18-J18) -> 0 | O18: =IF(I18-J18=0,0,ROUND((M18-I18+J18)/(I18-J18)*100,2)) -> 0
M19: =ROUND(K19*L19,2) -> 0 | N19: =M19-(I19-J19) -> 0 | O19: =IF(I19-J19=0,0,ROUND((M19-I19+J19)/(I19-J19)*100,2)) -> 0
M20: =ROUND(K20*L20,2) -> 0 | N20: =M20-(I20-J20) -> 0 | O20: =IF(I20-J20=0,0,ROUND((M20-I20+J20)/(I20-J20)*100,2)) -> 0
M21: =ROUND(K21*L21,2) -> 0 | N21: =M21-(I21-J21) -> 0 | O21: =IF(I21-J21=0,0,ROUND((M21-I21+J21)/(I21-J21)*100,2)) -> 0
M22: =ROUND(K22*L22,2) -> 0 | N22: =M22-(I22-J22) -> 0 | O22: =IF(I22-J22=0,0,ROUND((M22-I22+J22)/(I22-J22)*100,2)) -> 0
... M26: =ROUND(K26*L26,2) -> 0 | N26: =M26-(I26-J26) -> 0 | O26: =IF(I26-J26=0,0,ROUND((M26-I26+J26)/(I26-J26)*100,2)) -> 0
A27: 合计 | I27: =SUM(I7:I26) -> 0 | J27: =SUM(J7:J26) -> 0 | M27: =SUM(M7:M26) -> 0 | N27: =M27-(I27-J27) -> 0 | O27: =IF(I27-J27=0,0,ROUND((M27-I27+J27)/(I27-J27)*100,2)) -> 0
A28: 减：跌价准备 | I28: =J27 -> 0
A29: 净额 | I29: =I27-I28 -> 0 | M29: =M27-M28 -> 0 | N29: =M29-(I29) -> 0 | O29: =IF(I29=0,0,ROUND((M29-I29)/(I29)*100,2)) -> 0
A30: =#REF! -> #REF! | M30: =CONCATENATE(索引!$D$6,"：",索引!$D30," ",索引!$E30) -> 评估人员：高晓宇 王海龙
A31: =#REF! -> #REF!

Sheet 3-9-4委托加工物资
A1: 存货—委托加工物资评估明细表
O2: 表3-9-4
A3: =#REF! -> #REF!
A4: =#REF! -> #REF! | P4: 金额单位：人民币元
A5: 序号 | B5: 物料编码 | C5: 名称 | D5: 规格型号 | E5: 加工单位名称 | F5: 计量单位 | G5: 账面价值 | J5: 跌价准备 | K5: 评估价值 | N5: 增减值 | O5: 增值率% | P5: 备注
G6: 数量 | H6: 单价 | I6: 金额 | K6: 实际数量 | L6: 评估单价 | M6: 金额
H7: =IF(G7=0,0,ROUND(I7/G7,2)) -> 0 | M7: =ROUND(K7*L7,2) -> 0 | N7: =M7-(I7-J7) -> 0 | O7: =IF(I7-J7=0,0,ROUND((M7-I7+J7)/(I7-J7)*100,2)) -> 0
H8: =IF(G8=0,0,ROUND(I8/G8,2)) -> 0 | M8: =ROUND(K8*L8,2) -> 0 | N8: =M8-(I8-J8) -> 0 | O8: =IF(I8-J8=0,0,ROUND((M8-I8+J8)/(I8-J8)*100,2)) -> 0
H9: =IF(G9=0,0,ROUND(I9/G9,2)) -> 0 | M9: =ROUND(K9*L9,2) -> 0 | N9: =M9-(I9-J9) -> 0 | O9: =IF(I9-J9=0,0,ROUND((M9-I9+J9)/(I9-J9)*100,2)) -> 0
H10: =IF(G10=0,0,ROUND(I10/G10,2)) -> 0 | M10: =ROUND(K10*L10,2) -> 0 | N10: =M10-(I10-J10) -> 0 | O10: =IF(I10-J10=0,0,ROUND((M10-I10+J10)/(I10-J10)*100,2)) -> 0
M11: =ROUND(K11*L11,2) -> 0 | N11: =M11-(I11-J11) -> 0 | O11: =IF(I11-J11=0,0,ROUND((M11-I11+J11)/(I11-J11)*100,2)) -> 0
M12: =ROUND(K12*L12,2) -> 0 | N12: =M12-(I12-J12) -> 0 | O12: =IF(I12-J12=0,0,ROUND((M12-I12+J12)/(I12-J12)*100,2)) -> 0
M13: =ROUND(K13*L13,2) -> 0 | N13: =M13-(I13-J13) -> 0 | O13: =IF(I13-J13=0,0,ROUND((M13-I13+J13)/(I13-J13)*100,2)) -> 0
M14: =ROUND(K14*L14,2) -> 0 | N14: =M14-(I14-J14) -> 0 | O14: =IF(I14-J14=0,0,ROUND((M14-I14+J14)/(I14-J14)*100,2)) -> 0
M15: =ROUND(K15*L15,2) -> 0 | N15: =M15-(I15-J15) -> 0 | O15: =IF(I15-J15=0,0,ROUND((M15-I15+J15)/(I15-J15)*100,2)) -> 0
M16: =ROUND(K16*L16,2) -> 0 | N16: =M16-(I16-J16) -> 0 | O16: =IF(I16-J16=0,0,ROUND((M16-I16+J16)/(I16-J16)*100,2)) -> 0
M17: =ROUND(K17*L17,2) -> 0 | N17: =M17-(I17-J17) -> 0 | O17: =IF(I17-J17=0,0,ROUND((M17-I17+J17)/(I17-J17)*100,2)) -> 0
M18: =ROUND(K18*L18,2) -> 0 | N18: =M18-(I18-J18) -> 0 | O18: =IF(I18-J18=0,0,ROUND((M18-I18+J18)/(I18-J18)*100,2)) -> 0
M19: =ROUND(K19*L19,2) -> 0 | N19: =M19-(I19-J19) -> 0 | O19: =IF(I19-J19=0,0,ROUND((M19-I19+J19)/(I19-J19)*100,2)) -> 0
M20: =ROUND(K20*L20,2) -> 0 | N20: =M20-(I20-J20) -> 0 | O20: =IF(I20-J20=0,0,ROUND((M20-I20+J20)/(I20-J20)*100,2)) -> 0
M21: =ROUND(K21*L21,2) -> 0 | N21: =M21-(I21-J21) -> 0 | O21: =IF(I21-J21=0,0,ROUND((M21-I21+J21)/(I21-J21)*100,2)) -> 0
M22: =ROUND(K22*L22,2) -> 0 | N22: =M22-(I22-J22) -> 0 | O22: =IF(I22-J22=0,0,ROUND((M22-I22+J22)/(I22-J22)*100,2)) -> 0
... M26: =ROUND(K26*L26,2) -> 0 | N26: =M26-(I26-J26) -> 0 | O26: =IF(I26-J26=0,0,ROUND((M26-I26+J26)/(I26-J26)*100,2)) -> 0
A27: 合计 | I27: =SUM(I7:I26) -> 0 | J27: =SUM(J7:J26) -> 0 | M27: =SUM(M7:M26) -> 0 | N27: =M27-(I27-J27) -> 0 | O27: =IF(I27-J27=0,0,ROUND((M27-I27+J27)/(I27-J27)*100,2)) -> 0
A28: 减：跌价准备 | I28: =J27 -> 0
A29: 净额 | I29: =I27-I28 -> 0 | M29: =M27-M28 -> 0 | N29: =M29-(I29) -> 0 | O29: =IF(I29=0,0,ROUND((M29-I29)/(I29)*100,2)) -> 0
A30: =#REF! -> #REF! | M30: =CONCATENATE(索引!$D$6,"：",索引!$D31," ",索引!$E31) -> 评估人员：高晓宇 王海龙
A31: =#REF! -> #REF!

Sheet 3-9-5库存商品
A1: 存货—库存商品评估明细表
Q2: 表3-9-5
A3: =#REF! -> #REF!
A4: =#REF! -> #REF! | Q4: 金额单位：人民币元
A5: 序号 | B5: 物料编码 | C5: 名 称 | D5: 规格型号 | E5: 计量单位 | F5: 适销程度 畅销/正常/滞销 | G5: 评估基准日出厂价(不含税) | H5: 账面价值 | K5: 跌价准备 | L5: 评估价值 | O5: 增减值 | P5: 增值率% | Q5: 备注 | W5: 正常 | Y5: 畅销 | AA5: 滞销
H6: 数量 | I6: 单价 | J6: 金额 | L6: 实际数量 | M6: 评估单价 | N6: 金额 | T6: 序号 | U6: 项目 | V6: 计算公式或依据 | W6: 金额(元) 或费率 | Y6: 金额(元) 或费率 | AA6: 金额(元) 或费率
I7: =IF(H7=0,0,ROUND(J7/H7,2)) -> 0 | N7: =ROUND(L7*M7,2) -> 0 | O7: =N7-(J7-K7) -> 0 | P7: =IF(J7-K7=0,0,ROUND((N7-J7+K7)/(J7-K7)*100,2)) -> 0 | T7: 1 | U7: 销售收入 | V7: 取自（ ）利润表
I8: =IF(H8=0,0,ROUND(J8/H8,2)) -> 0 | N8: =ROUND(L8*M8,2) -> 0 | O8: =N8-(J8-K8) -> 0 | P8: =IF(J8-K8=0,0,ROUND((N8-J8+K8)/(J8-K8)*100,2)) -> 0 | T8: 2 | U8: 销售费用 | V8: 取自（ ）利润表
I9: =IF(H9=0,0,ROUND(J9/H9,2)) -> 0 | N9: =ROUND(L9*M9,2) -> 0 | O9: =N9-(J9-K9) -> 0 | P9: =IF(J9-K9=0,0,ROUND((N9-J9+K9)/(J9-K9)*100,2)) -> 0 | T9: 3 | U9: 销售费用率 | V9: 3=（2）/（1）*100% | W9: =W8/W7 -> #DIV/0! | Y9: =Y8/Y7 -> #DIV/0! | AA9: =AA8/AA7 -> #DIV/0!
I10: =IF(H10=0,0,ROUND(J10/H10,2)) -> 0 | N10: =ROUND(L10*M10,2) -> 0 | O10: =N10-(J10-K10) -> 0 | P10: =IF(J10-K10=0,0,ROUND((N10-J10+K10)/(J10-K10)*100,2)) -> 0 | T10: 4 | U10: 税金及附加 | V10: 取自（ ）利润表
N11: =ROUND(L11*M11,2) -> 0 | O11: =N11-(J11-K11) -> 0 | P11: =IF(J11-K11=0,0,ROUND((N11-J11+K11)/(J11-K11)*100,2)) -> 0 | T11: 5 | U11: 税金及附加率 | V11: 5=（4）/（1）*100% | W11: =W10/W7 -> #DIV/0! | Y11: =Y10/Y7 -> #DIV/0! | AA11: =AA10/AA7 -> #DIV/0!
N12: =ROUND(L12*M12,2) -> 0 | O12: =N12-(J12-K12) -> 0 | P12: =IF(J12-K12=0,0,ROUND((N12-J12+K12)/(J12-K12)*100,2)) -> 0 | T12: 6 | U12: 营业利润 | V12: 取自（ ）利润表
N13: =ROUND(L13*M13,2) -> 0 | O13: =N13-(J13-K13) -> 0 | P13: =IF(J13-K13=0,0,ROUND((N13-J13+K13)/(J13-K13)*100,2)) -> 0 | T13: 7 | U13: 销售利润率 | V13: 7=（6）/（1）*100%，小于0则取0 | W13: =IF(W12<0,0,W12/W7) -> #DIV/0! | Y13: =IF(Y12<0,0,Y12/Y7) -> #DIV/0! | AA13: =IF(AA12<0,0,AA12/AA7) -> #DIV/0!
N14: =ROUND(L14*M14,2) -> 0 | O14: =N14-(J14-K14) -> 0 | P14: =IF(J14-K14=0,0,ROUND((N14-J14+K14)/(J14-K14)*100,2)) -> 0 | T14: 8 | U14: 企业所得税率 | V14: 企业法定所得税率 | W14: 0.25 | Y14: 0.25 | AA14: 0.25
N15: =ROUND(L15*M15,2) -> 0 | O15: =N15-(J15-K15) -> 0 | P15: =IF(J15-K15=0,0,ROUND((N15-J15+K15)/(J15-K15)*100,2)) -> 0 | T15: 9 | U15: 销售所得税率 | V15: 9=（7）*（8）*100% | W15: =W13*W14 -> #DIV/0! | Y15: =Y13*Y14 -> #DIV/0! | AA15: =AA13*AA14 -> #DIV/0!
N16: =ROUND(L16*M16,2) -> 0 | O16: =N16-(J16-K16) -> 0 | P16: =IF(J16-K16=0,0,ROUND((N16-J16+K16)/(J16-K16)*100,2)) -> 0 | T16: 10 | U16: 适销程度扣除率 | V16: 畅销0，正常50%，滞销100% | W16: 0.5 | Y16: 0 | AA16: 1
N17: =ROUND(L17*M17,2) -> 0 | O17: =N17-(J17-K17) -> 0 | P17: =IF(J17-K17=0,0,ROUND((N17-J17+K17)/(J17-K17)*100,2)) -> 0 | T17: 11 | U17: 适当净利润率 | V17: 11=（7）*（1-（8））*（10） | W17: =W13*(1-W14)*W16 -> #DIV/0! | Y17: =Y13*(1-Y14)*Y16 -> #DIV/0! | AA17: =AA13*(1-AA14)*AA16 -> #DIV/0!
N18: =ROUND(L18*M18,2) -> 0 | O18: =N18-(J18-K18) -> 0 | P18: =IF(J18-K18=0,0,ROUND((N18-J18+K18)/(J18-K18)*100,2)) -> 0 | T18: 12 | U18: 1-销售费用率-税金及附加率-销售所得税率-适当净利润率 | W18: =1-W9-W11-W15-W17 -> #DIV/0! | Y18: =1-Y9-Y11-Y15-Y17 -> #DIV/0! | AA18: =1-AA9-AA11-AA15-AA17 -> #DIV/0!
N19: =ROUND(L19*M19,2) -> 0 | O19: =N19-(J19-K19) -> 0 | P19: =IF(J19-K19=0,0,ROUND((N19-J19+K19)/(J19-K19)*100,2)) -> 0
N20: =ROUND(L20*M20,2) -> 0 | O20: =N20-(J20-K20) -> 0 | P20: =IF(J20-K20=0,0,ROUND((N20-J20+K20)/(J20-K20)*100,2)) -> 0
N21: =ROUND(L21*M21,2) -> 0 | O21: =N21-(J21-K21) -> 0 | P21: =IF(J21-K21=0,0,ROUND((N21-J21+K21)/(J21-K21)*100,2)) -> 0
N22: =ROUND(L22*M22,2) -> 0 | O22: =N22-(J22-K22) -> 0 | P22: =IF(J22-K22=0,0,ROUND((N22-J22+K22)/(J22-K22)*100,2)) -> 0
N23: =ROUND(L23*M23,2) -> 0 | O23: =N23-(J23-K23) -> 0 | P23: =IF(J23-K23=0,0,ROUND((N23-J23+K23)/(J23-K23)*100,2)) -> 0
N24: =ROUND(L24*M24,2) -> 0 | O24: =N24-(J24-K24) -> 0 | P24: =IF(J24-K24=0,0,ROUND((N24-J24+K24)/(J24-K24)*100,2)) -> 0
N25: =ROUND(L25*M25,2) -> 0 | O25: =N25-(J25-K25) -> 0 | P25: =IF(J25-K25=0,0,ROUND((N25-J25+K25)/(J25-K25)*100,2)) -> 0
N26: =ROUND(L26*M26,2) -> 0 | O26: =N26-(J26-K26) -> 0 | P26: =IF(J26-K26=0,0,ROUND((N26-J26+K26)/(J26-K26)*100,2)) -> 0
A27: 合计 | J27: =SUM(J7:J26) -> 0 | K27: =SUM(K7:K26) -> 0 | N27: =SUM(N7:N26) -> 0 | O27: =N27-(J27-K27) -> 0 | P27: =IF(J27-K27=0,0,ROUND((N27-J27+K27)/(J27-K27)*100,2)) -> 0
A28: 减：跌价准备 | J28: =K27 -> 0
A29: 净额 | J29: =J27-J28 -> 0 | N29: =N27-N28 -> 0 | O29: =N29-(J29) -> 0 | P29: =IF(J29=0,0,ROUND((N29-J29)/(J29)*100,2)) -> 0
A30: =#REF! -> #REF! | N30: =CONCATENATE(索引!$D$6,"：",索引!$D32," ",索引!$E32) -> 评估人员：高晓宇 王海龙
A31: =#REF! -> #REF!

Sheet 3-9-6在产品（自制半成品）
A1: 存货—在产品（自制半成品）评估明细表
P2: 表3-9-6
A3: =#REF! -> #REF!
A4: =#REF! -> #REF! | P4: 金额单位：人民币元
A5: 序号 | B5: 物料编码 | C5: 名 称 | D5: 规格型号 | E5: 计量单位 | F5: 账面价值 | I5: 跌价准备 | J5: 完工程度% | K5: 评估价值 | N5: 增减值 | O5: 增值率% | P5: 备注
F6: 数量 | G6: 单价 | H6: 金额 | K6: 实际数量 | L6: 评估单价 | M6: 金额
G7: =IF(F7=0,0,ROUND(H7/F7,2)) -> 0 | M7: =ROUND(K7*L7,2) -> 0 | N7: =M7-(I7-J7) -> 0 | O7: =IF(I7-J7=0,0,ROUND((M7-I7+J7)/(I7-J7)*100,2)) -> 0
G8: =IF(F8=0,0,ROUND(H8/F8,2)) -> 0 | M8: =ROUND(K8*L8,2) -> 0 | N8: =M8-(I8-J8) -> 0 | O8: =IF(I8-J8=0,0,ROUND((M8-I8+J8)/(I8-J8)*100,2)) -> 0
G9: =IF(F9=0,0,ROUND(H9/F9,2)) -> 0 | M9: =ROUND(K9*L9,2) -> 0 | N9: =M9-(I9-J9) -> 0 | O9: =IF(I9-J9=0,0,ROUND((M9-I9+J9)/(I9-J9)*100,2)) -> 0
G10: =IF(F10=0,0,ROUND(H10/F10,2)) -> 0 | M10: =ROUND(K10*L10,2) -> 0 | N10: =M10-(I10-J10) -> 0 | O10: =IF(I10-J10=0,0,ROUND((M10-I10+J10)/(I10-J10)*100,2)) -> 0
M11: =ROUND(K11*L11,2) -> 0 | N11: =M11-(I11-J11) -> 0 | O11: =IF(I11-J11=0,0,ROUND((M11-I11+J11)/(I11-J11)*100,2)) -> 0
M12: =ROUND(K12*L12,2) -> 0 | N12: =M12-(I12-J12) -> 0 | O12: =IF(I12-J12=0,0,ROUND((M12-I12+J12)/(I12-J12)*100,2)) -> 0
M13: =ROUND(K13*L13,2) -> 0 | N13: =M13-(I13-J13) -> 0 | O13: =IF(I13-J13=0,0,ROUND((M13-I13+J13)/(I13-J13)*100,2)) -> 0
M14: =ROUND(K14*L14,2) -> 0 | N14: =M14-(I14-J14) -> 0 | O14: =IF(I14-J14=0,0,ROUND((M14-I14+J14)/(I14-J14)*100,2)) -> 0
M15: =ROUND(K15*L15,2) -> 0 | N15: =M15-(I15-J15) -> 0 | O15: =IF(I15-J15=0,0,ROUND((M15-I15+J15)/(I15-J15)*100,2)) -> 0
M16: =ROUND(K16*L16,2) -> 0 | N16: =M16-(I16-J16) -> 0 | O16: =IF(I16-J16=0,0,ROUND((M16-I16+J16)/(I16-J16)*100,2)) -> 0
M17: =ROUND(K17*L17,2) -> 0 | N17: =M17-(I17-J17) -> 0 | O17: =IF(I17-J17=0,0,ROUND((M17-I17+J17)/(I17-J17)*100,2)) -> 0
M18: =ROUND(K18*L18,2) -> 0 | N18: =M18-(I18-J18) -> 0 | O18: =IF(I18-J18=0,0,ROUND((M18-I18+J18)/(I18-J18)*100,2)) -> 0
M19: =ROUND(K19*L19,2) -> 0 | N19: =M19-(I19-J19) -> 0 | O19: =IF(I19-J19=0,0,ROUND((M19-I19+J19)/(I19-J19)*100,2)) -> 0
M20: =ROUND(K20*L20,2) -> 0 | N20: =M20-(I20-J20) -> 0 | O20: =IF(I20-J20=0,0,ROUND((M20-I20+J20)/(I20-J20)*100,2)) -> 0
M21: =ROUND(K21*L21,2) -> 0 | N21: =M21-(I21-J21) -> 0 | O21: =IF(I21-J21=0,0,ROUND((M21-I21+J21)/(I21-J21)*100,2)) -> 0
M22: =ROUND(K22*L22,2) -> 0 | N22: =M22-(I22-J22) -> 0 | O22: =IF(I22-J22=0,0,ROUND((M22-I22+J22)/(I22-J22)*100,2)) -> 0
... M26: =ROUND(K26*L26,2) -> 0 | N26: =M26-(I26-J26) -> 0 | O26: =IF(I26-J26=0,0,ROUND((M26-I26+J26)/(I26-J26)*100,2)) -> 0
A27: 合计 | H27: =SUM(H7:H26) -> 0 | I27: =SUM(I7:I26) -> 0 | M27: =SUM(M7:M26) -> 0 | N27: =M27-(I27-J27) -> 0 | O27: =IF(I27-J27=0,0,ROUND((M27-I27+J27)/(I27-J27)*100,2)) -> 0
A28: 减：跌价准备 | H28: =I27 -> 0
A29: 净额 | H29: =H27-H28 -> 0 | M29: =M27-M28 -> 0 | N29: =M29-(I29) -> 0 | O29: =IF(I29=0,0,ROUND((M29-I29)/(I29)*100,2)) -> 0
A30: =#REF! -> #REF! | M30: =CONCATENATE(索引!$D$6,"：",索引!$D33," ",索引!$E33) -> 评估人员：高晓宇 王海龙
A31: =#REF! -> #REF!

Sheet 3-9-7发出商品
A1: 存货—发出商品评估明细表
N2: 表3-9-7
A3: =#REF! -> #REF!
A4: =#REF! -> #REF! | O4: 金额单位：人民币元
A5: 序号 | B5: 商品名称 | C5: 对方单位名称 | D5: 计量单位 | E5: 不含税售价 | F5: 账面价值 | I5: 跌价准备 | J5: 评估价值 | M5: 增减值 | N5: 增值率% | O5: 备注
F6: 数量 | G6: 单价 | H6: 金额 | J6: 实际数量 | K6: 评估单价 | L6: 金额
G7: =IF(F7=0,0,ROUND(H7/F7,2)) -> 0 | L7: =ROUND(J7*K7,2) -> 0 | M7: =L7-(H7-I7) -> 0 | N7: =IF(H7-I7=0,0,ROUND((L7-H7+I7)/(H7-I7)*100,2)) -> 0
G8: =IF(F8=0,0,ROUND(H8/F8,2)) -> 0 | L8: =ROUND(J8*K8,2) -> 0 | M8: =L8-(H8-I8) -> 0 | N8: =IF(H8-I8=0,0,ROUND((L8-H8+I8)/(H8-I8)*100,2)) -> 0
G9: =IF(F9=0,0,ROUND(H9/F9,2)) -> 0 | L9: =ROUND(J9*K9,2) -> 0 | M9: =L9-(H9-I9) -> 0 | N9: =IF(H9-I9=0,0,ROUND((L9-H9+I9)/(H9-I9)*100,2)) -> 0
G10: =IF(F10=0,0,ROUND(H10/F10,2)) -> 0 | L10: =ROUND(J10*K10,2) -> 0 | M10: =L10-(H10-I10) -> 0 | N10: =IF(H10-I10=0,0,ROUND((L10-H10+I10)/(H10-I10)*100,2)) -> 0
L11: =ROUND(J11*K11,2) -> 0 | M11: =L11-(H11-I11) -> 0 | N11: =IF(H11-I11=0,0,ROUND((L11-H11+I11)/(H11-I11)*100,2)) -> 0
L12: =ROUND(J12*K12,2) -> 0 | M12: =L12-(H12-I12) -> 0 | N12: =IF(H12-I12=0,0,ROUND((L12-H12+I12)/(H12-I12)*100,2)) -> 0
L13: =ROUND(J13*K13,2) -> 0 | M13: =L13-(H13-I13) -> 0 | N13: =IF(H13-I13=0,0,ROUND((L13-H13+I13)/(H13-I13)*100,2)) -> 0
L14: =ROUND(J14*K14,2) -> 0 | M14: =L14-(H14-I14) -> 0 | N14: =IF(H14-I14=0,0,ROUND((L14-H14+I14)/(H14-I14)*100,2)) -> 0
L15: =ROUND(J15*K15,2) -> 0 | M15: =L15-(H15-I15) -> 0 | N15: =IF(H15-I15=0,0,ROUND((L15-H15+I15)/(H15-I15)*100,2)) -> 0
L16: =ROUND(J16*K16,2) -> 0 | M16: =L16-(H16-I16) -> 0 | N16: =IF(H16-I16=0,0,ROUND((L16-H16+I16)/(H16-I16)*100,2)) -> 0
L17: =ROUND(J17*K17,2) -> 0 | M17: =L17-(H17-I17) -> 0 | N17: =IF(H17-I17=0,0,ROUND((L17-H17+I17)/(H17-I17)*100,2)) -> 0
L18: =ROUND(J18*K18,2) -> 0 | M18: =L18-(H18-I18) -> 0 | N18: =IF(H18-I18=0,0,ROUND((L18-H18+I18)/(H18-I18)*100,2)) -> 0
L19: =ROUND(J19*K19,2) -> 0 | M19: =L19-(H19-I19) -> 0 | N19: =IF(H19-I19=0,0,ROUND((L19-H19+I19)/(H19-I19)*100,2)) -> 0
L20: =ROUND(J20*K20,2) -> 0 | M20: =L20-(H20-I20) -> 0 | N20: =IF(H20-I20=0,0,ROUND((L20-H20+I20)/(H20-I20)*100,2)) -> 0
L21: =ROUND(J21*K21,2) -> 0 | M21: =L21-(H21-I21) -> 0 | N21: =IF(H21-I21=0,0,ROUND((L21-H21+I21)/(H21-I21)*100,2)) -> 0
L22: =ROUND(J22*K22,2) -> 0 | M22: =L22-(H22-I22) -> 0 | N22: =IF(H22-I22=0,0,ROUND((L22-H22+I22)/(H22-I22)*100,2)) -> 0
... L26: =ROUND(J26*K26,2) -> 0 | M26: =L26-(H26-I26) -> 0 | N26: =IF(H26-I26=0,0,ROUND((L26-H26+I26)/(H26-I26)*100,2)) -> 0
A27: 合计 | H27: =SUM(H7:H26) -> 0 | I27: =SUM(I7:I26) -> 0 | L27: =SUM(L7:L26) -> 0 | M27: =L27-(H27-I27) -> 0 | N27: =IF(H27-I27=0,0,ROUND((L27-H27+I27)/(H27-I27)*100,2)) -> 0
A28: 减：跌价准备 | H28: =I27 -> 0
A29: 净额 | H29: =H27-H28 -> 0 | L29: =L27-L28 -> 0 | M29: =L29-(H29) -> 0 | N29: =IF(H29=0,0,ROUND((L29-H29)/(H29)*100,2)) -> 0
A30: =#REF! -> #REF! | L30: =CONCATENATE(索引!$D$6,"：",索引!$D34," ",索引!$E34) -> 评估人员：高晓宇 王海龙
A31: =#REF! -> #REF!

Sheet 3-9-8在用周转材料
